Workbook
Name BP1HRS: #REF!
Name BP2HRS: #REF!
Name coat: #REF!
Name coef: #REF!
Name comb1: #REF!
Name comb24: #REF!
Name comb24c1: #REF!
Name comb3: #REF!
Name comb3c1: #REF!
Name comb8: #REF!
Name combac1: #REF!
Name combann: #REF!
Name Combined: Summary,Detailed
Name Combined: Summary,Detailed
Name Combined_1: Summary,Detailed
Name Combined_1: Summary,Detailed
Name Combined_2: Summary,Detailed
Name Combined_2: Summary,Detailed
Name Components: #REF!
Name Compressor2: [0]!Summary,[0]!Detailed
Name Compressor2: [0]!Summary,[0]!Detailed
Name config: #REF!
Name Equations1: #REF!
Name FOTYPE: #REF!
Name Input1: #REF!
Name Loading: #REF!
Name location: #REF!
Name MatUsageTab: #REF!
Name Mode: #REF!
Name N2PrintArea: #REF!
Name noxef: #REF!
Name NPrintArea: #REF!
Name OvenMonth: #REF!
Name partef: #REF!
Name Pump: #REF!
Name RY_Values: OFFSET([0]!RX_Values,0,2)
Name RY_Values: OFFSET([0]!RX_Values,0,2)
Name Service: #REF!
Name SIC: #REF!
Name so2ef: #REF!
Name StackData: #REF!
Name sulfurpercent: #REF!
Name TableName: "Dummy"
Name Tanks: #REF!
Name thissheet: "[Working Balance PFD Rev G.xls]Material Balance"
Name TopRow1: #REF!
Name TURB_Load: #REF!
Name TURB_Make: #REF!
Name TURB_Model: #REF!
Name UNIT_LBHR: "(lb/hr)"
Name UNIT_LBTON: "(lb/ton)"
Name util: #REF!
Name vocef: #REF!
Name Westport_Logo: "Object 1"
Name Y_Values: OFFSET([0]!X_Values,0,2)
Name Y_Values: OFFSET([0]!X_Values,0,2)
Name Y1_Values: OFFSET([0]!X_Values,0,3)
Name Y1_Values: OFFSET([0]!X_Values,0,3)
Name Y2_Values: OFFSET([0]!X_Values,0,4)
Name Y2_Values: OFFSET([0]!X_Values,0,4)

Sheet Summary -->

Sheet Key Inputs
B4: Company Name: | C4: U. S. Steel Corp. | N4: Published Emission Factor "Safety Margin" | Q4: 0.15
B5: Site Name: | C5: Irvin Plant
B6: Description: | C6: Boiler Installation Permit
B8: =CONCATENATE("TABLE ",_xlfn.SHEET()-1,". Key Inputs Summary") -> TABLE 1. Key Inputs Summary
B10: Production Data
B13: Unit ID | C13: Source Description | D13: Control Device | E13: Max. Capacity/Rate | G13: Operating Hours | I13: PAE Throughput
B16: B001 | C16: Boiler No. 1 | D16: None | E16: 79.8 | F16: MMBtu/hr | G16: 8760 | H16: hours/year | I16: =SUM(#REF!) -> #REF! | J16: MMBtu/yr | K16: Assuming 2024
B17: B002 | C17: Boiler No. 2 | D17: None | E17: 84.6 | F17: MMBtu/hr | G17: 8760 | H17: hours/year | I17: =SUM(#REF!) -> #REF! | J17: MMBtu/yr | K17: Assuming 2024
B18: B003 | C18: Boiler No. 3 | D18: None | E18: 41.6 | F18: MMBtu/hr | G18: 8760 | H18: hours/year | I18: 0 | J18: MMBtu/yr | K18: Shut down
B19: B004 | C19: Boiler No. 4 | D19: None | E19: 41.6 | F19: MMBtu/hr | G19: 8760 | H19: hours/year | I19: 0 | J19: MMBtu/yr | K19: Shut down
B20: B005 | C20: Boiler No. 5 | D20: LNB/FGR | E20: 97.7 | F20: MMBtu/hr | G20: 8760 | H20: hours/year | I20: =E20*G20 -> 855852 | J20: MMBtu/yr | K20: MMBtu/yr
B21: B005 | C21: Boiler No. 5 | I21: 230000 | J21: MMBtu/yr | K21: Natural Gas
B22: B005 | C22: Boiler No. 5 | I22: 625000 | J22: MMBtu/yr | K22: Coke Oven Gas
B25: Fuel Characteristics
B28: Fuel Type | C28: Parameter | D28: Value | E28: Units | F28: Source
B31: Natural Gas | C31: Heating Value | D31: 1068.9 | E31: Btu/scf | F31: Max Heating Value per prior TVR Application
B32: Coke Oven Gas | C32: Heating Value | D32: 511.7 | E32: Btu/scf | F32: Max Heating Value per prior TVR Application
B35: New Boiler Factors
B38: Constituent | C38: Natural Gas Emission Factor | D38: Coke Oven Gas Emission Factor
C39: (lb/MMBtu) | D39: (lb/MMBtu)
B41: NOx | C41: 0.036 | D41: 0.036
B42: CO | C42: 0.036244088 | D42: 0.036244088 | E42: 50 ppm CO converted to lb/MMBtu
B44: Constants
B47: Constituent | C47: Global Warming Potentials 3
B49: CO2 | C49: 1
B50: CH4 | C50: 28
B51: N2O | C51: 265
B52: 3 GHGs are calculated in CO2e using Global Warming Potentials (GWP) from 40 CFR 98, Subpart A, Table A-1 and the following equation:
B53: CO2e (tpy) = CO2 (tpy) * CO2 GWP (1) + CH4 (tpy) * CH4 GWP (28) + N2O (tpy) * N2O GWP (265)
B56: Grains S equiv. est. / 100 scf COG: | C56: 30
B57: New Boiler PTE Factor: | C57: =C56/100*$C$60/$C$61/7000*1000000 -> 85.628745
B60: ***Molecular Weight of SO2 | C60: 64.066
B61: ****Molecular Weight of S | C61: 32.065
B65: Baseline: | C65: 44805

Sheet NSR Summary
B6: Company Name: | C6: U. S. Steel Corp.
B7: Site Name: | C7: Irvin Plant
B8: Description: | C8: Boiler Installation Permit
B10: =CONCATENATE("TABLE ",_xlfn.SHEET()-1,". Project Emissions Summary - NSR") -> TABLE 2. Project Emissions Summary - NSR
C12: Potential Emissions (tpy)
B13: Emission Unit/Pollutant | C13: PM (filterable) | D13: PM10 | E13: CO | F13: Lead | G13: SO2 | H13: NOx | I13: CO2e | J13: PM2.5 | K13: NH3 | L13: VOC
B14: =Summary_Individual!$C$20 -> Boiler No. 5 (New) | C14: =Summary_Individual!E20 -> 4.5894361 | D14: =Summary_Individual!G25 -> 6.2779126 | E14: =Summary_Individual!O20 -> 15.494348 | F14: {=_xlfn.XLOOKUP(F$11,Summary_Individual!$D$10:$AC$10,_xlfn.XLOOKUP($B14,Summary_Individual!$C$14:$C$22,Summary_Individual!$D$14:$AC$22,""))} -> 0 | G14: =Summary_Individual!K20 -> 52.368515 | H14: =Summary_Individual!M20 -> 15.39 | I14: =Summary_Individual!AC20 -> 52636.39 | J14: =Summary_Individual!I20 -> 5.4842958 | K14: =Summary_Individual!U20 -> 0.490581 | L14: =Summary_Individual!Q20 -> 1.5232683
C16: Baseline Actual Emission Reductions (tpy)
B17: Emission Unit/Pollutant | C17: PM (filterable) | D17: PM10 | E17: CO | F17: Lead | G17: SO2 | H17: NOx | I17: CO2e | J17: PM2.5 | K17: NH3 | L17: VOC
B18: Boiler No. 3 | C18: =Summary_Individual!D14 -> 1.0444732 | D18: =Summary_Individual!F14 -> 0.75249439 | E18: =Summary_Individual!N14 -> 2.2696309 | F18: =Summary_Individual!R14 -> 3.4131282e-06 | G18: =Summary_Individual!J14 -> 6.2387765 | H18: =Summary_Individual!L14 -> 8.0575187 | I18: =Summary_Individual!AB14 -> 5425.4902 | J18: =Summary_Individual!H14 -> 0.64832403 | K18: =Summary_Individual!T14 -> 0.036132876 | L18: =Summary_Individual!P14 -> 0.14816781
B19: Boiler No. 4 | C19: =Summary_Individual!D17 -> 1.054013 | D19: =Summary_Individual!F17 -> 0.75971368 | E19: =Summary_Individual!N17 -> 2.2785342 | F19: =Summary_Individual!R17 -> 3.3477701e-06 | G19: =Summary_Individual!J17 -> 6.1573588 | H19: =Summary_Individual!L17 -> 8.1308969 | I19: =Summary_Individual!AB17 -> 5463.4439 | J19: =Summary_Individual!H17 -> 0.65432221 | K19: =Summary_Individual!T17 -> 0.035882081 | L19: =Summary_Individual!P17 -> 0.14874561
B20: Total | C20: =SUM(C18:C19) -> 2.0984863 | D20: =SUM(D18:D19) -> 1.5122081 | E20: =SUM(E18:E19) -> 4.5481652 | F20: =SUM(F18:F19) -> 6.7608983e-06 | G20: =SUM(G18:G19) -> 12.396135 | H20: =SUM(H18:H19) -> 16.188416 | I20: =SUM(I18:I19) -> 10888.934 | J20: =SUM(J18:J19) -> 1.3026462 | ... L20: =SUM(L18:L19) -> 0.29691342
B22: Emission Unit/Pollutant | C22: PM (filterable) | D22: PM10 | E22: CO | F22: Lead | G22: SO2 | H22: NOx | I22: CO2e | J22: PM2.5 | K22: NH3 | L22: VOC
B23: Total (new - shutdowns) | C23: =C14-C20 -> 2.4909499 | D23: =D14-D20 -> 4.7657046 | E23: =E14-E20 -> 10.946183 | F23: =F14-F20 -> -6.7608983e-06 | G23: =G14-G20 -> 39.972379 | H23: =H14-H20 -> -0.79841561 | I23: =I14-I20 -> 41747.456 | J23: =J14-J20 -> 4.1816495 | ... L23: =L14-L20 -> 1.2263548
B24: NSR SER* | C24: 25 | D24: 15 | E24: 100 | F24: 0.6 | G24: 40 | H24: 40 | I24: 75000 | J24: 10 | K24: 40 | L24: 40
B25: Increase > SER? Trigger Netting | C25: =IF(C23<C24,"NO","YES") -> NO | D25: =IF(D23<D24,"NO","YES") -> NO | E25: =IF(E23<E24,"NO","YES") -> NO | F25: =IF(F23<F24,"NO","YES") -> NO | G25: =IF(G23<G24,"NO","YES") -> NO | H25: =IF(H23<H24,"NO","YES") -> NO | I25: =IF(I23<I24,"NO","YES") -> NO | J25: =IF(J23<J24,"NO","YES") -> NO | ... L25: =IF(L23<L24,"NO","YES") -> NO
B26: *Per 40 CFR 52.21(b)(49)(iv)(B), the 75,000 tpy CO2e threshold is only applicable for existing major stationary sources if there is also a significant emissions increase of a regulated NSR pollutant, which is not the case for this project

Sheet Summary_Individual
C5: Company Name: | D5: U. S. Steel Corp. | K5: `
C6: Facility Name: | D6: Irvin Plant
C7: Project Description: | D7: Boiler Installation Permit
C9: =CONCATENATE("TABLE ",_xlfn.SHEET()-1,". Boiler Project Emissions Summary") -> TABLE 3. Boiler Project Emissions Summary | D9: PM (filterable) | F9: PM10 | H9: =$H$12 -> PM2.5 | J9: =$J$12 -> SO2 | L9: =$L$12 -> NOx | N9: CO | P9: =$P$12 -> VOC | R9: Lead | T9: =$T$12 -> NH3 | V9: =$V$12 -> CO2 | X9: =$X$12 -> CH4 | Z9: =$Z$12 -> N2O | AB9: =$AB$12 -> CO2e
E10: PM (filterable) | G10: PM10 | I10: =$H$12 -> PM2.5 | K10: =$J$12 -> SO2 | M10: =$L$12 -> NOx | O10: CO | Q10: =$P$12 -> VOC | S10: Lead | U10: =$T$12 -> NH3 | W10: =$V$12 -> CO2 | Y10: =$X$12 -> CH4 | AA10: =$Z$12 -> N2O | AC10: =$AB$12 -> CO2e
D11: ='Key Inputs'!$C$65 -> 44805 | F11: =$D$11 -> 44805 | H11: =$D$11 -> 44805 | J11: =$D$11 -> 44805 | L11: =$D$11 -> 44805 | N11: =$D$11 -> 44805 | P11: =$D$11 -> 44805 | R11: =$D$11 -> 44805 | T11: =$D$11 -> 44805 | V11: =$D$11 -> 44805 | X11: =$D$11 -> 44805 | Z11: =$D$11 -> 44805 | AB11: =$D$11 -> 44805
B12: Column | D12: PM (filterable) | F12: PM10 | H12: PM2.5 | J12: SO2 | L12: NOx | N12: CO | P12: VOC | R12: Lead | T12: NH3 | V12: CO2 | X12: CH4 | Z12: N2O | AB12: CO2e
C13: Unit Description | D13: BAE (tpy) | E13: PAE (tpy) | F13: BAE (tpy) | G13: PAE (tpy) | H13: BAE (tpy) | I13: PAE (tpy) | J13: BAE (tpy) | K13: PAE (tpy) | L13: BAE (tpy) | M13: PAE (tpy) | N13: BAE (tpy) | O13: PAE (tpy) | P13: BAE (tpy) | Q13: PAE (tpy) | R13: BAE (tpy) | S13: PAE (tpy) | T13: BAE (tpy) | U13: PAE (tpy) | V13: BAE (tpy) | W13: PAE (tpy) | X13: BAE (tpy) | Y13: PAE (tpy) | Z13: BAE (tpy) | AA13: PAE (tpy) | AB13: BAE (tpy) | AC13: PAE (tpy)
C14: Boiler No. 3 | D14: =SUM(D15:D16) -> 1.0444732 | E14: =SUM(E15:E16) -> 0 | F14: =SUM(F15:F16) -> 0.75249439 | G14: =SUM(G15:G16) -> 0 | H14: =SUM(H15:H16) -> 0.64832403 | I14: =SUM(I15:I16) -> 0 | J14: =SUM(J15:J16) -> 6.2387765 | K14: =SUM(K15:K16) -> 0 | ... AC14: =SUM(AC15:AC16) -> 0
B15: Q | C15: Natural Gas Combustion | D15: ='PM Simple'!I48 -> 0.087580869 | E15: 0 | F15: ='PM10 Simple'!I48 -> 0.051879548 | G15: 0 | H15: ='PM2.5 Simple'!I48 -> 0.051879548 | I15: 0 | J15: ='SOx Simple'!I48 -> 0.0040957538 | K15: 0 | L15: ='NOx Simple'!I48 -> 0.68262563 | M15: 0 | N15: ='CO Simple'!I48 -> 0.57340553 | O15: 0 | P15: ='VOC Simple'!I48 -> 0.03754441 | Q15: 0 | R15: ='Lead Simple'!I48 -> 3.4131282e-06 | S15: 0 | T15: ='Ammonia Simple'!I48 -> 0.02184402 | U15: 0 | V15: ='CO2 Simple'!I48 -> 830.07277 | W15: 0 | X15: ='Methane Simple'!I48 -> 0.015644687 | Y15: 0 | Z15: ='N2O Simple'!I48 -> 0.00072604062 | AA15: 0 | AB15: =V15+X15*28+Z15*265 -> 830.70322 | AC15: 0
B16: P | C16: Coke Oven Gas Combustion | D16: ='PM Simple'!H48 -> 0.95689238 | E16: 0 | F16: ='PM10 Simple'!H48 -> 0.70061484 | G16: 0 | H16: ='PM2.5 Simple'!H48 -> 0.59644448 | I16: 0 | J16: ='SOx Simple'!H48 -> 6.2346807 | K16: 0 | L16: ='NOx Simple'!H48 -> 7.3748931 | M16: 0 | N16: ='CO Simple'!H48 -> 1.6962254 | O16: 0 | P16: ='VOC Simple'!H48 -> 0.1106234 | Q16: 0 | R16: ='Lead Simple'!H48 -> 0 | S16: 0 | T16: ='Ammonia Simple'!H48 -> 0.014288855 | U16: 0 | V16: ='CO2 Simple'!H48 -> 4590.8709 | W16: 0 | X16: ='Methane Simple'!H48 -> 0.047061036 | Y16: 0 | Z16: ='N2O Simple'!H48 -> 0.0098049204 | AA16: 0 | AB16: =V16+X16*28+Z16*265 -> 4594.787 | AC16: 0
C17: Boiler No. 4 | D17: =SUM(D18:D19) -> 1.054013 | E17: =SUM(E18:E19) -> 0 | F17: =SUM(F18:F19) -> 0.75971368 | G17: =SUM(G18:G19) -> 0 | H17: =SUM(H18:H19) -> 0.65432221 | I17: =SUM(I18:I19) -> 0 | J17: =SUM(J18:J19) -> 6.1573588 | K17: =SUM(K18:K19) -> 0 | ... AC17: =SUM(AC18:AC19) -> 0
B18: S | C18: Natural Gas Combustion | D18: ='PM Simple'!K48 -> 0.085903781 | E18: 0 | F18: ='PM10 Simple'!K48 -> 0.050886106 | G18: 0 | H18: ='PM2.5 Simple'!K48 -> 0.050886106 | I18: 0 | J18: ='SOx Simple'!K48 -> 0.0040173241 | K18: 0 | L18: ='NOx Simple'!K48 -> 0.66955402 | M18: 0 | N18: ='CO Simple'!K48 -> 0.56242538 | O18: 0 | P18: ='VOC Simple'!K48 -> 0.036825471 | Q18: 0 | R18: ='Lead Simple'!K48 -> 3.3477701e-06 | S18: 0 | T18: ='Ammonia Simple'!K48 -> 0.021425729 | U18: 0 | V18: ='CO2 Simple'!K48 -> 814.17769 | W18: 0 | X18: ='Methane Simple'!K48 -> 0.015345107 | Y18: 0 | Z18: ='N2O Simple'!K48 -> 0.00071213766 | AA18: 0 | AB18: =V18+X18*28+Z18*265 -> 814.79607 | AC18: 0
B19: R | C19: Coke Oven Gas Combustion | D19: ='PM Simple'!J48 -> 0.96810924 | E19: 0 | F19: ='PM10 Simple'!J48 -> 0.70882757 | G19: 0 | H19: ='PM2.5 Simple'!J48 -> 0.6034361 | I19: 0 | J19: ='SOx Simple'!J48 -> 6.1533415 | K19: 0 | L19: ='NOx Simple'!J48 -> 7.4613429 | M19: 0 | N19: ='CO Simple'!J48 -> 1.7161089 | O19: 0 | P19: ='VOC Simple'!J48 -> 0.11192014 | Q19: 0 | R19: ='Lead Simple'!J48 -> 0 | S19: 0 | T19: ='Ammonia Simple'!J48 -> 0.014456352 | U19: 0 | V19: ='CO2 Simple'!J48 -> 4644.6859 | W19: 0 | X19: ='Methane Simple'!J48 -> 0.047612694 | Y19: 0 | Z19: ='N2O Simple'!J48 -> 0.0099198553 | AA19: 0 | AB19: =V19+X19*28+Z19*265 -> 4648.6479 | AC19: 0
C20: Boiler No. 5 (New) | D20: =SUM(D21:D22) -> 0 | E20: =SUM(E21:E22) -> 4.5894361 | F20: =SUM(F21:F22) -> 0 | G20: =SUM(G21:G22) -> 6.2779126 | H20: =SUM(H21:H22) -> 0 | I20: =SUM(I21:I22) -> 5.4842958 | J20: =SUM(J21:J22) -> 0 | K20: =SUM(K21:K22) -> 52.368515 | ... AC20: =SUM(AC21:AC22) -> 52636.39
C21: Natural Gas Combustion | D21: 0 | E21: ='NEW Boiler 5 PTE (B005)'!D96 -> 0.23507812 | F21: 0 | G21: ='NEW Boiler 5 PTE (B005)'!$D$97+'NEW Boiler 5 PTE (B005)'!$D$95 -> 0.94031247 | H21: 0 | I21: ='NEW Boiler 5 PTE (B005)'!$D$98+'NEW Boiler 5 PTE (B005)'!$D$95 -> 0.94031247 | J21: 0 | K21: ='NEW Boiler 5 PTE (B005)'!$D$101 -> 0.074235195 | L21: 0 | M21: ='NEW Boiler 5 PTE (B005)'!$D$99 -> 4.14 | N21: 0 | O21: ='NEW Boiler 5 PTE (B005)'!$D$102 -> 4.1680701 | P21: 0 | Q21: ='NEW Boiler 5 PTE (B005)'!$D$100 -> 0.68048929 | R21: 0 | S21: ='NEW Boiler 5 PTE (B005)'!$D$135 -> 6.1862663e-05 | T21: 0 | U21: ='NEW Boiler 5 PTE (B005)'!D132 -> 0.39592104 | V21: 0 | W21: ='NEW Boiler 5 PTE (B005)'!$D$147 -> 15470.245 | X21: 0 | Y21: ='NEW Boiler 5 PTE (B005)'!D148 -> 0.29156134 | Z21: 0 | AA21: ='NEW Boiler 5 PTE (B005)'!D149 -> 0.029156134 | AB21: 0 | AC21: ='NEW Boiler 5 PTE (B005)'!D150 -> 15486.135
C22: Coke Oven Gas Combustion | D22: 0 | E22: ='NEW Boiler 5 PTE (B005)'!D161 -> 4.354358 | F22: 0 | G22: ='NEW Boiler 5 PTE (B005)'!$D$162+'NEW Boiler 5 PTE (B005)'!$D$160 -> 5.3376002 | H22: 0 | I22: ='NEW Boiler 5 PTE (B005)'!$D$163+'NEW Boiler 5 PTE (B005)'!$D$160 -> 4.5439833 | J22: 0 | K22: ='NEW Boiler 5 PTE (B005)'!$D$166 -> 52.29428 | L22: 0 | M22: ='NEW Boiler 5 PTE (B005)'!$D$164 -> 11.25 | N22: 0 | O22: ='NEW Boiler 5 PTE (B005)'!$D$167 -> 11.326278 | P22: 0 | Q22: ='NEW Boiler 5 PTE (B005)'!$D$165 -> 0.84277897 | R22: 0 | S22: 0 | T22: 0 | U22: ='NEW Boiler 5 PTE (B005)'!D177 -> 0.094659957 | V22: 0 | W22: ='NEW Boiler 5 PTE (B005)'!$D$180 -> 37118.611 | X22: 0 | Y22: ='NEW Boiler 5 PTE (B005)'!D181 -> 0.3802974 | Z22: 0 | AA22: ='NEW Boiler 5 PTE (B005)'!D182 -> 0.079228625 | AB22: 0 | AC22: ='NEW Boiler 5 PTE (B005)'!D183 -> 37150.255
D23: PM | F23: PM10 | H23: PM2.5 | J23: SO2 | L23: =L12 -> NOx | N23: =N12 -> CO | P23: =P12 -> VOC | R23: =R12 -> Lead | T23: NH3 | V23: CO2 | X23: CH4 | Z23: N2O | AB23: CO2e
D24: =D13 -> BAE (tpy) | E24: =E13 -> PAE (tpy) | F24: =F13 -> BAE (tpy) | G24: =G13 -> PAE (tpy) | H24: =H13 -> BAE (tpy) | I24: =I13 -> PAE (tpy) | J24: =J13 -> BAE (tpy) | K24: =K13 -> PAE (tpy) | ... AC24: =AC13 -> PAE (tpy)
C25: TOTAL PROJECT EMISSIONS | D25: =SUM(D14,D17,D20) -> 2.0984863 | E25: =SUM(E14,E17,E20) -> 4.5894361 | F25: =SUM(F14,F17,F20) -> 1.5122081 | G25: =SUM(G14,G17,G20) -> 6.2779126 | H25: =SUM(H14,H17,H20) -> 1.3026462 | I25: =SUM(I14,I17,I20) -> 5.4842958 | J25: =SUM(J14,J17,J20) -> 12.396135 | K25: =SUM(K14,K17,K20) -> 52.368515 | ... AC25: =SUM(AC14,AC17,AC20) -> 52636.39
D26: =TEXT(D11,"mmmm") -> September | F26: =TEXT(F11,"mmmm") -> September | H26: =TEXT(H11,"mmmm") -> September | J26: =TEXT(J11,"mmmm") -> September | L26: =TEXT(L11,"mmmm") -> September | N26: =TEXT(N11,"mmmm") -> September | P26: =TEXT(P11,"mmmm") -> September | R26: =TEXT(R11,"mmmm") -> September | T26: =TEXT(T11,"mmmm") -> September | V26: =TEXT(V11,"mmmm") -> September | X26: =TEXT(X11,"mmmm") -> September | Z26: =TEXT(Z11,"mmmm") -> September | AB26: =TEXT(AB11,"mmmm") -> September
C27: Lookup Functions | D27: =YEAR(D11) -> 2022 | F27: =YEAR(F11) -> 2022 | H27: =YEAR(H11) -> 2022 | J27: =YEAR(J11) -> 2022 | L27: =YEAR(L11) -> 2022 | N27: =YEAR(N11) -> 2022 | P27: =YEAR(P11) -> 2022 | R27: =YEAR(R11) -> 2022 | T27: =YEAR(T11) -> 2022 | V27: =YEAR(V11) -> 2022 | X27: =YEAR(X11) -> 2022 | Z27: =YEAR(Z11) -> 2022 | AB27: =YEAR(AB11) -> 2022
D28: PM Simple | F28: PM10 Simple | H28: PM2.5 Simple | J28: SOx Simple | L28: NOx Simple | N28: CO Simple | P28: VOC Simple | R28: Lead Simple | T28: Ammonia Simple | V28: CO2 Simple | X28: Methane Simple | Z28: N2O Simple | AB28: CO2e

Sheet PAE-->

Sheet NEW Boiler 5 PTE (B005)
B4: ='Key Inputs'!B4 -> Company Name: | C4: ='Key Inputs'!C4 -> U. S. Steel Corp.
B5: ='Key Inputs'!B5 -> Site Name: | C5: ='Key Inputs'!C5 -> Irvin Plant
B6: ='Key Inputs'!B6 -> Description: | C6: ='Key Inputs'!C6 -> Boiler Installation Permit
B8: =CONCATENATE("TABLE ",_xlfn.SHEET()-2,". New Boiler Emission Calculations") -> TABLE 4. New Boiler Emission Calculations
B10: Emission Unit | C10: Boiler No. 5
B11: Emission Unit ID | C11: TBD | J11: 2104.02.a.3
B12: Stack ID | C12: TBD
B13: Hours of Operation | C13: ='Key Inputs'!G20 -> 8760 | D13: hrs/yr | J13: Fuel | K13: Article XXI Limit (lb/MMBtu) | N13: Usage (MMBtu/yr) | P13: Fraction
B14: Control Device | C14: None | J14: N. Gas | K14: 0.008 | N14: ='Key Inputs'!I21 -> 230000 | P14: =N14/SUM($N$14:$N$15) -> 0.26900585
B15: Max. Heat Input Rating | C15: 97.7 | D15: MMBtu/hr | J15: COG | K15: 0.02 | N15: ='Key Inputs'!I22 -> 625000 | P15: =N15/SUM($N$14:$N$15) -> 0.73099415
B16: Natural Gas Combustion | C16: =$C$15/'Key Inputs'!D31 -> 0.091402376 | D16: MMscf/hr
B17: Coke Oven Gas Combustion | C17: =$C$15/'Key Inputs'!D32 -> 0.19093219 | D17: MMscf/hr | K17: =K14*P14+K15*P15 -> 0.01677193 | L17: lb/MMBtu (annual average)
B18: Natural Gas Combustion | C18: ='Key Inputs'!I21/'Key Inputs'!D31 -> 215.17448 | D18: MMscf/yr | E18: (based on user inputs)
B19: Coke Oven Gas Combustion | C19: ='Key Inputs'!I22/'Key Inputs'!D32 -> 1221.4188 | D19: MMscf/yr | E19: (based on user inputs)
B21: Combustion Emissions (All Fuels)
B24: Pollutant | C24: Potential Emissions (lb/hr) | D24: Potential Emissions (tpy) | E24: Emission Factor | F24: Emission Factor Units | G24: Emission Factor Source
B27: Criteria Pollutants: | I27: =IF(D28>0.01,D28,"") -> 4.5894361
B28: Filterable Particulate Matter (PM) | C28: =_xlfn.MAXIFS(C$95:C$183,$B$95:$B$183,$B28) -> 1.3613465 | D28: =SUMIFS(D$95:D$183,$B$95:$B$183,$B28) -> 4.5894361 | E28: --- | F28: --- | G28: Max from All Fuels for Hourly, Sum of Fuels for Annual (see below)
B29: Filt. Particulate Matter <10 microns (PM10) | C29: =_xlfn.MAXIFS(C$95:C$183,$B$95:$B$183,$B29) -> 0.95513826 | D29: =SUMIFS(D$95:D$183,$B$95:$B$183,$B29) -> 3.2901519 | E29: --- | F29: --- | G29: Max from All Fuels for Hourly, Sum of Fuels for Annual (see below)
B30: Filt. Particulate Matter < 2.5 microns (PM2.5) | C30: =_xlfn.MAXIFS(C$95:C$183,$B$95:$B$183,$B30) -> 0.70702189 | D30: =SUMIFS(D$95:D$183,$B$95:$B$183,$B30) -> 2.496535 | E30: --- | F30: --- | G30: Max from All Fuels for Hourly, Sum of Fuels for Annual (see below)
B31: Condensable Particulate Matter (CPM) | C31: =_xlfn.MAXIFS(C$95:C$183,$B$95:$B$183,$B31) -> 0.71360905 | D31: =SUMIFS(D$95:D$183,$B$95:$B$183,$B31) -> 2.9877607 | E31: --- | F31: --- | G31: Max from All Fuels for Hourly, Sum of Fuels for Annual (see below)
B32: Nitrogen Oxides (NOX) | C32: =_xlfn.MAXIFS(C$95:C$183,$B$95:$B$183,$B32) -> 3.5172 | D32: =SUMIFS(D$95:D$183,$B$95:$B$183,$B32) -> 15.39 | E32: --- | F32: --- | G32: Max from All Fuels for Hourly, Sum of Fuels for Annual (see below)
B33: Volatile Organic Compounds (VOC) | C33: =_xlfn.MAXIFS(C$95:C$183,$B$95:$B$183,$B33) -> 0.57812003 | D33: =SUMIFS(D$95:D$183,$B$95:$B$183,$B33) -> 1.5232683 | E33: --- | F33: --- | G33: Max from All Fuels for Hourly, Sum of Fuels for Annual (see below)
B34: Sulfur Dioxide (SO2) | C34: =_xlfn.MAXIFS(C$95:C$183,$B$95:$B$183,$B34) -> 11.939333 | D34: =SUMIFS(D$95:D$183,$B$95:$B$183,$B34) -> 52.368515 | E34: --- | F34: --- | G34: Max from All Fuels for Hourly, Sum of Fuels for Annual (see below)
B35: Carbon Monoxide (CO) | C35: =_xlfn.MAXIFS(C$95:C$183,$B$95:$B$183,$B35) -> 3.5410474 | D35: =SUMIFS(D$95:D$183,$B$95:$B$183,$B35) -> 15.494348 | E35: --- | F35: --- | G35: Max from All Fuels for Hourly, Sum of Fuels for Annual (see below)
B36: Hydrochloric Acid (HCl) | C36: =_xlfn.MAXIFS(C$95:C$183,$B$95:$B$183,$B36) -> 0.87065077 | D36: =SUMIFS(D$95:D$183,$B$95:$B$183,$B36) -> 2.7848349 | E36: --- | F36: --- | G36: Max from All Fuels for Hourly, Sum of Fuels for Annual (see below)
B38: Hazardous Air Pollutants:
B39: Organics
B40: 2-Methylnaphthalene | C40: =_xlfn.MAXIFS(C$95:C$183,$B$95:$B$183,$B40) -> 2.5227056e-06 | D40: =SUMIFS(D$95:D$183,$B$95:$B$183,$B40) -> 2.9694078e-06 | E40: --- | F40: --- | G40: Max from All Fuels for Hourly, Sum of Fuels for Annual (see below)
B41: 3-Methylchloranthrene | C41: =_xlfn.MAXIFS(C$95:C$183,$B$95:$B$183,$B41) -> 1.8920292e-07 | D41: =SUMIFS(D$95:D$183,$B$95:$B$183,$B41) -> 2.2270559e-07 | E41: --- | F41: --- | G41: Max from All Fuels for Hourly, Sum of Fuels for Annual (see below)
B42: 7,12-Dimethylbenz(a)anthracene | C42: =_xlfn.MAXIFS(C$95:C$183,$B$95:$B$183,$B42) -> 1.6818037e-06 | D42: =SUMIFS(D$95:D$183,$B$95:$B$183,$B42) -> 1.9796052e-06 | E42: --- | F42: --- | G42: Max from All Fuels for Hourly, Sum of Fuels for Annual (see below)
B43: Acenaphthene | C43: =_xlfn.MAXIFS(C$95:C$183,$B$95:$B$183,$B43) -> 1.8920292e-07 | D43: =SUMIFS(D$95:D$183,$B$95:$B$183,$B43) -> 2.2270559e-07 | E43: --- | F43: --- | G43: Max from All Fuels for Hourly, Sum of Fuels for Annual (see below)
B44: Acenaphthylene | C44: =_xlfn.MAXIFS(C$95:C$183,$B$95:$B$183,$B44) -> 1.8920292e-07 | D44: =SUMIFS(D$95:D$183,$B$95:$B$183,$B44) -> 2.2270559e-07 | E44: --- | F44: --- | G44: Max from All Fuels for Hourly, Sum of Fuels for Annual (see below)
B45: Anthracene | C45: =_xlfn.MAXIFS(C$95:C$183,$B$95:$B$183,$B45) -> 2.5227056e-07 | D45: =SUMIFS(D$95:D$183,$B$95:$B$183,$B45) -> 2.9694078e-07 | E45: --- | F45: --- | G45: Max from All Fuels for Hourly, Sum of Fuels for Annual (see below)
B46: Benz(a)anthracene | C46: =_xlfn.MAXIFS(C$95:C$183,$B$95:$B$183,$B46) -> 1.8920292e-07 | D46: =SUMIFS(D$95:D$183,$B$95:$B$183,$B46) -> 2.2270559e-07 | E46: --- | F46: --- | G46: Max from All Fuels for Hourly, Sum of Fuels for Annual (see below)
B47: Benzene | C47: =_xlfn.MAXIFS(C$95:C$183,$B$95:$B$183,$B47) -> 0.0043914403 | D47: =SUMIFS(D$95:D$183,$B$95:$B$183,$B47) -> 0.014306139 | E47: --- | F47: --- | G47: Max from All Fuels for Hourly, Sum of Fuels for Annual (see below)
B48: Benzo(a)pyrene | C48: =_xlfn.MAXIFS(C$95:C$183,$B$95:$B$183,$B48) -> 1.2613528e-07 | D48: =SUMIFS(D$95:D$183,$B$95:$B$183,$B48) -> 1.4847039e-07 | E48: --- | F48: --- | G48: Max from All Fuels for Hourly, Sum of Fuels for Annual (see below)
B49: Benzo(b)fluoranthene | C49: =_xlfn.MAXIFS(C$95:C$183,$B$95:$B$183,$B49) -> 1.8920292e-07 | D49: =SUMIFS(D$95:D$183,$B$95:$B$183,$B49) -> 2.2270559e-07 | E49: --- | F49: --- | G49: Max from All Fuels for Hourly, Sum of Fuels for Annual (see below)
B50: Benzo(g,h,i)perylene | C50: =_xlfn.MAXIFS(C$95:C$183,$B$95:$B$183,$B50) -> 1.2613528e-07 | D50: =SUMIFS(D$95:D$183,$B$95:$B$183,$B50) -> 1.4847039e-07 | E50: --- | F50: --- | G50: Max from All Fuels for Hourly, Sum of Fuels for Annual (see below)
B51: Benzo(k)fluoranthene | C51: =_xlfn.MAXIFS(C$95:C$183,$B$95:$B$183,$B51) -> 1.8920292e-07 | D51: =SUMIFS(D$95:D$183,$B$95:$B$183,$B51) -> 2.2270559e-07 | E51: --- | F51: --- | G51: Max from All Fuels for Hourly, Sum of Fuels for Annual (see below)
... B63: Toluene | C63: =_xlfn.MAXIFS(C$95:C$183,$B$95:$B$183,$B63) -> 2.2914576e-06 | D63: =SUMIFS(D$95:D$183,$B$95:$B$183,$B63) -> 2.6972121e-06 | E63: --- | F63: --- | G63: Max from All Fuels for Hourly, Sum of Fuels for Annual (see below)
B65: Inorganics
B66: Carbon Disulfide (CS2) | C66: =_xlfn.MAXIFS(C$95:C$183,$B$95:$B$183,$B66) -> 0.0063007622 | D66: =SUMIFS(D$95:D$183,$B$95:$B$183,$B66) -> 0.02015341 | E66: --- | F66: --- | G66: Max from All Fuels for Hourly, Sum of Fuels for Annual (see below)
B67: Chlorine (Cl) | C67: =_xlfn.MAXIFS(C$95:C$183,$B$95:$B$183,$B67) -> 0.012410592 | D67: =SUMIFS(D$95:D$183,$B$95:$B$183,$B67) -> 0.039696111 | E67: --- | F67: --- | G67: Max from All Fuels for Hourly, Sum of Fuels for Annual (see below)
B68: Ammonia | C68: =_xlfn.MAXIFS(C$95:C$183,$B$95:$B$183,$B68) -> 0.33636074 | D68: =SUMIFS(D$95:D$183,$B$95:$B$183,$B68) -> 0.39592104 | E68: --- | F68: --- | G68: Max from All Fuels for Hourly, Sum of Fuels for Annual (see below)
B70: Metal HAPs
B71: Lead | C71: =_xlfn.MAXIFS(C$95:C$183,$B$95:$B$183,$B71) -> 5.2556366e-05 | D71: =SUMIFS(D$95:D$183,$B$95:$B$183,$B71) -> 6.1862663e-05 | E71: --- | F71: --- | G71: Max from All Fuels for Hourly, Sum of Fuels for Annual (see below)
B72: Arsenic Compounds | C72: =_xlfn.MAXIFS(C$95:C$183,$B$95:$B$183,$B72) -> 1.345443e-07 | D72: =SUMIFS(D$95:D$183,$B$95:$B$183,$B72) -> 1.5836842e-07 | E72: --- | F72: --- | G72: Max from All Fuels for Hourly, Sum of Fuels for Annual (see below)
B73: Beryllium Compounds | C73: =_xlfn.MAXIFS(C$95:C$183,$B$95:$B$183,$B73) -> 8.0936804e-09 | D73: =SUMIFS(D$95:D$183,$B$95:$B$183,$B73) -> 9.52685e-09 | E73: --- | F73: --- | G73: Max from All Fuels for Hourly, Sum of Fuels for Annual (see below)
B74: Cadmium Compounds | C74: =_xlfn.MAXIFS(C$95:C$183,$B$95:$B$183,$B74) -> 7.4209589e-07 | D74: =SUMIFS(D$95:D$183,$B$95:$B$183,$B74) -> 8.735008e-07 | E74: --- | F74: --- | G74: Max from All Fuels for Hourly, Sum of Fuels for Annual (see below)
B75: Chromium Compounds | C75: =_xlfn.MAXIFS(C$95:C$183,$B$95:$B$183,$B75) -> 9.4496347e-07 | D75: =SUMIFS(D$95:D$183,$B$95:$B$183,$B75) -> 1.1122907e-06 | E75: --- | F75: --- | G75: Max from All Fuels for Hourly, Sum of Fuels for Annual (see below)
B76: Cobalt Compounds | C76: =_xlfn.MAXIFS(C$95:C$183,$B$95:$B$183,$B76) -> 5.6655763e-08 | D76: =SUMIFS(D$95:D$183,$B$95:$B$183,$B76) -> 6.668795e-08 | E76: --- | F76: --- | G76: Max from All Fuels for Hourly, Sum of Fuels for Annual (see below)
B77: Manganese Compounds | C77: =_xlfn.MAXIFS(C$95:C$183,$B$95:$B$183,$B77) -> 2.5647507e-07 | D77: =SUMIFS(D$95:D$183,$B$95:$B$183,$B77) -> 3.0188979e-07 | E77: --- | F77: --- | G77: Max from All Fuels for Hourly, Sum of Fuels for Annual (see below)
B78: Mercury Compounds | C78: =_xlfn.MAXIFS(C$95:C$183,$B$95:$B$183,$B78) -> 2.7329311e-05 | D78: =SUMIFS(D$95:D$183,$B$95:$B$183,$B78) -> 3.2168585e-05 | E78: --- | F78: --- | G78: Max from All Fuels for Hourly, Sum of Fuels for Annual (see below)
B79: Nickel Compounds | C79: =_xlfn.MAXIFS(C$95:C$183,$B$95:$B$183,$B79) -> 1.4190219e-06 | D79: =SUMIFS(D$95:D$183,$B$95:$B$183,$B79) -> 1.6702919e-06 | E79: --- | F79: --- | G79: Max from All Fuels for Hourly, Sum of Fuels for Annual (see below)
B80: Selenium Compounds | C80: =_xlfn.MAXIFS(C$95:C$183,$B$95:$B$183,$B80) -> 1.6187361e-08 | D80: =SUMIFS(D$95:D$183,$B$95:$B$183,$B80) -> 1.90537e-08 | E80: --- | F80: --- | G80: Max from All Fuels for Hourly, Sum of Fuels for Annual (see below)
B82: Greenhouse Gas Pollutants:
B83: Carbon Dioxide (CO2) | C83: =_xlfn.MAXIFS(C$95:C$183,$B$95:$B$183,$B83) -> 13142.982 | D83: =SUMIFS(D$95:D$183,$B$95:$B$183,$B83) -> 52588.856 | E83: --- | F83: --- | G83: Max from All Fuels for Hourly, Sum of Fuels for Annual (see below)
B84: Methane (CH4) | C84: =_xlfn.MAXIFS(C$95:C$183,$B$95:$B$183,$B84) -> 0.24770037 | D84: =SUMIFS(D$95:D$183,$B$95:$B$183,$B84) -> 0.67185874 | E84: --- | F84: --- | G84: Max from All Fuels for Hourly, Sum of Fuels for Annual (see below)
B85: Nitrous Oxides (N2O) | C85: =_xlfn.MAXIFS(C$95:C$183,$B$95:$B$183,$B85) -> 0.024770037 | D85: =SUMIFS(D$95:D$183,$B$95:$B$183,$B85) -> 0.10838476 | E85: --- | F85: --- | G85: Max from All Fuels for Hourly, Sum of Fuels for Annual (see below)
B86: Carbon Dioxide Equivalent (CO2e) | C86: =D86/$C$13*2000 -> 12017.441 | D86: =D83*'Key Inputs'!$C$49+D84*'Key Inputs'!$C$50+D85*'Key Inputs'!$C$51 -> 52636.39 | E86: - | F86: - | G86: 40 CFR 98, Subpart A, Table A-1
B88: Combustion Emissions (Natural Gas)
B91: Pollutant | C91: Potential Emissions (lb/hr) | D91: Potential Emissions (tpy) | E91: Emission Factor | F91: Emission Factor Units | G91: Emission Factor Source
B94: Criteria Pollutants: | I94: AP-42 Factor
B95: Condensable Particulate Matter (CPM) | C95: =E95*$C$16 -> 0.59914258 | D95: =E95*$C$18/2000 -> 0.70523435 | E95: =I95*(1+'Key Inputs'!$Q$4) -> 6.555 | F95: lb/MMscf | G95: AP-42 Table 1.4-2, April 2026 | I95: 5.7
B96: Filterable Particulate Matter (PM) | C96: =E96*$C$16 -> 0.19971419 | D96: =E96*$C$18/2000 -> 0.23507812 | E96: =I96*(1+'Key Inputs'!$Q$4) -> 2.185 | F96: lb/MMscf | G96: AP-42 Table 1.4-2, April 2026 | I96: 1.9
B97: Filt. Particulate Matter <10 microns (PM10) | C97: =E97*$C$16 -> 0.19971419 | D97: =E97*$C$18/2000 -> 0.23507812 | E97: =I97*(1+'Key Inputs'!$Q$4) -> 2.185 | F97: lb/MMscf | G97: AP-42 Table 1.4-2, April 2026 | I97: 1.9
B98: Filt. Particulate Matter < 2.5 microns (PM2.5) | C98: =E98*$C$16 -> 0.19971419 | D98: =E98*$C$18/2000 -> 0.23507812 | E98: =I98*(1+'Key Inputs'!$Q$4) -> 2.185 | F98: lb/MMscf | G98: AP-42 Table 1.4-2, April 2026 | I98: 1.9
B99: Nitrogen Oxides (NOX) | C99: =E99*$C$15 -> 3.5172 | D99: =E99*'Key Inputs'!$D$31*$C$18/2000 -> 4.14 | E99: ='Key Inputs'!C41 -> 0.036 | F99: lb/MMBtu | G99: Vendor Guarantee
B100: Volatile Organic Compounds (VOC) | C100: =E100*$C$16 -> 0.57812003 | D100: =E100*$C$18/2000 -> 0.68048929 | E100: =I100*(1+'Key Inputs'!$Q$4) -> 6.325 | F100: lb/MMscf | G100: AP-42 Table 1.4-2, April 2026 | I100: 5.5 | K100: =E100/'Key Inputs'!D31 -> 0.0059172982 | L100: lb/MMBtu VOC
B101: Sulfur Dioxide (SO2) | C101: =E101*$C$16 -> 0.06306764 | D101: =E101*$C$18/2000 -> 0.074235195 | E101: =I101*(1+'Key Inputs'!$Q$4) -> 0.69 | F101: lb/MMscf | G101: AP-42 Table 1.4-2, April 2026 | I101: 0.6
B102: Carbon Monoxide (CO) | C102: =E102*$C$15 -> 3.5410474 | D102: =E102*'Key Inputs'!$D$31*$C$18/2000 -> 4.1680701 | E102: ='Key Inputs'!$C$42 -> 0.036244088 | F102: lb/MMBtu | G102: Vendor Guarantee
B104: Hazardous Air Pollutants:
B105: Organics
B106: 2-Methylnaphthalene | C106: =E106*$C$16 -> 2.5227056e-06 | D106: =E106*$C$18/2000 -> 2.9694078e-06 | E106: =I106*(1+'Key Inputs'!$Q$4) -> 2.76e-05 | F106: lb/MMscf | G106: AP-42 Table 1.4-3, April 2026 | I106: 2.4e-05
B107: 3-Methylchloranthrene | C107: =E107*$C$16 -> 1.8920292e-07 | D107: =E107*$C$18/2000 -> 2.2270559e-07 | E107: =I107*(1+'Key Inputs'!$Q$4) -> 2.07e-06 | F107: lb/MMscf | G107: AP-42 Table 1.4-3, April 2026 | I107: 1.8e-06
B108: 7,12-Dimethylbenz(a)anthracene | C108: =E108*$C$16 -> 1.6818037e-06 | D108: =E108*$C$18/2000 -> 1.9796052e-06 | E108: =I108*(1+'Key Inputs'!$Q$4) -> 1.84e-05 | F108: lb/MMscf | G108: AP-42 Table 1.4-3, April 2026 | I108: 1.6e-05
B109: Acenaphthene | C109: =E109*$C$16 -> 1.8920292e-07 | D109: =E109*$C$18/2000 -> 2.2270559e-07 | E109: =I109*(1+'Key Inputs'!$Q$4) -> 2.07e-06 | F109: lb/MMscf | G109: AP-42 Table 1.4-3, April 2026 | I109: 1.8e-06
B110: Acenaphthylene | C110: =E110*$C$16 -> 1.8920292e-07 | D110: =E110*$C$18/2000 -> 2.2270559e-07 | E110: =I110*(1+'Key Inputs'!$Q$4) -> 2.07e-06 | F110: lb/MMscf | G110: AP-42 Table 1.4-3, April 2026 | I110: 1.8e-06
B111: Anthracene | C111: =E111*$C$16 -> 2.5227056e-07 | D111: =E111*$C$18/2000 -> 2.9694078e-07 | E111: =I111*(1+'Key Inputs'!$Q$4) -> 2.76e-06 | F111: lb/MMscf | G111: AP-42 Table 1.4-3, April 2026 | I111: 2.4e-06
B112: Benz(a)anthracene | C112: =E112*$C$16 -> 1.8920292e-07 | D112: =E112*$C$18/2000 -> 2.2270559e-07 | E112: =I112*(1+'Key Inputs'!$Q$4) -> 2.07e-06 | F112: lb/MMscf | G112: AP-42 Table 1.4-3, April 2026 | I112: 1.8e-06
B113: Benzene | C113: =E113*$C$16 -> 0.00022073674 | D113: =E113*$C$18/2000 -> 0.00025982318 | E113: =I113*(1+'Key Inputs'!$Q$4) -> 0.002415 | F113: lb/MMscf | G113: AP-42 Table 1.4-3, April 2026 | I113: 0.0021
B114: Benzo(a)pyrene | C114: =E114*$C$16 -> 1.2613528e-07 | D114: =E114*$C$18/2000 -> 1.4847039e-07 | E114: =I114*(1+'Key Inputs'!$Q$4) -> 1.38e-06 | F114: lb/MMscf | G114: AP-42 Table 1.4-3, April 2026 | I114: 1.2e-06
B115: Benzo(b)fluoranthene | C115: =E115*$C$16 -> 1.8920292e-07 | D115: =E115*$C$18/2000 -> 2.2270559e-07 | E115: =I115*(1+'Key Inputs'!$Q$4) -> 2.07e-06 | F115: lb/MMscf | G115: AP-42 Table 1.4-3, April 2026 | I115: 1.8e-06
B116: Benzo(g,h,i)perylene | C116: =E116*$C$16 -> 1.2613528e-07 | D116: =E116*$C$18/2000 -> 1.4847039e-07 | E116: =I116*(1+'Key Inputs'!$Q$4) -> 1.38e-06 | F116: lb/MMscf | G116: AP-42 Table 1.4-3, April 2026 | I116: 1.2e-06
B117: Benzo(k)fluoranthene | C117: =E117*$C$16 -> 1.8920292e-07 | D117: =E117*$C$18/2000 -> 2.2270559e-07 | E117: =I117*(1+'Key Inputs'!$Q$4) -> 2.07e-06 | F117: lb/MMscf | G117: AP-42 Table 1.4-3, April 2026 | I117: 1.8e-06
... B129: Toluene | C129: =E129*$C$16 -> 2.2914576e-06 | D129: =E129*$C$18/2000 -> 2.6972121e-06 | E129: =I129*(1+'Key Inputs'!$Q$4) -> 2.507e-05 | F129: lb/MMscf | G129: AP-42 Table 1.4-3, April 2026 | I129: 2.18e-05
B131: Inorganics
B132: Ammonia | C132: =E132*$C$16 -> 0.33636074 | D132: =E132*$C$18/2000 -> 0.39592104 | E132: =I132*(1+'Key Inputs'!$Q$4) -> 3.68 | F132: lb/MMscf | G132: WebFIRE 6.25 | I132: 3.2
B134: Metal HAPs
B135: Lead | C135: =E135*$C$16 -> 5.2556366e-05 | D135: =E135*$C$18/2000 -> 6.1862663e-05 | E135: =I135*(1+'Key Inputs'!$Q$4) -> 0.000575 | F135: lb/MMscf | G135: AP-42 Table 1.4-2, April 2026 | I135: 0.0005
B136: Arsenic Compounds | C136: =E136*$C$16 -> 1.345443e-07 | D136: =E136*$C$18/2000 -> 1.5836842e-07 | E136: =I136*(1+'Key Inputs'!$Q$4) -> 1.472e-06 | F136: lb/MMscf | G136: AP-42 Table 1.4-4, April 2026 | I136: 1.28e-06
B137: Beryllium Compounds | C137: =E137*$C$16 -> 8.0936804e-09 | D137: =E137*$C$18/2000 -> 9.52685e-09 | E137: =I137*(1+'Key Inputs'!$Q$4) -> 8.855e-08 | F137: lb/MMscf | G137: AP-42 Table 1.4-4, April 2026 | I137: 7.7e-08
B138: Cadmium Compounds | C138: =E138*$C$16 -> 7.4209589e-07 | D138: =E138*$C$18/2000 -> 8.735008e-07 | E138: =I138*(1+'Key Inputs'!$Q$4) -> 8.119e-06 | F138: lb/MMscf | G138: AP-42 Table 1.4-4, April 2026 | I138: 7.06e-06
B139: Chromium Compounds | C139: =E139*$C$16 -> 9.4496347e-07 | D139: =E139*$C$18/2000 -> 1.1122907e-06 | E139: =I139*(1+'Key Inputs'!$Q$4) -> 1.03385e-05 | F139: lb/MMscf | G139: AP-42 Table 1.4-4, April 2026 | I139: 8.99e-06
B140: Cobalt Compounds | C140: =E140*$C$16 -> 5.6655763e-08 | D140: =E140*$C$18/2000 -> 6.668795e-08 | E140: =I140*(1+'Key Inputs'!$Q$4) -> 6.1985e-07 | F140: lb/MMscf | G140: AP-42 Table 1.4-4, April 2026 | I140: 5.39e-07
B141: Manganese Compounds | C141: =E141*$C$16 -> 2.5647507e-07 | D141: =E141*$C$18/2000 -> 3.0188979e-07 | E141: =I141*(1+'Key Inputs'!$Q$4) -> 2.806e-06 | F141: lb/MMscf | G141: AP-42 Table 1.4-4, April 2026 | I141: 2.44e-06
B142: Mercury Compounds | C142: =E142*$C$16 -> 2.7329311e-05 | D142: =E142*$C$18/2000 -> 3.2168585e-05 | E142: =I142*(1+'Key Inputs'!$Q$4) -> 0.000299 | F142: lb/MMscf | G142: AP-42 Table 1.4-4, April 2026 | I142: 0.00026
B143: Nickel Compounds | C143: =E143*$C$16 -> 1.4190219e-06 | D143: =E143*$C$18/2000 -> 1.6702919e-06 | E143: =I143*(1+'Key Inputs'!$Q$4) -> 1.5525e-05 | F143: lb/MMscf | G143: AP-42 Table 1.4-4, April 2026 | I143: 1.35e-05
B144: Selenium Compounds | C144: =E144*$C$16 -> 1.6187361e-08 | D144: =E144*$C$18/2000 -> 1.90537e-08 | E144: =I144*(1+'Key Inputs'!$Q$4) -> 1.771e-07 | F144: lb/MMscf | G144: AP-42 Table 1.4-4, April 2026 | I144: 1.54e-07
...

Sheet Air Toxics -->

Sheet Toxics Summary
B4: ='Key Inputs'!B4 -> Company Name: | C4: ='Key Inputs'!C4 -> U. S. Steel Corp.
B5: ='Key Inputs'!B5 -> Site Name: | C5: ='Key Inputs'!C5 -> Irvin Plant
B6: ='Key Inputs'!B6 -> Description: | C6: ='Key Inputs'!C6 -> Boiler Installation Permit
B8: =CONCATENATE("TABLE ",_xlfn.SHEET()-3,". Air Toxics Emissions Summary") -> TABLE 5. Air Toxics Emissions Summary
C9: Boiler 1 | D9: Boiler 2 | E9: Boiler 3 | F9: Boiler 4 | G9: Boiler 5
B10: Hazardous Air Pollutant Type | C10: Projected Actual Emissions (lb/yr) | G10: ACHD De Minimis Thresholds (lb/yr) | H10: Above De Minimis
C11: Emissions Change from Boiler 3 | D11: Emissions Change from Boiler 4 | E11: Emissions From New Boiler 5 | F11: Total from the Project
B12: HAP Metals | C12: =SUMIFS($G$106:$G$222,$C$106:$C$222,$B12,$A$106:$A$222,E$9)-SUMIFS($G$24:$G$101,$C$24:$C$101,$B12,$A$24:$A$101,E$9) -> -0.20937845 | D12: =SUMIFS($G$106:$G$222,$C$106:$C$222,$B12,$A$106:$A$222,F$9)-SUMIFS($G$24:$G$101,$C$24:$C$101,$B12,$A$24:$A$101,F$9) -> -0.20937845 | E12: =SUMIFS($G$106:$G$222,$C$106:$C$222,$B12,$A$106:$A$222,G$9)-SUMIFS($G$24:$G$101,$C$24:$C$101,$B12,$A$24:$A$101,G$9) -> 0.13214855 | F12: =SUM(C12:E12) -> -0.28660836 | G12: 20 | H12: =IF(F12>G12,"Yes","No") -> No
B13: Other Toxics | C13: =SUMIFS($G$106:$G$222,$C$106:$C$222,$B13,$A$106:$A$222,E$9)-SUMIFS($G$24:$G$101,$C$24:$C$101,$B13,$A$24:$A$101,E$9) -> -5323.4128 | D13: =SUMIFS($G$106:$G$222,$C$106:$C$222,$B13,$A$106:$A$222,F$9)-SUMIFS($G$24:$G$101,$C$24:$C$101,$B13,$A$24:$A$101,F$9) -> -5323.4128 | E13: =SUMIFS($G$106:$G$222,$C$106:$C$222,$B13,$A$106:$A$222,G$9)-SUMIFS($G$24:$G$101,$C$24:$C$101,$B13,$A$24:$A$101,G$9) -> 6973.8103 | F13: =SUM(C13:E13) -> -3673.0153 | G13: 500 | H13: =IF(F13>G13,"Yes","No") -> No
B14: Mercury | C14: =SUMIFS($G$106:$G$222,$C$106:$C$222,$B14,$A$106:$A$222,E$9)-SUMIFS($G$24:$G$101,$C$24:$C$101,$B14,$A$24:$A$101,E$9) -> -0.10193693 | D14: =SUMIFS($G$106:$G$222,$C$106:$C$222,$B14,$A$106:$A$222,F$9)-SUMIFS($G$24:$G$101,$C$24:$C$101,$B14,$A$24:$A$101,F$9) -> -0.10193693 | E14: =SUMIFS($G$106:$G$222,$C$106:$C$222,$B14,$A$106:$A$222,G$9)-SUMIFS($G$24:$G$101,$C$24:$C$101,$B14,$A$24:$A$101,G$9) -> 0.064337169 | F14: =SUM(C14:E14) -> -0.13953669 | G14: 20 | H14: =IF(F14>G14,"Yes","No") -> No
B15: POM | C15: =SUMIFS($G$106:$G$222,$C$106:$C$222,$B15,$A$106:$A$222,E$9)-SUMIFS($G$24:$G$101,$C$24:$C$101,$B15,$A$24:$A$101,E$9) -> -0.47858318 | D15: =SUMIFS($G$106:$G$222,$C$106:$C$222,$B15,$A$106:$A$222,F$9)-SUMIFS($G$24:$G$101,$C$24:$C$101,$B15,$A$24:$A$101,F$9) -> -0.47858318 | E15: =SUMIFS($G$106:$G$222,$C$106:$C$222,$B15,$A$106:$A$222,G$9)-SUMIFS($G$24:$G$101,$C$24:$C$101,$B15,$A$24:$A$101,G$9) -> 0.30205625 | F15: =SUM(C15:E15) -> -0.65511011 | G15: 20 | H15: =IF(F15>G15,"Yes","No") -> No
B16: Dioxin | C16: =SUMIFS($G$106:$G$222,$C$106:$C$222,$B16,$A$106:$A$222,E$9)-SUMIFS($G$24:$G$101,$C$24:$C$101,$B16,$A$24:$A$101,E$9) -> 0 | D16: =SUMIFS($G$106:$G$222,$C$106:$C$222,$B16,$A$106:$A$222,F$9)-SUMIFS($G$24:$G$101,$C$24:$C$101,$B16,$A$24:$A$101,F$9) -> 0 | E16: =SUMIFS($G$106:$G$222,$C$106:$C$222,$B16,$A$106:$A$222,G$9)-SUMIFS($G$24:$G$101,$C$24:$C$101,$B16,$A$24:$A$101,G$9) -> 0 | F16: =SUM(C16:E16) -> 0 | G16: 0.02 | H16: =IF(F16>G16,"Yes","No") -> No
B17: Furans | C17: =SUMIFS($G$106:$G$222,$C$106:$C$222,$B17,$A$106:$A$222,E$9)-SUMIFS($G$24:$G$101,$C$24:$C$101,$B17,$A$24:$A$101,E$9) -> 0 | D17: =SUMIFS($G$106:$G$222,$C$106:$C$222,$B17,$A$106:$A$222,F$9)-SUMIFS($G$24:$G$101,$C$24:$C$101,$B17,$A$24:$A$101,F$9) -> 0 | E17: =SUMIFS($G$106:$G$222,$C$106:$C$222,$B17,$A$106:$A$222,G$9)-SUMIFS($G$24:$G$101,$C$24:$C$101,$B17,$A$24:$A$101,G$9) -> 0 | F17: =SUM(C17:E17) -> 0 | G17: 0.02 | H17: =IF(F17>G17,"Yes","No") -> No
B18: PCBs | C18: =SUMIFS($G$106:$G$222,$C$106:$C$222,$B18,$A$106:$A$222,E$9)-SUMIFS($G$24:$G$101,$C$24:$C$101,$B18,$A$24:$A$101,E$9) -> 0 | D18: =SUMIFS($G$106:$G$222,$C$106:$C$222,$B18,$A$106:$A$222,F$9)-SUMIFS($G$24:$G$101,$C$24:$C$101,$B18,$A$24:$A$101,F$9) -> 0 | E18: =SUMIFS($G$106:$G$222,$C$106:$C$222,$B18,$A$106:$A$222,G$9)-SUMIFS($G$24:$G$101,$C$24:$C$101,$B18,$A$24:$A$101,G$9) -> 0 | F18: =SUM(C18:E18) -> 0 | G18: 20 | H18: =IF(F18>G18,"Yes","No") -> No
B21: Original PTE Sources Air Toxics Emissions
B22: Pollutant | C22: Classification | D22: Emission Factor | E22: Units | F22: Maximum Potential Emissions (aggregate) | I22: Data Source
F23: lbs/hr | G23: lbs/yr | H23: tpy
B24: Boiler 3 Original PTE
A25: Boiler 3 | B25: 2-Methylnaphthalene | C25: Other Toxics | D25: 2.76e-05 | E25: lb/MMscf | F25: =_xlfn.XLOOKUP($B25,'12c. Boiler 3 (B003)'!$B$24:$B$84,'12c. Boiler 3 (B003)'!$C$24:$C$84) -> 1.074151e-06 | G25: =H25*2000 -> 0.0094095627 | H25: =_xlfn.XLOOKUP($B25,'12c. Boiler 3 (B003)'!$B$24:$B$84,'12c. Boiler 3 (B003)'!$D$24:$D$84) -> 4.7047814e-06 | I25: AP-42 Table 1.4-3, April 2026
A26: Boiler 3 | B26: 3-Methylchloranthrene | C26: Other Toxics | D26: 2.07e-06 | E26: lb/MMscf | F26: =_xlfn.XLOOKUP($B26,'12c. Boiler 3 (B003)'!$B$24:$B$84,'12c. Boiler 3 (B003)'!$C$24:$C$84) -> 8.0561325e-08 | G26: =H26*2000 -> 0.0007057172 | H26: =_xlfn.XLOOKUP($B26,'12c. Boiler 3 (B003)'!$B$24:$B$84,'12c. Boiler 3 (B003)'!$D$24:$D$84) -> 3.528586e-07 | I26: AP-42 Table 1.4-3, April 2026
A27: Boiler 3 | B27: 7,12-Dimethylbenz(a)anthracene | C27: Other Toxics | D27: 1.84e-05 | E27: lb/MMscf | F27: =_xlfn.XLOOKUP($B27,'12c. Boiler 3 (B003)'!$B$24:$B$84,'12c. Boiler 3 (B003)'!$C$24:$C$84) -> 7.1610066e-07 | G27: =H27*2000 -> 0.0062730418 | H27: =_xlfn.XLOOKUP($B27,'12c. Boiler 3 (B003)'!$B$24:$B$84,'12c. Boiler 3 (B003)'!$D$24:$D$84) -> 3.1365209e-06 | I27: AP-42 Table 1.4-3, April 2026
A28: Boiler 3 | B28: Acenaphthene | C28: Other Toxics | D28: 2.07e-06 | E28: lb/MMscf | F28: =_xlfn.XLOOKUP($B28,'12c. Boiler 3 (B003)'!$B$24:$B$84,'12c. Boiler 3 (B003)'!$C$24:$C$84) -> 8.0561325e-08 | G28: =H28*2000 -> 0.0007057172 | H28: =_xlfn.XLOOKUP($B28,'12c. Boiler 3 (B003)'!$B$24:$B$84,'12c. Boiler 3 (B003)'!$D$24:$D$84) -> 3.528586e-07 | I28: AP-42 Table 1.4-3, April 2026
A29: Boiler 3 | B29: Acenaphthylene | C29: Other Toxics | D29: 2.07e-06 | E29: lb/MMscf | F29: =_xlfn.XLOOKUP($B29,'12c. Boiler 3 (B003)'!$B$24:$B$84,'12c. Boiler 3 (B003)'!$C$24:$C$84) -> 8.0561325e-08 | G29: =H29*2000 -> 0.0007057172 | H29: =_xlfn.XLOOKUP($B29,'12c. Boiler 3 (B003)'!$B$24:$B$84,'12c. Boiler 3 (B003)'!$D$24:$D$84) -> 3.528586e-07 | I29: AP-42 Table 1.4-3, April 2026
A30: Boiler 3 | B30: Anthracene | C30: Other Toxics | D30: 2.76e-06 | E30: lb/MMscf | F30: =_xlfn.XLOOKUP($B30,'12c. Boiler 3 (B003)'!$B$24:$B$84,'12c. Boiler 3 (B003)'!$C$24:$C$84) -> 1.074151e-07 | G30: =H30*2000 -> 0.00094095627 | H30: =_xlfn.XLOOKUP($B30,'12c. Boiler 3 (B003)'!$B$24:$B$84,'12c. Boiler 3 (B003)'!$D$24:$D$84) -> 4.7047814e-07 | I30: AP-42 Table 1.4-3, April 2026
A31: Boiler 3 | B31: Benz(a)anthracene | C31: POM | D31: 2.07e-06 | E31: lb/MMscf | F31: =_xlfn.XLOOKUP($B31,'12c. Boiler 3 (B003)'!$B$24:$B$84,'12c. Boiler 3 (B003)'!$C$24:$C$84) -> 8.0561325e-08 | G31: =H31*2000 -> 0.0007057172 | H31: =_xlfn.XLOOKUP($B31,'12c. Boiler 3 (B003)'!$B$24:$B$84,'12c. Boiler 3 (B003)'!$D$24:$D$84) -> 3.528586e-07 | I31: AP-42 Table 1.4-3, April 2026
A32: Boiler 3 | B32: Benzene | C32: Other Toxics | D32: 0.023 | E32: lb/MMscf | F32: =_xlfn.XLOOKUP($B32,'12c. Boiler 3 (B003)'!$B$24:$B$84,'12c. Boiler 3 (B003)'!$C$24:$C$84) -> 0.0018698456 | G32: =H32*2000 -> 16.379848 | H32: =_xlfn.XLOOKUP($B32,'12c. Boiler 3 (B003)'!$B$24:$B$84,'12c. Boiler 3 (B003)'!$D$24:$D$84) -> 0.0081899238 | I32: AP-42 Table 1.4-3, April 2026
A33: Boiler 3 | B33: Benzo(a)pyrene | C33: POM | D33: 1.38e-06 | E33: lb/MMscf | F33: =_xlfn.XLOOKUP($B33,'12c. Boiler 3 (B003)'!$B$24:$B$84,'12c. Boiler 3 (B003)'!$C$24:$C$84) -> 5.370755e-08 | G33: =H33*2000 -> 0.00047047814 | H33: =_xlfn.XLOOKUP($B33,'12c. Boiler 3 (B003)'!$B$24:$B$84,'12c. Boiler 3 (B003)'!$D$24:$D$84) -> 2.3523907e-07 | I33: AP-42 Table 1.4-3, April 2026
A34: Boiler 3 | B34: Benzo(b)fluoranthene | C34: POM | D34: 2.07e-06 | E34: lb/MMscf | F34: =_xlfn.XLOOKUP($B34,'12c. Boiler 3 (B003)'!$B$24:$B$84,'12c. Boiler 3 (B003)'!$C$24:$C$84) -> 8.0561325e-08 | G34: =H34*2000 -> 0.0007057172 | H34: =_xlfn.XLOOKUP($B34,'12c. Boiler 3 (B003)'!$B$24:$B$84,'12c. Boiler 3 (B003)'!$D$24:$D$84) -> 3.528586e-07 | I34: AP-42 Table 1.4-3, April 2026
A35: Boiler 3 | B35: Benzo(g,h,i)perylene | C35: POM | D35: 1.38e-06 | E35: lb/MMscf | F35: =_xlfn.XLOOKUP($B35,'12c. Boiler 3 (B003)'!$B$24:$B$84,'12c. Boiler 3 (B003)'!$C$24:$C$84) -> 5.370755e-08 | G35: =H35*2000 -> 0.00047047814 | H35: =_xlfn.XLOOKUP($B35,'12c. Boiler 3 (B003)'!$B$24:$B$84,'12c. Boiler 3 (B003)'!$D$24:$D$84) -> 2.3523907e-07 | I35: AP-42 Table 1.4-3, April 2026
A36: Boiler 3 | B36: Benzo(k)fluoranthene | C36: POM | D36: 2.07e-06 | E36: lb/MMscf | F36: =_xlfn.XLOOKUP($B36,'12c. Boiler 3 (B003)'!$B$24:$B$84,'12c. Boiler 3 (B003)'!$C$24:$C$84) -> 8.0561325e-08 | G36: =H36*2000 -> 0.0007057172 | H36: =_xlfn.XLOOKUP($B36,'12c. Boiler 3 (B003)'!$B$24:$B$84,'12c. Boiler 3 (B003)'!$D$24:$D$84) -> 3.528586e-07 | I36: AP-42 Table 1.4-3, April 2026
... A62: Boiler 3 | B62: Selenium Compounds | C62: HAP Metals | D62: 1.771e-07 | E62: lb/MMscf | F62: =_xlfn.XLOOKUP($B62,'12c. Boiler 3 (B003)'!$B$24:$B$84,'12c. Boiler 3 (B003)'!$C$24:$C$84) -> 6.8924689e-09 | G62: =H62*2000 -> 6.0378028e-05 | H62: =_xlfn.XLOOKUP($B62,'12c. Boiler 3 (B003)'!$B$24:$B$84,'12c. Boiler 3 (B003)'!$D$24:$D$84) -> 3.0189014e-08 | I62: AP-42 Table 1.4-4, April 2026
B63: Boiler 4 Original PTE
A64: Boiler 4 | B64: 2-Methylnaphthalene | C64: Other Toxics | D64: 2.76e-05 | E64: lb/MMscf | F64: =_xlfn.XLOOKUP($B64,'12d. Boiler 4 (B004)'!$B$24:$B$84,'12d. Boiler 4 (B004)'!$C$24:$C$84) -> 1.074151e-06 | G64: =H64*2000 -> 0.0094095627 | H64: =_xlfn.XLOOKUP($B64,'12d. Boiler 4 (B004)'!$B$24:$B$84,'12d. Boiler 4 (B004)'!$D$24:$D$84) -> 4.7047814e-06 | I64: AP-42 Table 1.4-3, April 2026
A65: Boiler 4 | B65: 3-Methylchloranthrene | C65: Other Toxics | D65: 2.07e-06 | E65: lb/MMscf | F65: =_xlfn.XLOOKUP($B65,'12d. Boiler 4 (B004)'!$B$24:$B$84,'12d. Boiler 4 (B004)'!$C$24:$C$84) -> 8.0561325e-08 | G65: =H65*2000 -> 0.0007057172 | H65: =_xlfn.XLOOKUP($B65,'12d. Boiler 4 (B004)'!$B$24:$B$84,'12d. Boiler 4 (B004)'!$D$24:$D$84) -> 3.528586e-07 | I65: AP-42 Table 1.4-3, April 2026
A66: Boiler 4 | B66: 7,12-Dimethylbenz(a)anthracene | C66: Other Toxics | D66: 1.84e-05 | E66: lb/MMscf | F66: =_xlfn.XLOOKUP($B66,'12d. Boiler 4 (B004)'!$B$24:$B$84,'12d. Boiler 4 (B004)'!$C$24:$C$84) -> 7.1610066e-07 | G66: =H66*2000 -> 0.0062730418 | H66: =_xlfn.XLOOKUP($B66,'12d. Boiler 4 (B004)'!$B$24:$B$84,'12d. Boiler 4 (B004)'!$D$24:$D$84) -> 3.1365209e-06 | I66: AP-42 Table 1.4-3, April 2026
A67: Boiler 4 | B67: Acenaphthene | C67: Other Toxics | D67: 2.07e-06 | E67: lb/MMscf | F67: =_xlfn.XLOOKUP($B67,'12d. Boiler 4 (B004)'!$B$24:$B$84,'12d. Boiler 4 (B004)'!$C$24:$C$84) -> 8.0561325e-08 | G67: =H67*2000 -> 0.0007057172 | H67: =_xlfn.XLOOKUP($B67,'12d. Boiler 4 (B004)'!$B$24:$B$84,'12d. Boiler 4 (B004)'!$D$24:$D$84) -> 3.528586e-07 | I67: AP-42 Table 1.4-3, April 2026
A68: Boiler 4 | B68: Acenaphthylene | C68: Other Toxics | D68: 2.07e-06 | E68: lb/MMscf | F68: =_xlfn.XLOOKUP($B68,'12d. Boiler 4 (B004)'!$B$24:$B$84,'12d. Boiler 4 (B004)'!$C$24:$C$84) -> 8.0561325e-08 | G68: =H68*2000 -> 0.0007057172 | H68: =_xlfn.XLOOKUP($B68,'12d. Boiler 4 (B004)'!$B$24:$B$84,'12d. Boiler 4 (B004)'!$D$24:$D$84) -> 3.528586e-07 | I68: AP-42 Table 1.4-3, April 2026 | M68: p
A69: Boiler 4 | B69: Anthracene | C69: Other Toxics | D69: 2.76e-06 | E69: lb/MMscf | F69: =_xlfn.XLOOKUP($B69,'12d. Boiler 4 (B004)'!$B$24:$B$84,'12d. Boiler 4 (B004)'!$C$24:$C$84) -> 1.074151e-07 | G69: =H69*2000 -> 0.00094095627 | H69: =_xlfn.XLOOKUP($B69,'12d. Boiler 4 (B004)'!$B$24:$B$84,'12d. Boiler 4 (B004)'!$D$24:$D$84) -> 4.7047814e-07 | I69: AP-42 Table 1.4-3, April 2026
A70: Boiler 4 | B70: Benz(a)anthracene | C70: POM | D70: 2.07e-06 | E70: lb/MMscf | F70: =_xlfn.XLOOKUP($B70,'12d. Boiler 4 (B004)'!$B$24:$B$84,'12d. Boiler 4 (B004)'!$C$24:$C$84) -> 8.0561325e-08 | G70: =H70*2000 -> 0.0007057172 | H70: =_xlfn.XLOOKUP($B70,'12d. Boiler 4 (B004)'!$B$24:$B$84,'12d. Boiler 4 (B004)'!$D$24:$D$84) -> 3.528586e-07 | I70: AP-42 Table 1.4-3, April 2026
A71: Boiler 4 | B71: Benzene | C71: Other Toxics | D71: 0.023 | E71: lb/MMscf | F71: =_xlfn.XLOOKUP($B71,'12d. Boiler 4 (B004)'!$B$24:$B$84,'12d. Boiler 4 (B004)'!$C$24:$C$84) -> 0.0018698456 | G71: =H71*2000 -> 16.379848 | H71: =_xlfn.XLOOKUP($B71,'12d. Boiler 4 (B004)'!$B$24:$B$84,'12d. Boiler 4 (B004)'!$D$24:$D$84) -> 0.0081899238 | I71: AP-42 Table 1.4-3, April 2026
A72: Boiler 4 | B72: Benzo(a)pyrene | C72: POM | D72: 1.38e-06 | E72: lb/MMscf | F72: =_xlfn.XLOOKUP($B72,'12d. Boiler 4 (B004)'!$B$24:$B$84,'12d. Boiler 4 (B004)'!$C$24:$C$84) -> 5.370755e-08 | G72: =H72*2000 -> 0.00047047814 | H72: =_xlfn.XLOOKUP($B72,'12d. Boiler 4 (B004)'!$B$24:$B$84,'12d. Boiler 4 (B004)'!$D$24:$D$84) -> 2.3523907e-07 | I72: AP-42 Table 1.4-3, April 2026
A73: Boiler 4 | B73: Benzo(b)fluoranthene | C73: POM | D73: 2.07e-06 | E73: lb/MMscf | F73: =_xlfn.XLOOKUP($B73,'12d. Boiler 4 (B004)'!$B$24:$B$84,'12d. Boiler 4 (B004)'!$C$24:$C$84) -> 8.0561325e-08 | G73: =H73*2000 -> 0.0007057172 | H73: =_xlfn.XLOOKUP($B73,'12d. Boiler 4 (B004)'!$B$24:$B$84,'12d. Boiler 4 (B004)'!$D$24:$D$84) -> 3.528586e-07 | I73: AP-42 Table 1.4-3, April 2026
A74: Boiler 4 | B74: Benzo(g,h,i)perylene | C74: POM | D74: 1.38e-06 | E74: lb/MMscf | F74: =_xlfn.XLOOKUP($B74,'12d. Boiler 4 (B004)'!$B$24:$B$84,'12d. Boiler 4 (B004)'!$C$24:$C$84) -> 5.370755e-08 | G74: =H74*2000 -> 0.00047047814 | H74: =_xlfn.XLOOKUP($B74,'12d. Boiler 4 (B004)'!$B$24:$B$84,'12d. Boiler 4 (B004)'!$D$24:$D$84) -> 2.3523907e-07 | I74: AP-42 Table 1.4-3, April 2026
A75: Boiler 4 | B75: Benzo(k)fluoranthene | C75: POM | D75: 2.07e-06 | E75: lb/MMscf | F75: =_xlfn.XLOOKUP($B75,'12d. Boiler 4 (B004)'!$B$24:$B$84,'12d. Boiler 4 (B004)'!$C$24:$C$84) -> 8.0561325e-08 | G75: =H75*2000 -> 0.0007057172 | H75: =_xlfn.XLOOKUP($B75,'12d. Boiler 4 (B004)'!$B$24:$B$84,'12d. Boiler 4 (B004)'!$D$24:$D$84) -> 3.528586e-07 | I75: AP-42 Table 1.4-3, April 2026
A76: Boiler 4 | B76: Chrysene | C76: POM | D76: 2.07e-06 | E76: lb/MMscf | F76: =_xlfn.XLOOKUP($B76,'12d. Boiler 4 (B004)'!$B$24:$B$84,'12d. Boiler 4 (B004)'!$C$24:$C$84) -> 8.0561325e-08 | G76: =H76*2000 -> 0.0007057172 | H76: =_xlfn.XLOOKUP($B76,'12d. Boiler 4 (B004)'!$B$24:$B$84,'12d. Boiler 4 (B004)'!$D$24:$D$84) -> 3.528586e-07 | I76: AP-42 Table 1.4-3, April 2026
A77: Boiler 4 | B77: Dibenzo(a,h) anthracene | C77: POM | D77: 1.38e-06 | E77: lb/MMscf | F77: =_xlfn.XLOOKUP($B77,'12d. Boiler 4 (B004)'!$B$24:$B$84,'12d. Boiler 4 (B004)'!$C$24:$C$84) -> 5.370755e-08 | G77: =H77*2000 -> 0.00047047814 | H77: =_xlfn.XLOOKUP($B77,'12d. Boiler 4 (B004)'!$B$24:$B$84,'12d. Boiler 4 (B004)'!$D$24:$D$84) -> 2.3523907e-07 | I77: AP-42 Table 1.4-3, April 2026
A78: Boiler 4 | B78: Dichlorobenzene | C78: POM | D78: 0.00138 | E78: lb/MMscf | F78: =_xlfn.XLOOKUP($B78,'12d. Boiler 4 (B004)'!$B$24:$B$84,'12d. Boiler 4 (B004)'!$C$24:$C$84) -> 5.370755e-05 | G78: =H78*2000 -> 0.47047814 | H78: =_xlfn.XLOOKUP($B78,'12d. Boiler 4 (B004)'!$B$24:$B$84,'12d. Boiler 4 (B004)'!$D$24:$D$84) -> 0.00023523907 | I78: AP-42 Table 1.4-3, April 2026
A79: Boiler 4 | B79: Fluoranthene | C79: POM | D79: 3.45e-06 | E79: lb/MMscf | F79: =_xlfn.XLOOKUP($B79,'12d. Boiler 4 (B004)'!$B$24:$B$84,'12d. Boiler 4 (B004)'!$C$24:$C$84) -> 1.3426887e-07 | G79: =H79*2000 -> 0.0011761953 | H79: =_xlfn.XLOOKUP($B79,'12d. Boiler 4 (B004)'!$B$24:$B$84,'12d. Boiler 4 (B004)'!$D$24:$D$84) -> 5.8809767e-07 | I79: AP-42 Table 1.4-3, April 2026
A80: Boiler 4 | B80: Fluorene | C80: POM | D80: 3.22e-06 | E80: lb/MMscf | F80: =_xlfn.XLOOKUP($B80,'12d. Boiler 4 (B004)'!$B$24:$B$84,'12d. Boiler 4 (B004)'!$C$24:$C$84) -> 1.2531762e-07 | G80: =H80*2000 -> 0.0010977823 | H80: =_xlfn.XLOOKUP($B80,'12d. Boiler 4 (B004)'!$B$24:$B$84,'12d. Boiler 4 (B004)'!$D$24:$D$84) -> 5.4889116e-07 | I80: AP-42 Table 1.4-3, April 2026
... A101: Boiler 4 | B101: Selenium Compounds | C101: HAP Metals | D101: 1.771e-07 | E101: lb/MMscf | F101: =_xlfn.XLOOKUP($B101,'12d. Boiler 4 (B004)'!$B$24:$B$84,'12d. Boiler 4 (B004)'!$C$24:$C$84) -> 6.8924689e-09 | G101: =H101*2000 -> 6.0378028e-05 | H101: =_xlfn.XLOOKUP($B101,'12d. Boiler 4 (B004)'!$B$24:$B$84,'12d. Boiler 4 (B004)'!$D$24:$D$84) -> 3.0189014e-08 | I101: AP-42 Table 1.4-4, April 2026
B103: New PTE Sources Air Toxics Emissions
B104: Pollutant | C104: Classification | D104: Emission Factor | E104: Units | F104: Maximum Potential Emissions (aggregate) | I104: Data Source
F105: lbs/hr | G105: lbs/yr | H105: tpy
B106: Boiler 3 New PTE
A107: Boiler 3 | B107: 2-Methylnaphthalene | C107: Other Toxics | D107: 2.76e-05 | E107: lb/MMscf | F107: 0 | G107: 0 | H107: 0 | I107: AP-42 Table 1.4-3, April 2026
A108: Boiler 3 | B108: 3-Methylchloranthrene | C108: Other Toxics | D108: 2.07e-06 | E108: lb/MMscf | F108: 0 | G108: 0 | H108: 0 | I108: AP-42 Table 1.4-3, April 2026
A109: Boiler 3 | B109: 7,12-Dimethylbenz(a)anthracene | C109: Other Toxics | D109: 1.84e-05 | E109: lb/MMscf | F109: 0 | G109: 0 | H109: 0 | I109: AP-42 Table 1.4-3, April 2026
A110: Boiler 3 | B110: Acenaphthene | C110: Other Toxics | D110: 2.07e-06 | E110: lb/MMscf | F110: 0 | G110: 0 | H110: 0 | I110: AP-42 Table 1.4-3, April 2026
A111: Boiler 3 | B111: Acenaphthylene | C111: Other Toxics | D111: 2.07e-06 | E111: lb/MMscf | F111: 0 | G111: 0 | H111: 0 | I111: AP-42 Table 1.4-3, April 2026
A112: Boiler 3 | B112: Anthracene | C112: Other Toxics | D112: 2.76e-06 | E112: lb/MMscf | F112: 0 | G112: 0 | H112: 0 | I112: AP-42 Table 1.4-3, April 2026
A113: Boiler 3 | B113: Benz(a)anthracene | C113: POM | D113: 2.07e-06 | E113: lb/MMscf | F113: 0 | G113: 0 | H113: 0 | I113: AP-42 Table 1.4-3, April 2026
A114: Boiler 3 | B114: Benzene | C114: Other Toxics | D114: 0.023 | E114: lb/MMscf | F114: 0 | G114: 0 | H114: 0 | I114: AP-42 Table 1.4-3, April 2026
A115: Boiler 3 | B115: Benzo(a)pyrene | C115: POM | D115: 1.38e-06 | E115: lb/MMscf | F115: 0 | G115: 0 | H115: 0 | I115: AP-42 Table 1.4-3, April 2026
A116: Boiler 3 | B116: Benzo(b)fluoranthene | C116: POM | D116: 2.07e-06 | E116: lb/MMscf | F116: 0 | G116: 0 | H116: 0 | I116: AP-42 Table 1.4-3, April 2026
A117: Boiler 3 | B117: Benzo(g,h,i)perylene | C117: POM | D117: 1.38e-06 | E117: lb/MMscf | F117: 0 | G117: 0 | H117: 0 | I117: AP-42 Table 1.4-3, April 2026
A118: Boiler 3 | B118: Benzo(k)fluoranthene | C118: POM | D118: 2.07e-06 | E118: lb/MMscf | F118: 0 | G118: 0 | H118: 0 | I118: AP-42 Table 1.4-3, April 2026
... A144: Boiler 3 | B144: Selenium Compounds | C144: HAP Metals | D144: 1.771e-07 | E144: lb/MMscf | F144: 0 | G144: 0 | H144: 0 | I144: AP-42 Table 1.4-4, April 2026
B145: Boiler 4 New PTE
A146: Boiler 4 | B146: 2-Methylnaphthalene | C146: Other Toxics | D146: 2.76e-05 | E146: lb/MMscf | F146: 0 | G146: 0 | H146: 0 | I146: AP-42 Table 1.4-3, April 2026
A147: Boiler 4 | B147: 3-Methylchloranthrene | C147: Other Toxics | D147: 2.07e-06 | E147: lb/MMscf | F147: 0 | G147: 0 | H147: 0 | I147: AP-42 Table 1.4-3, April 2026
A148: Boiler 4 | B148: 7,12-Dimethylbenz(a)anthracene | C148: Other Toxics | D148: 1.84e-05 | E148: lb/MMscf | F148: 0 | G148: 0 | H148: 0 | I148: AP-42 Table 1.4-3, April 2026
A149: Boiler 4 | B149: Acenaphthene | C149: Other Toxics | D149: 2.07e-06 | E149: lb/MMscf | F149: 0 | G149: 0 | H149: 0 | I149: AP-42 Table 1.4-3, April 2026
A150: Boiler 4 | B150: Acenaphthylene | C150: Other Toxics | D150: 2.07e-06 | E150: lb/MMscf | F150: 0 | G150: 0 | H150: 0 | I150: AP-42 Table 1.4-3, April 2026
A151: Boiler 4 | B151: Anthracene | C151: Other Toxics | D151: 2.76e-06 | E151: lb/MMscf | F151: 0 | G151: 0 | H151: 0 | I151: AP-42 Table 1.4-3, April 2026
A152: Boiler 4 | B152: Benz(a)anthracene | C152: POM | D152: 2.07e-06 | E152: lb/MMscf | F152: 0 | G152: 0 | H152: 0 | I152: AP-42 Table 1.4-3, April 2026
A153: Boiler 4 | B153: Benzene | C153: Other Toxics | D153: 0.023 | E153: lb/MMscf | F153: 0 | G153: 0 | H153: 0 | I153: AP-42 Table 1.4-3, April 2026
A154: Boiler 4 | B154: Benzo(a)pyrene | C154: POM | D154: 1.38e-06 | E154: lb/MMscf | F154: 0 | G154: 0 | H154: 0 | I154: AP-42 Table 1.4-3, April 2026
A155: Boiler 4 | B155: Benzo(b)fluoranthene | C155: POM | D155: 2.07e-06 | E155: lb/MMscf | F155: 0 | G155: 0 | H155: 0 | I155: AP-42 Table 1.4-3, April 2026
A156: Boiler 4 | B156: Benzo(g,h,i)perylene | C156: POM | D156: 1.38e-06 | E156: lb/MMscf | F156: 0 | G156: 0 | H156: 0 | I156: AP-42 Table 1.4-3, April 2026
A157: Boiler 4 | B157: Benzo(k)fluoranthene | C157: POM | D157: 2.07e-06 | E157: lb/MMscf | F157: 0 | G157: 0 | H157: 0 | I157: AP-42 Table 1.4-3, April 2026
... A183: Boiler 4 | B183: Selenium Compounds | C183: HAP Metals | D183: 1.771e-07 | E183: lb/MMscf | F183: 0 | G183: 0 | H183: 0 | I183: AP-42 Table 1.4-4, April 2026
B184: Boiler 5 PTE
A185: Boiler 5 | B185: 2-Methylnaphthalene | C185: Other Toxics | D185: 2.76e-05 | E185: lb/MMscf | F185: =_xlfn.XLOOKUP($B185,'NEW Boiler 5 PTE (B005)'!$B$24:$B$84,'NEW Boiler 5 PTE (B005)'!$C$24:$C$84) -> 2.5227056e-06 | G185: =H185*2000 -> 0.0059388156 | H185: =_xlfn.XLOOKUP($B185,'NEW Boiler 5 PTE (B005)'!$B$24:$B$84,'NEW Boiler 5 PTE (B005)'!$D$24:$D$84) -> 2.9694078e-06 | I185: AP-42 Table 1.4-3, April 2026
A186: Boiler 5 | B186: 3-Methylchloranthrene | C186: Other Toxics | D186: 2.07e-06 | E186: lb/MMscf | F186: =_xlfn.XLOOKUP($B186,'NEW Boiler 5 PTE (B005)'!$B$24:$B$84,'NEW Boiler 5 PTE (B005)'!$C$24:$C$84) -> 1.8920292e-07 | G186: =H186*2000 -> 0.00044541117 | H186: =_xlfn.XLOOKUP($B186,'NEW Boiler 5 PTE (B005)'!$B$24:$B$84,'NEW Boiler 5 PTE (B005)'!$D$24:$D$84) -> 2.2270559e-07 | I186: AP-42 Table 1.4-3, April 2026
A187: Boiler 5 | B187: 7,12-Dimethylbenz(a)anthracene | C187: Other Toxics | D187: 1.84e-05 | E187: lb/MMscf | F187: =_xlfn.XLOOKUP($B187,'NEW Boiler 5 PTE (B005)'!$B$24:$B$84,'NEW Boiler 5 PTE (B005)'!$C$24:$C$84) -> 1.6818037e-06 | G187: =H187*2000 -> 0.0039592104 | H187: =_xlfn.XLOOKUP($B187,'NEW Boiler 5 PTE (B005)'!$B$24:$B$84,'NEW Boiler 5 PTE (B005)'!$D$24:$D$84) -> 1.9796052e-06 | I187: AP-42 Table 1.4-3, April 2026
A188: Boiler 5 | B188: Acenaphthene | C188: Other Toxics | D188: 2.07e-06 | E188: lb/MMscf | F188: =_xlfn.XLOOKUP($B188,'NEW Boiler 5 PTE (B005)'!$B$24:$B$84,'NEW Boiler 5 PTE (B005)'!$C$24:$C$84) -> 1.8920292e-07 | G188: =H188*2000 -> 0.00044541117 | H188: =_xlfn.XLOOKUP($B188,'NEW Boiler 5 PTE (B005)'!$B$24:$B$84,'NEW Boiler 5 PTE (B005)'!$D$24:$D$84) -> 2.2270559e-07 | I188: AP-42 Table 1.4-3, April 2026
A189: Boiler 5 | B189: Acenaphthylene | C189: Other Toxics | D189: 2.07e-06 | E189: lb/MMscf | F189: =_xlfn.XLOOKUP($B189,'NEW Boiler 5 PTE (B005)'!$B$24:$B$84,'NEW Boiler 5 PTE (B005)'!$C$24:$C$84) -> 1.8920292e-07 | G189: =H189*2000 -> 0.00044541117 | H189: =_xlfn.XLOOKUP($B189,'NEW Boiler 5 PTE (B005)'!$B$24:$B$84,'NEW Boiler 5 PTE (B005)'!$D$24:$D$84) -> 2.2270559e-07 | I189: AP-42 Table 1.4-3, April 2026
A190: Boiler 5 | B190: Anthracene | C190: Other Toxics | D190: 2.76e-06 | E190: lb/MMscf | F190: =_xlfn.XLOOKUP($B190,'NEW Boiler 5 PTE (B005)'!$B$24:$B$84,'NEW Boiler 5 PTE (B005)'!$C$24:$C$84) -> 2.5227056e-07 | G190: =H190*2000 -> 0.00059388156 | H190: =_xlfn.XLOOKUP($B190,'NEW Boiler 5 PTE (B005)'!$B$24:$B$84,'NEW Boiler 5 PTE (B005)'!$D$24:$D$84) -> 2.9694078e-07 | I190: AP-42 Table 1.4-3, April 2026
A191: Boiler 5 | B191: Benz(a)anthracene | C191: POM | D191: 2.07e-06 | E191: lb/MMscf | F191: =_xlfn.XLOOKUP($B191,'NEW Boiler 5 PTE (B005)'!$B$24:$B$84,'NEW Boiler 5 PTE (B005)'!$C$24:$C$84) -> 1.8920292e-07 | G191: =H191*2000 -> 0.00044541117 | H191: =_xlfn.XLOOKUP($B191,'NEW Boiler 5 PTE (B005)'!$B$24:$B$84,'NEW Boiler 5 PTE (B005)'!$D$24:$D$84) -> 2.2270559e-07 | I191: AP-42 Table 1.4-3, April 2026
A192: Boiler 5 | B192: Benzene | C192: Other Toxics | D192: 0.023 | E192: lb/MMscf | F192: =_xlfn.XLOOKUP($B192,'NEW Boiler 5 PTE (B005)'!$B$24:$B$84,'NEW Boiler 5 PTE (B005)'!$C$24:$C$84) -> 0.0043914403 | G192: =H192*2000 -> 28.612279 | H192: =_xlfn.XLOOKUP($B192,'NEW Boiler 5 PTE (B005)'!$B$24:$B$84,'NEW Boiler 5 PTE (B005)'!$D$24:$D$84) -> 0.014306139 | I192: AP-42 Table 1.4-3, April 2026
A193: Boiler 5 | B193: Benzo(a)pyrene | C193: POM | D193: 1.38e-06 | E193: lb/MMscf | F193: =_xlfn.XLOOKUP($B193,'NEW Boiler 5 PTE (B005)'!$B$24:$B$84,'NEW Boiler 5 PTE (B005)'!$C$24:$C$84) -> 1.2613528e-07 | G193: =H193*2000 -> 0.00029694078 | H193: =_xlfn.XLOOKUP($B193,'NEW Boiler 5 PTE (B005)'!$B$24:$B$84,'NEW Boiler 5 PTE (B005)'!$D$24:$D$84) -> 1.4847039e-07 | I193: AP-42 Table 1.4-3, April 2026
A194: Boiler 5 | B194: Benzo(b)fluoranthene | C194: POM | D194: 2.07e-06 | E194: lb/MMscf | F194: =_xlfn.XLOOKUP($B194,'NEW Boiler 5 PTE (B005)'!$B$24:$B$84,'NEW Boiler 5 PTE (B005)'!$C$24:$C$84) -> 1.8920292e-07 | G194: =H194*2000 -> 0.00044541117 | H194: =_xlfn.XLOOKUP($B194,'NEW Boiler 5 PTE (B005)'!$B$24:$B$84,'NEW Boiler 5 PTE (B005)'!$D$24:$D$84) -> 2.2270559e-07 | I194: AP-42 Table 1.4-3, April 2026
A195: Boiler 5 | B195: Benzo(g,h,i)perylene | C195: POM | D195: 1.38e-06 | E195: lb/MMscf | F195: =_xlfn.XLOOKUP($B195,'NEW Boiler 5 PTE (B005)'!$B$24:$B$84,'NEW Boiler 5 PTE (B005)'!$C$24:$C$84) -> 1.2613528e-07 | G195: =H195*2000 -> 0.00029694078 | H195: =_xlfn.XLOOKUP($B195,'NEW Boiler 5 PTE (B005)'!$B$24:$B$84,'NEW Boiler 5 PTE (B005)'!$D$24:$D$84) -> 1.4847039e-07 | I195: AP-42 Table 1.4-3, April 2026
A196: Boiler 5 | B196: Benzo(k)fluoranthene | C196: POM | D196: 2.07e-06 | E196: lb/MMscf | F196: =_xlfn.XLOOKUP($B196,'NEW Boiler 5 PTE (B005)'!$B$24:$B$84,'NEW Boiler 5 PTE (B005)'!$C$24:$C$84) -> 1.8920292e-07 | G196: =H196*2000 -> 0.00044541117 | H196: =_xlfn.XLOOKUP($B196,'NEW Boiler 5 PTE (B005)'!$B$24:$B$84,'NEW Boiler 5 PTE (B005)'!$D$24:$D$84) -> 2.2270559e-07 | I196: AP-42 Table 1.4-3, April 2026
... A222: Boiler 5 | B222: Selenium Compounds | C222: HAP Metals | D222: 1.771e-07 | E222: lb/MMscf | F222: =_xlfn.XLOOKUP($B222,'NEW Boiler 5 PTE (B005)'!$B$24:$B$84,'NEW Boiler 5 PTE (B005)'!$C$24:$C$84) -> 1.6187361e-08 | G222: =H222*2000 -> 3.81074e-05 | H222: =_xlfn.XLOOKUP($B222,'NEW Boiler 5 PTE (B005)'!$B$24:$B$84,'NEW Boiler 5 PTE (B005)'!$D$24:$D$84) -> 1.90537e-08 | I222: AP-42 Table 1.4-4, April 2026

Sheet Baseline-->

Sheet PM Simple
B4: Company Name: | C4: U. S. Steel
B5: Facility Name: | C5: Irvin Plant
B6: Project Description: | C6: Irvin Permitting
B10: Pollutant: | C10: PM (filt)
D12: Monthly Emissions (tons) | H12: 2-Year Average of Emissions (tons)
B13: Year | C13: Month | D13: Boiler #3 - COG | E13: Boiler #3 - NG | F13: Boiler #4 - COG | G13: Boiler #4 - NG | H13: Boiler #3 - COG | I13: Boiler #3 - NG | J13: Boiler #4 - COG | K13: Boiler #4 - NG
D14: COG (MCF) | E14: NAT GAS (MCF) | F14: COG (MCF) | G14: NAT GAS (MCF)
D15: #3 Boiler | E15: #3 Boiler | F15: #4 Boiler | G15: #4 Boiler
B16: 2020 | C16: January | D16: {=_xlfn.XLOOKUP($B16&D$15,'Gas Useage'!$A$4:$A$15&'Gas Useage'!$B$4:$B$15,_xlfn.XLOOKUP($C16&D$14,'Gas Useage'!$C$2:$AB$2&'Gas Useage'!$C$3:$AB$3,'Gas Useage'!$C$4:$AB$15))*$C$55/2000/1000+'PMCOND Simple'!D16} -> 0.075172578 | E16: {=_xlfn.XLOOKUP($B16&E$15,'Gas Useage'!$A$4:$A$15&'Gas Useage'!$B$4:$B$15,_xlfn.XLOOKUP($C16&E$14,'Gas Useage'!$C$2:$AB$2&'Gas Useage'!$C$3:$AB$3,'Gas Useage'!$C$4:$AB$15))*$C$55/2000/1000+'PMCOND Simple'!E16} -> 0.0066483475 | F16: {=_xlfn.XLOOKUP($B16&F$15,'Gas Useage'!$A$4:$A$15&'Gas Useage'!$B$4:$B$15,_xlfn.XLOOKUP($C16&F$14,'Gas Useage'!$C$2:$AB$2&'Gas Useage'!$C$3:$AB$3,'Gas Useage'!$C$4:$AB$15))*$C$55/2000/1000+'PMCOND Simple'!F16} -> 0.098411923 | G16: {=_xlfn.XLOOKUP($B16&G$15,'Gas Useage'!$A$4:$A$15&'Gas Useage'!$B$4:$B$15,_xlfn.XLOOKUP($C16&G$14,'Gas Useage'!$C$2:$AB$2&'Gas Useage'!$C$3:$AB$3,'Gas Useage'!$C$4:$AB$15))*$C$55/2000/1000+'PMCOND Simple'!G16} -> 0.0087036614 | H16: -- | I16: -- | J16: -- | K16: --
B17: 2020 | C17: February | D17: {=_xlfn.XLOOKUP($B17&D$15,'Gas Useage'!$A$4:$A$15&'Gas Useage'!$B$4:$B$15,_xlfn.XLOOKUP($C17&D$14,'Gas Useage'!$C$2:$AB$2&'Gas Useage'!$C$3:$AB$3,'Gas Useage'!$C$4:$AB$15))*$C$55/2000/1000+'PMCOND Simple'!D17} -> 0.12462028 | E17: {=_xlfn.XLOOKUP($B17&E$15,'Gas Useage'!$A$4:$A$15&'Gas Useage'!$B$4:$B$15,_xlfn.XLOOKUP($C17&E$14,'Gas Useage'!$C$2:$AB$2&'Gas Useage'!$C$3:$AB$3,'Gas Useage'!$C$4:$AB$15))*$C$55/2000/1000+'PMCOND Simple'!E17} -> 0.013796696 | F17: {=_xlfn.XLOOKUP($B17&F$15,'Gas Useage'!$A$4:$A$15&'Gas Useage'!$B$4:$B$15,_xlfn.XLOOKUP($C17&F$14,'Gas Useage'!$C$2:$AB$2&'Gas Useage'!$C$3:$AB$3,'Gas Useage'!$C$4:$AB$15))*$C$55/2000/1000+'PMCOND Simple'!F17} -> 0.10164013 | G17: {=_xlfn.XLOOKUP($B17&G$15,'Gas Useage'!$A$4:$A$15&'Gas Useage'!$B$4:$B$15,_xlfn.XLOOKUP($C17&G$14,'Gas Useage'!$C$2:$AB$2&'Gas Useage'!$C$3:$AB$3,'Gas Useage'!$C$4:$AB$15))*$C$55/2000/1000+'PMCOND Simple'!G17} -> 0.011252566 | H17: -- | I17: -- | J17: -- | K17: --
B18: 2020 | C18: March | D18: {=_xlfn.XLOOKUP($B18&D$15,'Gas Useage'!$A$4:$A$15&'Gas Useage'!$B$4:$B$15,_xlfn.XLOOKUP($C18&D$14,'Gas Useage'!$C$2:$AB$2&'Gas Useage'!$C$3:$AB$3,'Gas Useage'!$C$4:$AB$15))*$C$55/2000/1000+'PMCOND Simple'!D18} -> 0.127199 | E18: {=_xlfn.XLOOKUP($B18&E$15,'Gas Useage'!$A$4:$A$15&'Gas Useage'!$B$4:$B$15,_xlfn.XLOOKUP($C18&E$14,'Gas Useage'!$C$2:$AB$2&'Gas Useage'!$C$3:$AB$3,'Gas Useage'!$C$4:$AB$15))*$C$55/2000/1000+'PMCOND Simple'!E18} -> 0.014707963 | F18: {=_xlfn.XLOOKUP($B18&F$15,'Gas Useage'!$A$4:$A$15&'Gas Useage'!$B$4:$B$15,_xlfn.XLOOKUP($C18&F$14,'Gas Useage'!$C$2:$AB$2&'Gas Useage'!$C$3:$AB$3,'Gas Useage'!$C$4:$AB$15))*$C$55/2000/1000+'PMCOND Simple'!F18} -> 0.079066606 | G18: {=_xlfn.XLOOKUP($B18&G$15,'Gas Useage'!$A$4:$A$15&'Gas Useage'!$B$4:$B$15,_xlfn.XLOOKUP($C18&G$14,'Gas Useage'!$C$2:$AB$2&'Gas Useage'!$C$3:$AB$3,'Gas Useage'!$C$4:$AB$15))*$C$55/2000/1000+'PMCOND Simple'!G18} -> 0.0091424358 | H18: -- | I18: -- | J18: -- | K18: --
B19: 2020 | C19: April | D19: {=_xlfn.XLOOKUP($B19&D$15,'Gas Useage'!$A$4:$A$15&'Gas Useage'!$B$4:$B$15,_xlfn.XLOOKUP($C19&D$14,'Gas Useage'!$C$2:$AB$2&'Gas Useage'!$C$3:$AB$3,'Gas Useage'!$C$4:$AB$15))*$C$55/2000/1000+'PMCOND Simple'!D19} -> 0.049289412 | E19: {=_xlfn.XLOOKUP($B19&E$15,'Gas Useage'!$A$4:$A$15&'Gas Useage'!$B$4:$B$15,_xlfn.XLOOKUP($C19&E$14,'Gas Useage'!$C$2:$AB$2&'Gas Useage'!$C$3:$AB$3,'Gas Useage'!$C$4:$AB$15))*$C$55/2000/1000+'PMCOND Simple'!E19} -> 0.0058324555 | F19: {=_xlfn.XLOOKUP($B19&F$15,'Gas Useage'!$A$4:$A$15&'Gas Useage'!$B$4:$B$15,_xlfn.XLOOKUP($C19&F$14,'Gas Useage'!$C$2:$AB$2&'Gas Useage'!$C$3:$AB$3,'Gas Useage'!$C$4:$AB$15))*$C$55/2000/1000+'PMCOND Simple'!F19} -> 0.049454095 | G19: {=_xlfn.XLOOKUP($B19&G$15,'Gas Useage'!$A$4:$A$15&'Gas Useage'!$B$4:$B$15,_xlfn.XLOOKUP($C19&G$14,'Gas Useage'!$C$2:$AB$2&'Gas Useage'!$C$3:$AB$3,'Gas Useage'!$C$4:$AB$15))*$C$55/2000/1000+'PMCOND Simple'!G19} -> 0.0058519425 | H19: -- | I19: -- | J19: -- | K19: --
B20: 2020 | C20: May | D20: {=_xlfn.XLOOKUP($B20&D$15,'Gas Useage'!$A$4:$A$15&'Gas Useage'!$B$4:$B$15,_xlfn.XLOOKUP($C20&D$14,'Gas Useage'!$C$2:$AB$2&'Gas Useage'!$C$3:$AB$3,'Gas Useage'!$C$4:$AB$15))*$C$55/2000/1000+'PMCOND Simple'!D20} -> 0.0030893397 | E20: {=_xlfn.XLOOKUP($B20&E$15,'Gas Useage'!$A$4:$A$15&'Gas Useage'!$B$4:$B$15,_xlfn.XLOOKUP($C20&E$14,'Gas Useage'!$C$2:$AB$2&'Gas Useage'!$C$3:$AB$3,'Gas Useage'!$C$4:$AB$15))*$C$55/2000/1000+'PMCOND Simple'!E20} -> 0.00021304211 | F20: {=_xlfn.XLOOKUP($B20&F$15,'Gas Useage'!$A$4:$A$15&'Gas Useage'!$B$4:$B$15,_xlfn.XLOOKUP($C20&F$14,'Gas Useage'!$C$2:$AB$2&'Gas Useage'!$C$3:$AB$3,'Gas Useage'!$C$4:$AB$15))*$C$55/2000/1000+'PMCOND Simple'!F20} -> 1.4924019e-06 | G20: {=_xlfn.XLOOKUP($B20&G$15,'Gas Useage'!$A$4:$A$15&'Gas Useage'!$B$4:$B$15,_xlfn.XLOOKUP($C20&G$14,'Gas Useage'!$C$2:$AB$2&'Gas Useage'!$C$3:$AB$3,'Gas Useage'!$C$4:$AB$15))*$C$55/2000/1000+'PMCOND Simple'!G20} -> 1.0291663e-07 | H20: -- | I20: -- | J20: -- | K20: --
B21: 2020 | C21: June | D21: {=_xlfn.XLOOKUP($B21&D$15,'Gas Useage'!$A$4:$A$15&'Gas Useage'!$B$4:$B$15,_xlfn.XLOOKUP($C21&D$14,'Gas Useage'!$C$2:$AB$2&'Gas Useage'!$C$3:$AB$3,'Gas Useage'!$C$4:$AB$15))*$C$55/2000/1000+'PMCOND Simple'!D21} -> 0 | E21: {=_xlfn.XLOOKUP($B21&E$15,'Gas Useage'!$A$4:$A$15&'Gas Useage'!$B$4:$B$15,_xlfn.XLOOKUP($C21&E$14,'Gas Useage'!$C$2:$AB$2&'Gas Useage'!$C$3:$AB$3,'Gas Useage'!$C$4:$AB$15))*$C$55/2000/1000+'PMCOND Simple'!E21} -> 0 | F21: {=_xlfn.XLOOKUP($B21&F$15,'Gas Useage'!$A$4:$A$15&'Gas Useage'!$B$4:$B$15,_xlfn.XLOOKUP($C21&F$14,'Gas Useage'!$C$2:$AB$2&'Gas Useage'!$C$3:$AB$3,'Gas Useage'!$C$4:$AB$15))*$C$55/2000/1000+'PMCOND Simple'!F21} -> 0 | G21: {=_xlfn.XLOOKUP($B21&G$15,'Gas Useage'!$A$4:$A$15&'Gas Useage'!$B$4:$B$15,_xlfn.XLOOKUP($C21&G$14,'Gas Useage'!$C$2:$AB$2&'Gas Useage'!$C$3:$AB$3,'Gas Useage'!$C$4:$AB$15))*$C$55/2000/1000+'PMCOND Simple'!G21} -> 0 | H21: -- | I21: -- | J21: -- | K21: --
B22: 2020 | C22: July | D22: {=_xlfn.XLOOKUP($B22&D$15,'Gas Useage'!$A$4:$A$15&'Gas Useage'!$B$4:$B$15,_xlfn.XLOOKUP($C22&D$14,'Gas Useage'!$C$2:$AB$2&'Gas Useage'!$C$3:$AB$3,'Gas Useage'!$C$4:$AB$15))*$C$55/2000/1000+'PMCOND Simple'!D22} -> 0.12420158 | E22: {=_xlfn.XLOOKUP($B22&E$15,'Gas Useage'!$A$4:$A$15&'Gas Useage'!$B$4:$B$15,_xlfn.XLOOKUP($C22&E$14,'Gas Useage'!$C$2:$AB$2&'Gas Useage'!$C$3:$AB$3,'Gas Useage'!$C$4:$AB$15))*$C$55/2000/1000+'PMCOND Simple'!E22} -> 0.013662923 | F22: {=_xlfn.XLOOKUP($B22&F$15,'Gas Useage'!$A$4:$A$15&'Gas Useage'!$B$4:$B$15,_xlfn.XLOOKUP($C22&F$14,'Gas Useage'!$C$2:$AB$2&'Gas Useage'!$C$3:$AB$3,'Gas Useage'!$C$4:$AB$15))*$C$55/2000/1000+'PMCOND Simple'!F22} -> 0.078067646 | G22: {=_xlfn.XLOOKUP($B22&G$15,'Gas Useage'!$A$4:$A$15&'Gas Useage'!$B$4:$B$15,_xlfn.XLOOKUP($C22&G$14,'Gas Useage'!$C$2:$AB$2&'Gas Useage'!$C$3:$AB$3,'Gas Useage'!$C$4:$AB$15))*$C$55/2000/1000+'PMCOND Simple'!G22} -> 0.0085879118 | H22: -- | I22: -- | J22: -- | K22: --
B23: 2020 | C23: August | D23: {=_xlfn.XLOOKUP($B23&D$15,'Gas Useage'!$A$4:$A$15&'Gas Useage'!$B$4:$B$15,_xlfn.XLOOKUP($C23&D$14,'Gas Useage'!$C$2:$AB$2&'Gas Useage'!$C$3:$AB$3,'Gas Useage'!$C$4:$AB$15))*$C$55/2000/1000+'PMCOND Simple'!D23} -> 0.12492251 | E23: {=_xlfn.XLOOKUP($B23&E$15,'Gas Useage'!$A$4:$A$15&'Gas Useage'!$B$4:$B$15,_xlfn.XLOOKUP($C23&E$14,'Gas Useage'!$C$2:$AB$2&'Gas Useage'!$C$3:$AB$3,'Gas Useage'!$C$4:$AB$15))*$C$55/2000/1000+'PMCOND Simple'!E23} -> 0.010448983 | F23: {=_xlfn.XLOOKUP($B23&F$15,'Gas Useage'!$A$4:$A$15&'Gas Useage'!$B$4:$B$15,_xlfn.XLOOKUP($C23&F$14,'Gas Useage'!$C$2:$AB$2&'Gas Useage'!$C$3:$AB$3,'Gas Useage'!$C$4:$AB$15))*$C$55/2000/1000+'PMCOND Simple'!F23} -> 0.014472865 | G23: {=_xlfn.XLOOKUP($B23&G$15,'Gas Useage'!$A$4:$A$15&'Gas Useage'!$B$4:$B$15,_xlfn.XLOOKUP($C23&G$14,'Gas Useage'!$C$2:$AB$2&'Gas Useage'!$C$3:$AB$3,'Gas Useage'!$C$4:$AB$15))*$C$55/2000/1000+'PMCOND Simple'!G23} -> 0.0012105642 | H23: -- | I23: -- | J23: -- | K23: --
B24: 2020 | C24: September | D24: {=_xlfn.XLOOKUP($B24&D$15,'Gas Useage'!$A$4:$A$15&'Gas Useage'!$B$4:$B$15,_xlfn.XLOOKUP($C24&D$14,'Gas Useage'!$C$2:$AB$2&'Gas Useage'!$C$3:$AB$3,'Gas Useage'!$C$4:$AB$15))*$C$55/2000/1000+'PMCOND Simple'!D24} -> 0.034294037 | E24: {=_xlfn.XLOOKUP($B24&E$15,'Gas Useage'!$A$4:$A$15&'Gas Useage'!$B$4:$B$15,_xlfn.XLOOKUP($C24&E$14,'Gas Useage'!$C$2:$AB$2&'Gas Useage'!$C$3:$AB$3,'Gas Useage'!$C$4:$AB$15))*$C$55/2000/1000+'PMCOND Simple'!E24} -> 0.00467936 | F24: {=_xlfn.XLOOKUP($B24&F$15,'Gas Useage'!$A$4:$A$15&'Gas Useage'!$B$4:$B$15,_xlfn.XLOOKUP($C24&F$14,'Gas Useage'!$C$2:$AB$2&'Gas Useage'!$C$3:$AB$3,'Gas Useage'!$C$4:$AB$15))*$C$55/2000/1000+'PMCOND Simple'!F24} -> 0.00023477477 | G24: {=_xlfn.XLOOKUP($B24&G$15,'Gas Useage'!$A$4:$A$15&'Gas Useage'!$B$4:$B$15,_xlfn.XLOOKUP($C24&G$14,'Gas Useage'!$C$2:$AB$2&'Gas Useage'!$C$3:$AB$3,'Gas Useage'!$C$4:$AB$15))*$C$55/2000/1000+'PMCOND Simple'!G24} -> 3.2034597e-05 | H24: -- | I24: -- | J24: -- | K24: --
B25: 2020 | C25: October | D25: {=_xlfn.XLOOKUP($B25&D$15,'Gas Useage'!$A$4:$A$15&'Gas Useage'!$B$4:$B$15,_xlfn.XLOOKUP($C25&D$14,'Gas Useage'!$C$2:$AB$2&'Gas Useage'!$C$3:$AB$3,'Gas Useage'!$C$4:$AB$15))*$C$55/2000/1000+'PMCOND Simple'!D25} -> 0.039891385 | E25: {=_xlfn.XLOOKUP($B25&E$15,'Gas Useage'!$A$4:$A$15&'Gas Useage'!$B$4:$B$15,_xlfn.XLOOKUP($C25&E$14,'Gas Useage'!$C$2:$AB$2&'Gas Useage'!$C$3:$AB$3,'Gas Useage'!$C$4:$AB$15))*$C$55/2000/1000+'PMCOND Simple'!E25} -> 0.0038003416 | F25: {=_xlfn.XLOOKUP($B25&F$15,'Gas Useage'!$A$4:$A$15&'Gas Useage'!$B$4:$B$15,_xlfn.XLOOKUP($C25&F$14,'Gas Useage'!$C$2:$AB$2&'Gas Useage'!$C$3:$AB$3,'Gas Useage'!$C$4:$AB$15))*$C$55/2000/1000+'PMCOND Simple'!F25} -> 0.092255123 | G25: {=_xlfn.XLOOKUP($B25&G$15,'Gas Useage'!$A$4:$A$15&'Gas Useage'!$B$4:$B$15,_xlfn.XLOOKUP($C25&G$14,'Gas Useage'!$C$2:$AB$2&'Gas Useage'!$C$3:$AB$3,'Gas Useage'!$C$4:$AB$15))*$C$55/2000/1000+'PMCOND Simple'!G25} -> 0.0087888897 | H25: -- | I25: -- | J25: -- | K25: --
B26: 2020 | C26: November | D26: {=_xlfn.XLOOKUP($B26&D$15,'Gas Useage'!$A$4:$A$15&'Gas Useage'!$B$4:$B$15,_xlfn.XLOOKUP($C26&D$14,'Gas Useage'!$C$2:$AB$2&'Gas Useage'!$C$3:$AB$3,'Gas Useage'!$C$4:$AB$15))*$C$55/2000/1000+'PMCOND Simple'!D26} -> 0.086013888 | E26: {=_xlfn.XLOOKUP($B26&E$15,'Gas Useage'!$A$4:$A$15&'Gas Useage'!$B$4:$B$15,_xlfn.XLOOKUP($C26&E$14,'Gas Useage'!$C$2:$AB$2&'Gas Useage'!$C$3:$AB$3,'Gas Useage'!$C$4:$AB$15))*$C$55/2000/1000+'PMCOND Simple'!E26} -> 0.011070293 | F26: {=_xlfn.XLOOKUP($B26&F$15,'Gas Useage'!$A$4:$A$15&'Gas Useage'!$B$4:$B$15,_xlfn.XLOOKUP($C26&F$14,'Gas Useage'!$C$2:$AB$2&'Gas Useage'!$C$3:$AB$3,'Gas Useage'!$C$4:$AB$15))*$C$55/2000/1000+'PMCOND Simple'!F26} -> 0.13019997 | G26: {=_xlfn.XLOOKUP($B26&G$15,'Gas Useage'!$A$4:$A$15&'Gas Useage'!$B$4:$B$15,_xlfn.XLOOKUP($C26&G$14,'Gas Useage'!$C$2:$AB$2&'Gas Useage'!$C$3:$AB$3,'Gas Useage'!$C$4:$AB$15))*$C$55/2000/1000+'PMCOND Simple'!G26} -> 0.016757199 | H26: -- | I26: -- | J26: -- | K26: --
B27: 2020 | C27: December | D27: {=_xlfn.XLOOKUP($B27&D$15,'Gas Useage'!$A$4:$A$15&'Gas Useage'!$B$4:$B$15,_xlfn.XLOOKUP($C27&D$14,'Gas Useage'!$C$2:$AB$2&'Gas Useage'!$C$3:$AB$3,'Gas Useage'!$C$4:$AB$15))*$C$55/2000/1000+'PMCOND Simple'!D27} -> 0.086013888 | E27: {=_xlfn.XLOOKUP($B27&E$15,'Gas Useage'!$A$4:$A$15&'Gas Useage'!$B$4:$B$15,_xlfn.XLOOKUP($C27&E$14,'Gas Useage'!$C$2:$AB$2&'Gas Useage'!$C$3:$AB$3,'Gas Useage'!$C$4:$AB$15))*$C$55/2000/1000+'PMCOND Simple'!E27} -> 0.011070293 | F27: {=_xlfn.XLOOKUP($B27&F$15,'Gas Useage'!$A$4:$A$15&'Gas Useage'!$B$4:$B$15,_xlfn.XLOOKUP($C27&F$14,'Gas Useage'!$C$2:$AB$2&'Gas Useage'!$C$3:$AB$3,'Gas Useage'!$C$4:$AB$15))*$C$55/2000/1000+'PMCOND Simple'!F27} -> 0.13019997 | G27: {=_xlfn.XLOOKUP($B27&G$15,'Gas Useage'!$A$4:$A$15&'Gas Useage'!$B$4:$B$15,_xlfn.XLOOKUP($C27&G$14,'Gas Useage'!$C$2:$AB$2&'Gas Useage'!$C$3:$AB$3,'Gas Useage'!$C$4:$AB$15))*$C$55/2000/1000+'PMCOND Simple'!G27} -> 0.016757199 | H27: -- | I27: -- | J27: -- | K27: --
... B47: 2022 | C47: August | D47: {=_xlfn.XLOOKUP($B47&D$15,'Gas Useage'!$A$4:$A$15&'Gas Useage'!$B$4:$B$15,_xlfn.XLOOKUP($C47&D$14,'Gas Useage'!$C$2:$AB$2&'Gas Useage'!$C$3:$AB$3,'Gas Useage'!$C$4:$AB$15))*$C$55/2000/1000+'PMCOND Simple'!D47} -> 0.13348602 | E47: {=_xlfn.XLOOKUP($B47&E$15,'Gas Useage'!$A$4:$A$15&'Gas Useage'!$B$4:$B$15,_xlfn.XLOOKUP($C47&E$14,'Gas Useage'!$C$2:$AB$2&'Gas Useage'!$C$3:$AB$3,'Gas Useage'!$C$4:$AB$15))*$C$55/2000/1000+'PMCOND Simple'!E47} -> 0.013152607 | F47: {=_xlfn.XLOOKUP($B47&F$15,'Gas Useage'!$A$4:$A$15&'Gas Useage'!$B$4:$B$15,_xlfn.XLOOKUP($C47&F$14,'Gas Useage'!$C$2:$AB$2&'Gas Useage'!$C$3:$AB$3,'Gas Useage'!$C$4:$AB$15))*$C$55/2000/1000+'PMCOND Simple'!F47} -> 0.096978947 | G47: {=_xlfn.XLOOKUP($B47&G$15,'Gas Useage'!$A$4:$A$15&'Gas Useage'!$B$4:$B$15,_xlfn.XLOOKUP($C47&G$14,'Gas Useage'!$C$2:$AB$2&'Gas Useage'!$C$3:$AB$3,'Gas Useage'!$C$4:$AB$15))*$C$55/2000/1000+'PMCOND Simple'!G47} -> 0.009555502 | H47: -- | I47: -- | J47: -- | K47: --
B48: 2022 | C48: September | D48: {=_xlfn.XLOOKUP($B48&D$15,'Gas Useage'!$A$4:$A$15&'Gas Useage'!$B$4:$B$15,_xlfn.XLOOKUP($C48&D$14,'Gas Useage'!$C$2:$AB$2&'Gas Useage'!$C$3:$AB$3,'Gas Useage'!$C$4:$AB$15))*$C$55/2000/1000+'PMCOND Simple'!D48} -> 0.045529493 | E48: {=_xlfn.XLOOKUP($B48&E$15,'Gas Useage'!$A$4:$A$15&'Gas Useage'!$B$4:$B$15,_xlfn.XLOOKUP($C48&E$14,'Gas Useage'!$C$2:$AB$2&'Gas Useage'!$C$3:$AB$3,'Gas Useage'!$C$4:$AB$15))*$C$55/2000/1000+'PMCOND Simple'!E48} -> 0.0055973131 | F48: {=_xlfn.XLOOKUP($B48&F$15,'Gas Useage'!$A$4:$A$15&'Gas Useage'!$B$4:$B$15,_xlfn.XLOOKUP($C48&F$14,'Gas Useage'!$C$2:$AB$2&'Gas Useage'!$C$3:$AB$3,'Gas Useage'!$C$4:$AB$15))*$C$55/2000/1000+'PMCOND Simple'!F48} -> 0.025803788 | G48: {=_xlfn.XLOOKUP($B48&G$15,'Gas Useage'!$A$4:$A$15&'Gas Useage'!$B$4:$B$15,_xlfn.XLOOKUP($C48&G$14,'Gas Useage'!$C$2:$AB$2&'Gas Useage'!$C$3:$AB$3,'Gas Useage'!$C$4:$AB$15))*$C$55/2000/1000+'PMCOND Simple'!G48} -> 0.0031722708 | H48: =IFERROR(SUM(D25:D48)/2,"--") -> 0.95689238 | I48: =IFERROR(SUM(E25:E48)/2,"--") -> 0.087580869 | J48: =IFERROR(SUM(F25:F48)/2,"--") -> 0.96810924 | K48: =IFERROR(SUM(G25:G48)/2,"--") -> 0.085903781
B49: 2022 | C49: October | D49: {=_xlfn.XLOOKUP($B49&D$15,'Gas Useage'!$A$4:$A$15&'Gas Useage'!$B$4:$B$15,_xlfn.XLOOKUP($C49&D$14,'Gas Useage'!$C$2:$AB$2&'Gas Useage'!$C$3:$AB$3,'Gas Useage'!$C$4:$AB$15))*$C$55/2000/1000+'PMCOND Simple'!D49} -> 0.032103556 | E49: {=_xlfn.XLOOKUP($B49&E$15,'Gas Useage'!$A$4:$A$15&'Gas Useage'!$B$4:$B$15,_xlfn.XLOOKUP($C49&E$14,'Gas Useage'!$C$2:$AB$2&'Gas Useage'!$C$3:$AB$3,'Gas Useage'!$C$4:$AB$15))*$C$55/2000/1000+'PMCOND Simple'!E49} -> 0.0059441976 | F49: {=_xlfn.XLOOKUP($B49&F$15,'Gas Useage'!$A$4:$A$15&'Gas Useage'!$B$4:$B$15,_xlfn.XLOOKUP($C49&F$14,'Gas Useage'!$C$2:$AB$2&'Gas Useage'!$C$3:$AB$3,'Gas Useage'!$C$4:$AB$15))*$C$55/2000/1000+'PMCOND Simple'!F49} -> 0.024244333 | G49: {=_xlfn.XLOOKUP($B49&G$15,'Gas Useage'!$A$4:$A$15&'Gas Useage'!$B$4:$B$15,_xlfn.XLOOKUP($C49&G$14,'Gas Useage'!$C$2:$AB$2&'Gas Useage'!$C$3:$AB$3,'Gas Useage'!$C$4:$AB$15))*$C$55/2000/1000+'PMCOND Simple'!G49} -> 0.0044890076 | H49: =IFERROR(SUM(D26:D49)/2,"--") -> 0.95299846 | I49: =IFERROR(SUM(E26:E49)/2,"--") -> 0.088652797 | J49: =IFERROR(SUM(F26:F49)/2,"--") -> 0.93410384 | K49: =IFERROR(SUM(G26:G49)/2,"--") -> 0.08375384
B50: 2022 | C50: November | D50: {=_xlfn.XLOOKUP($B50&D$15,'Gas Useage'!$A$4:$A$15&'Gas Useage'!$B$4:$B$15,_xlfn.XLOOKUP($C50&D$14,'Gas Useage'!$C$2:$AB$2&'Gas Useage'!$C$3:$AB$3,'Gas Useage'!$C$4:$AB$15))*$C$55/2000/1000+'PMCOND Simple'!D50} -> 4.8870535e-05 | E50: {=_xlfn.XLOOKUP($B50&E$15,'Gas Useage'!$A$4:$A$15&'Gas Useage'!$B$4:$B$15,_xlfn.XLOOKUP($C50&E$14,'Gas Useage'!$C$2:$AB$2&'Gas Useage'!$C$3:$AB$3,'Gas Useage'!$C$4:$AB$15))*$C$55/2000/1000+'PMCOND Simple'!E50} -> 6.3005348e-06 | F50: {=_xlfn.XLOOKUP($B50&F$15,'Gas Useage'!$A$4:$A$15&'Gas Useage'!$B$4:$B$15,_xlfn.XLOOKUP($C50&F$14,'Gas Useage'!$C$2:$AB$2&'Gas Useage'!$C$3:$AB$3,'Gas Useage'!$C$4:$AB$15))*$C$55/2000/1000+'PMCOND Simple'!F50} -> 4.112738e-05 | G50: {=_xlfn.XLOOKUP($B50&G$15,'Gas Useage'!$A$4:$A$15&'Gas Useage'!$B$4:$B$15,_xlfn.XLOOKUP($C50&G$14,'Gas Useage'!$C$2:$AB$2&'Gas Useage'!$C$3:$AB$3,'Gas Useage'!$C$4:$AB$15))*$C$55/2000/1000+'PMCOND Simple'!G50} -> 5.3022642e-06 | H50: =IFERROR(SUM(D27:D50)/2,"--") -> 0.91001595 | I50: =IFERROR(SUM(E27:E50)/2,"--") -> 0.0831208 | J50: =IFERROR(SUM(F27:F50)/2,"--") -> 0.86902442 | K50: =IFERROR(SUM(G27:G50)/2,"--") -> 0.075377892
B51: 2022 | C51: December | D51: {=_xlfn.XLOOKUP($B51&D$15,'Gas Useage'!$A$4:$A$15&'Gas Useage'!$B$4:$B$15,_xlfn.XLOOKUP($C51&D$14,'Gas Useage'!$C$2:$AB$2&'Gas Useage'!$C$3:$AB$3,'Gas Useage'!$C$4:$AB$15))*$C$55/2000/1000+'PMCOND Simple'!D51} -> 1.6367086e-05 | E51: {=_xlfn.XLOOKUP($B51&E$15,'Gas Useage'!$A$4:$A$15&'Gas Useage'!$B$4:$B$15,_xlfn.XLOOKUP($C51&E$14,'Gas Useage'!$C$2:$AB$2&'Gas Useage'!$C$3:$AB$3,'Gas Useage'!$C$4:$AB$15))*$C$55/2000/1000+'PMCOND Simple'!E51} -> 2.3008594e-06 | F51: {=_xlfn.XLOOKUP($B51&F$15,'Gas Useage'!$A$4:$A$15&'Gas Useage'!$B$4:$B$15,_xlfn.XLOOKUP($C51&F$14,'Gas Useage'!$C$2:$AB$2&'Gas Useage'!$C$3:$AB$3,'Gas Useage'!$C$4:$AB$15))*$C$55/2000/1000+'PMCOND Simple'!F51} -> 1.1845856e-05 | G51: {=_xlfn.XLOOKUP($B51&G$15,'Gas Useage'!$A$4:$A$15&'Gas Useage'!$B$4:$B$15,_xlfn.XLOOKUP($C51&G$14,'Gas Useage'!$C$2:$AB$2&'Gas Useage'!$C$3:$AB$3,'Gas Useage'!$C$4:$AB$15))*$C$55/2000/1000+'PMCOND Simple'!G51} -> 1.665272e-06 | H51: =IFERROR(SUM(D28:D51)/2,"--") -> 0.86701719 | I51: =IFERROR(SUM(E28:E51)/2,"--") -> 0.077586804 | J51: =IFERROR(SUM(F28:F51)/2,"--") -> 0.80393036 | K51: =IFERROR(SUM(G28:G51)/2,"--") -> 0.067000125
B54: NG Factor | C54: ='NEW Boiler 5 PTE (B005)'!$I$96 -> 1.9 | D54: lb/MMscf
B55: COG Factor | C55: ='NEW Boiler 5 PTE (B005)'!$E$161 -> 7.13 | D55: lb/MMscf

Sheet PM10 Simple
B4: Company Name: | C4: U. S. Steel
B5: Facility Name: | C5: Irvin Plant
B6: Project Description: | C6: Irvin Permitting
B10: Pollutant: | C10: PM10
D12: Monthly Emissions (tons) | H12: 2-Year Average of Emissions (tons)
B13: Year | C13: Month | D13: Boiler #3 - COG | E13: Boiler #3 - NG | F13: Boiler #4 - COG | G13: Boiler #4 - NG | H13: Boiler #3 - COG | I13: Boiler #3 - NG | J13: Boiler #4 - COG | K13: Boiler #4 - NG
D14: COG (MCF) | E14: NAT GAS (MCF) | F14: COG (MCF) | G14: NAT GAS (MCF)
D15: #3 Boiler | E15: #3 Boiler | F15: #4 Boiler | G15: #4 Boiler
B16: 2020 | C16: January | D16: {=_xlfn.XLOOKUP(D$13,INDIRECT("'"&$B16&" EI'!$B$6:$B$53"),_xlfn.XLOOKUP($C$10,INDIRECT("'"&$B16&" EI'!$D$4:$Z$4"),INDIRECT("'"&$B16&" EI'!$D$6:$Z$53")))*_xlfn.XLOOKUP($B16&D$15,'Gas Useage'!$A$4:$A$15&'Gas Useage'!$B$4:$B$15,_xlfn.XLOOKUP($C16&D$14,'Gas Useage'!$C$2:$AB$2&'Gas Useage'!$C$3:$AB$3,'Gas Useage'!$C$4:$AB$15))/_xlfn.XLOOKUP($B16&D$15,'Gas Useage'!$A$4:$A$15&'Gas Useage'!$B$4:$B$15,_xlfn.XLOOKUP(D$14,'Gas Useage'!$AA$3:$AB$3,'Gas Useage'!$AA$4:$AB$15))} -> 0.055039652 | E16: {=_xlfn.XLOOKUP(E$13,INDIRECT("'"&$B16&" EI'!$B$6:$B$53"),_xlfn.XLOOKUP($C$10,INDIRECT("'"&$B16&" EI'!$D$4:$Z$4"),INDIRECT("'"&$B16&" EI'!$D$6:$Z$53")))*_xlfn.XLOOKUP($B16&E$15,'Gas Useage'!$A$4:$A$15&'Gas Useage'!$B$4:$B$15,_xlfn.XLOOKUP($C16&E$14,'Gas Useage'!$C$2:$AB$2&'Gas Useage'!$C$3:$AB$3,'Gas Useage'!$C$4:$AB$15))/_xlfn.XLOOKUP($B16&E$15,'Gas Useage'!$A$4:$A$15&'Gas Useage'!$B$4:$B$15,_xlfn.XLOOKUP(E$14,'Gas Useage'!$AA$3:$AB$3,'Gas Useage'!$AA$4:$AB$15))} -> 0.0039382261 | F16: {=_xlfn.XLOOKUP(F$13,INDIRECT("'"&$B16&" EI'!$B$6:$B$53"),_xlfn.XLOOKUP($C$10,INDIRECT("'"&$B16&" EI'!$D$4:$Z$4"),INDIRECT("'"&$B16&" EI'!$D$6:$Z$53")))*_xlfn.XLOOKUP($B16&F$15,'Gas Useage'!$A$4:$A$15&'Gas Useage'!$B$4:$B$15,_xlfn.XLOOKUP($C16&F$14,'Gas Useage'!$C$2:$AB$2&'Gas Useage'!$C$3:$AB$3,'Gas Useage'!$C$4:$AB$15))/_xlfn.XLOOKUP($B16&F$15,'Gas Useage'!$A$4:$A$15&'Gas Useage'!$B$4:$B$15,_xlfn.XLOOKUP(F$14,'Gas Useage'!$AA$3:$AB$3,'Gas Useage'!$AA$4:$AB$15))} -> 0.072054973 | G16: {=_xlfn.XLOOKUP(G$13,INDIRECT("'"&$B16&" EI'!$B$6:$B$53"),_xlfn.XLOOKUP($C$10,INDIRECT("'"&$B16&" EI'!$D$4:$Z$4"),INDIRECT("'"&$B16&" EI'!$D$6:$Z$53")))*_xlfn.XLOOKUP($B16&G$15,'Gas Useage'!$A$4:$A$15&'Gas Useage'!$B$4:$B$15,_xlfn.XLOOKUP($C16&G$14,'Gas Useage'!$C$2:$AB$2&'Gas Useage'!$C$3:$AB$3,'Gas Useage'!$C$4:$AB$15))/_xlfn.XLOOKUP($B16&G$15,'Gas Useage'!$A$4:$A$15&'Gas Useage'!$B$4:$B$15,_xlfn.XLOOKUP(G$14,'Gas Useage'!$AA$3:$AB$3,'Gas Useage'!$AA$4:$AB$15))} -> 0.0051557153 | H16: -- | I16: -- | J16: -- | K16: --
B17: 2020 | C17: February | D17: {=_xlfn.XLOOKUP(D$13,INDIRECT("'"&$B17&" EI'!$B$6:$B$53"),_xlfn.XLOOKUP($C$10,INDIRECT("'"&$B17&" EI'!$D$4:$Z$4"),INDIRECT("'"&$B17&" EI'!$D$6:$Z$53")))*_xlfn.XLOOKUP($B17&D$15,'Gas Useage'!$A$4:$A$15&'Gas Useage'!$B$4:$B$15,_xlfn.XLOOKUP($C17&D$14,'Gas Useage'!$C$2:$AB$2&'Gas Useage'!$C$3:$AB$3,'Gas Useage'!$C$4:$AB$15))/_xlfn.XLOOKUP($B17&D$15,'Gas Useage'!$A$4:$A$15&'Gas Useage'!$B$4:$B$15,_xlfn.XLOOKUP(D$14,'Gas Useage'!$AA$3:$AB$3,'Gas Useage'!$AA$4:$AB$15))} -> 0.091244133 | E17: {=_xlfn.XLOOKUP(E$13,INDIRECT("'"&$B17&" EI'!$B$6:$B$53"),_xlfn.XLOOKUP($C$10,INDIRECT("'"&$B17&" EI'!$D$4:$Z$4"),INDIRECT("'"&$B17&" EI'!$D$6:$Z$53")))*_xlfn.XLOOKUP($B17&E$15,'Gas Useage'!$A$4:$A$15&'Gas Useage'!$B$4:$B$15,_xlfn.XLOOKUP($C17&E$14,'Gas Useage'!$C$2:$AB$2&'Gas Useage'!$C$3:$AB$3,'Gas Useage'!$C$4:$AB$15))/_xlfn.XLOOKUP($B17&E$15,'Gas Useage'!$A$4:$A$15&'Gas Useage'!$B$4:$B$15,_xlfn.XLOOKUP(E$14,'Gas Useage'!$AA$3:$AB$3,'Gas Useage'!$AA$4:$AB$15))} -> 0.0081726334 | F17: {=_xlfn.XLOOKUP(F$13,INDIRECT("'"&$B17&" EI'!$B$6:$B$53"),_xlfn.XLOOKUP($C$10,INDIRECT("'"&$B17&" EI'!$D$4:$Z$4"),INDIRECT("'"&$B17&" EI'!$D$6:$Z$53")))*_xlfn.XLOOKUP($B17&F$15,'Gas Useage'!$A$4:$A$15&'Gas Useage'!$B$4:$B$15,_xlfn.XLOOKUP($C17&F$14,'Gas Useage'!$C$2:$AB$2&'Gas Useage'!$C$3:$AB$3,'Gas Useage'!$C$4:$AB$15))/_xlfn.XLOOKUP($B17&F$15,'Gas Useage'!$A$4:$A$15&'Gas Useage'!$B$4:$B$15,_xlfn.XLOOKUP(F$14,'Gas Useage'!$AA$3:$AB$3,'Gas Useage'!$AA$4:$AB$15))} -> 0.074418589 | G17: {=_xlfn.XLOOKUP(G$13,INDIRECT("'"&$B17&" EI'!$B$6:$B$53"),_xlfn.XLOOKUP($C$10,INDIRECT("'"&$B17&" EI'!$D$4:$Z$4"),INDIRECT("'"&$B17&" EI'!$D$6:$Z$53")))*_xlfn.XLOOKUP($B17&G$15,'Gas Useage'!$A$4:$A$15&'Gas Useage'!$B$4:$B$15,_xlfn.XLOOKUP($C17&G$14,'Gas Useage'!$C$2:$AB$2&'Gas Useage'!$C$3:$AB$3,'Gas Useage'!$C$4:$AB$15))/_xlfn.XLOOKUP($B17&G$15,'Gas Useage'!$A$4:$A$15&'Gas Useage'!$B$4:$B$15,_xlfn.XLOOKUP(G$14,'Gas Useage'!$AA$3:$AB$3,'Gas Useage'!$AA$4:$AB$15))} -> 0.0066655885 | H17: -- | I17: -- | J17: -- | K17: --
B18: 2020 | C18: March | D18: {=_xlfn.XLOOKUP(D$13,INDIRECT("'"&$B18&" EI'!$B$6:$B$53"),_xlfn.XLOOKUP($C$10,INDIRECT("'"&$B18&" EI'!$D$4:$Z$4"),INDIRECT("'"&$B18&" EI'!$D$6:$Z$53")))*_xlfn.XLOOKUP($B18&D$15,'Gas Useage'!$A$4:$A$15&'Gas Useage'!$B$4:$B$15,_xlfn.XLOOKUP($C18&D$14,'Gas Useage'!$C$2:$AB$2&'Gas Useage'!$C$3:$AB$3,'Gas Useage'!$C$4:$AB$15))/_xlfn.XLOOKUP($B18&D$15,'Gas Useage'!$A$4:$A$15&'Gas Useage'!$B$4:$B$15,_xlfn.XLOOKUP(D$14,'Gas Useage'!$AA$3:$AB$3,'Gas Useage'!$AA$4:$AB$15))} -> 0.093132215 | E18: {=_xlfn.XLOOKUP(E$13,INDIRECT("'"&$B18&" EI'!$B$6:$B$53"),_xlfn.XLOOKUP($C$10,INDIRECT("'"&$B18&" EI'!$D$4:$Z$4"),INDIRECT("'"&$B18&" EI'!$D$6:$Z$53")))*_xlfn.XLOOKUP($B18&E$15,'Gas Useage'!$A$4:$A$15&'Gas Useage'!$B$4:$B$15,_xlfn.XLOOKUP($C18&E$14,'Gas Useage'!$C$2:$AB$2&'Gas Useage'!$C$3:$AB$3,'Gas Useage'!$C$4:$AB$15))/_xlfn.XLOOKUP($B18&E$15,'Gas Useage'!$A$4:$A$15&'Gas Useage'!$B$4:$B$15,_xlfn.XLOOKUP(E$14,'Gas Useage'!$AA$3:$AB$3,'Gas Useage'!$AA$4:$AB$15))} -> 0.008712433 | F18: {=_xlfn.XLOOKUP(F$13,INDIRECT("'"&$B18&" EI'!$B$6:$B$53"),_xlfn.XLOOKUP($C$10,INDIRECT("'"&$B18&" EI'!$D$4:$Z$4"),INDIRECT("'"&$B18&" EI'!$D$6:$Z$53")))*_xlfn.XLOOKUP($B18&F$15,'Gas Useage'!$A$4:$A$15&'Gas Useage'!$B$4:$B$15,_xlfn.XLOOKUP($C18&F$14,'Gas Useage'!$C$2:$AB$2&'Gas Useage'!$C$3:$AB$3,'Gas Useage'!$C$4:$AB$15))/_xlfn.XLOOKUP($B18&F$15,'Gas Useage'!$A$4:$A$15&'Gas Useage'!$B$4:$B$15,_xlfn.XLOOKUP(F$14,'Gas Useage'!$AA$3:$AB$3,'Gas Useage'!$AA$4:$AB$15))} -> 0.057890771 | G18: {=_xlfn.XLOOKUP(G$13,INDIRECT("'"&$B18&" EI'!$B$6:$B$53"),_xlfn.XLOOKUP($C$10,INDIRECT("'"&$B18&" EI'!$D$4:$Z$4"),INDIRECT("'"&$B18&" EI'!$D$6:$Z$53")))*_xlfn.XLOOKUP($B18&G$15,'Gas Useage'!$A$4:$A$15&'Gas Useage'!$B$4:$B$15,_xlfn.XLOOKUP($C18&G$14,'Gas Useage'!$C$2:$AB$2&'Gas Useage'!$C$3:$AB$3,'Gas Useage'!$C$4:$AB$15))/_xlfn.XLOOKUP($B18&G$15,'Gas Useage'!$A$4:$A$15&'Gas Useage'!$B$4:$B$15,_xlfn.XLOOKUP(G$14,'Gas Useage'!$AA$3:$AB$3,'Gas Useage'!$AA$4:$AB$15))} -> 0.0054156284 | H18: -- | I18: -- | J18: -- | K18: --
B19: 2020 | C19: April | D19: {=_xlfn.XLOOKUP(D$13,INDIRECT("'"&$B19&" EI'!$B$6:$B$53"),_xlfn.XLOOKUP($C$10,INDIRECT("'"&$B19&" EI'!$D$4:$Z$4"),INDIRECT("'"&$B19&" EI'!$D$6:$Z$53")))*_xlfn.XLOOKUP($B19&D$15,'Gas Useage'!$A$4:$A$15&'Gas Useage'!$B$4:$B$15,_xlfn.XLOOKUP($C19&D$14,'Gas Useage'!$C$2:$AB$2&'Gas Useage'!$C$3:$AB$3,'Gas Useage'!$C$4:$AB$15))/_xlfn.XLOOKUP($B19&D$15,'Gas Useage'!$A$4:$A$15&'Gas Useage'!$B$4:$B$15,_xlfn.XLOOKUP(D$14,'Gas Useage'!$AA$3:$AB$3,'Gas Useage'!$AA$4:$AB$15))} -> 0.036088587 | E19: {=_xlfn.XLOOKUP(E$13,INDIRECT("'"&$B19&" EI'!$B$6:$B$53"),_xlfn.XLOOKUP($C$10,INDIRECT("'"&$B19&" EI'!$D$4:$Z$4"),INDIRECT("'"&$B19&" EI'!$D$6:$Z$53")))*_xlfn.XLOOKUP($B19&E$15,'Gas Useage'!$A$4:$A$15&'Gas Useage'!$B$4:$B$15,_xlfn.XLOOKUP($C19&E$14,'Gas Useage'!$C$2:$AB$2&'Gas Useage'!$C$3:$AB$3,'Gas Useage'!$C$4:$AB$15))/_xlfn.XLOOKUP($B19&E$15,'Gas Useage'!$A$4:$A$15&'Gas Useage'!$B$4:$B$15,_xlfn.XLOOKUP(E$14,'Gas Useage'!$AA$3:$AB$3,'Gas Useage'!$AA$4:$AB$15))} -> 0.003454923 | F19: {=_xlfn.XLOOKUP(F$13,INDIRECT("'"&$B19&" EI'!$B$6:$B$53"),_xlfn.XLOOKUP($C$10,INDIRECT("'"&$B19&" EI'!$D$4:$Z$4"),INDIRECT("'"&$B19&" EI'!$D$6:$Z$53")))*_xlfn.XLOOKUP($B19&F$15,'Gas Useage'!$A$4:$A$15&'Gas Useage'!$B$4:$B$15,_xlfn.XLOOKUP($C19&F$14,'Gas Useage'!$C$2:$AB$2&'Gas Useage'!$C$3:$AB$3,'Gas Useage'!$C$4:$AB$15))/_xlfn.XLOOKUP($B19&F$15,'Gas Useage'!$A$4:$A$15&'Gas Useage'!$B$4:$B$15,_xlfn.XLOOKUP(F$14,'Gas Useage'!$AA$3:$AB$3,'Gas Useage'!$AA$4:$AB$15))} -> 0.036209164 | G19: {=_xlfn.XLOOKUP(G$13,INDIRECT("'"&$B19&" EI'!$B$6:$B$53"),_xlfn.XLOOKUP($C$10,INDIRECT("'"&$B19&" EI'!$D$4:$Z$4"),INDIRECT("'"&$B19&" EI'!$D$6:$Z$53")))*_xlfn.XLOOKUP($B19&G$15,'Gas Useage'!$A$4:$A$15&'Gas Useage'!$B$4:$B$15,_xlfn.XLOOKUP($C19&G$14,'Gas Useage'!$C$2:$AB$2&'Gas Useage'!$C$3:$AB$3,'Gas Useage'!$C$4:$AB$15))/_xlfn.XLOOKUP($B19&G$15,'Gas Useage'!$A$4:$A$15&'Gas Useage'!$B$4:$B$15,_xlfn.XLOOKUP(G$14,'Gas Useage'!$AA$3:$AB$3,'Gas Useage'!$AA$4:$AB$15))} -> 0.0034664663 | H19: -- | I19: -- | J19: -- | K19: --
B20: 2020 | C20: May | D20: {=_xlfn.XLOOKUP(D$13,INDIRECT("'"&$B20&" EI'!$B$6:$B$53"),_xlfn.XLOOKUP($C$10,INDIRECT("'"&$B20&" EI'!$D$4:$Z$4"),INDIRECT("'"&$B20&" EI'!$D$6:$Z$53")))*_xlfn.XLOOKUP($B20&D$15,'Gas Useage'!$A$4:$A$15&'Gas Useage'!$B$4:$B$15,_xlfn.XLOOKUP($C20&D$14,'Gas Useage'!$C$2:$AB$2&'Gas Useage'!$C$3:$AB$3,'Gas Useage'!$C$4:$AB$15))/_xlfn.XLOOKUP($B20&D$15,'Gas Useage'!$A$4:$A$15&'Gas Useage'!$B$4:$B$15,_xlfn.XLOOKUP(D$14,'Gas Useage'!$AA$3:$AB$3,'Gas Useage'!$AA$4:$AB$15))} -> 0.0022619443 | E20: {=_xlfn.XLOOKUP(E$13,INDIRECT("'"&$B20&" EI'!$B$6:$B$53"),_xlfn.XLOOKUP($C$10,INDIRECT("'"&$B20&" EI'!$D$4:$Z$4"),INDIRECT("'"&$B20&" EI'!$D$6:$Z$53")))*_xlfn.XLOOKUP($B20&E$15,'Gas Useage'!$A$4:$A$15&'Gas Useage'!$B$4:$B$15,_xlfn.XLOOKUP($C20&E$14,'Gas Useage'!$C$2:$AB$2&'Gas Useage'!$C$3:$AB$3,'Gas Useage'!$C$4:$AB$15))/_xlfn.XLOOKUP($B20&E$15,'Gas Useage'!$A$4:$A$15&'Gas Useage'!$B$4:$B$15,_xlfn.XLOOKUP(E$14,'Gas Useage'!$AA$3:$AB$3,'Gas Useage'!$AA$4:$AB$15))} -> 0.00012619798 | F20: {=_xlfn.XLOOKUP(F$13,INDIRECT("'"&$B20&" EI'!$B$6:$B$53"),_xlfn.XLOOKUP($C$10,INDIRECT("'"&$B20&" EI'!$D$4:$Z$4"),INDIRECT("'"&$B20&" EI'!$D$6:$Z$53")))*_xlfn.XLOOKUP($B20&F$15,'Gas Useage'!$A$4:$A$15&'Gas Useage'!$B$4:$B$15,_xlfn.XLOOKUP($C20&F$14,'Gas Useage'!$C$2:$AB$2&'Gas Useage'!$C$3:$AB$3,'Gas Useage'!$C$4:$AB$15))/_xlfn.XLOOKUP($B20&F$15,'Gas Useage'!$A$4:$A$15&'Gas Useage'!$B$4:$B$15,_xlfn.XLOOKUP(F$14,'Gas Useage'!$AA$3:$AB$3,'Gas Useage'!$AA$4:$AB$15))} -> 1.0927027e-06 | G20: {=_xlfn.XLOOKUP(G$13,INDIRECT("'"&$B20&" EI'!$B$6:$B$53"),_xlfn.XLOOKUP($C$10,INDIRECT("'"&$B20&" EI'!$D$4:$Z$4"),INDIRECT("'"&$B20&" EI'!$D$6:$Z$53")))*_xlfn.XLOOKUP($B20&G$15,'Gas Useage'!$A$4:$A$15&'Gas Useage'!$B$4:$B$15,_xlfn.XLOOKUP($C20&G$14,'Gas Useage'!$C$2:$AB$2&'Gas Useage'!$C$3:$AB$3,'Gas Useage'!$C$4:$AB$15))/_xlfn.XLOOKUP($B20&G$15,'Gas Useage'!$A$4:$A$15&'Gas Useage'!$B$4:$B$15,_xlfn.XLOOKUP(G$14,'Gas Useage'!$AA$3:$AB$3,'Gas Useage'!$AA$4:$AB$15))} -> 6.0963868e-08 | H20: -- | I20: -- | J20: -- | K20: --
B21: 2020 | C21: June | D21: {=_xlfn.XLOOKUP(D$13,INDIRECT("'"&$B21&" EI'!$B$6:$B$53"),_xlfn.XLOOKUP($C$10,INDIRECT("'"&$B21&" EI'!$D$4:$Z$4"),INDIRECT("'"&$B21&" EI'!$D$6:$Z$53")))*_xlfn.XLOOKUP($B21&D$15,'Gas Useage'!$A$4:$A$15&'Gas Useage'!$B$4:$B$15,_xlfn.XLOOKUP($C21&D$14,'Gas Useage'!$C$2:$AB$2&'Gas Useage'!$C$3:$AB$3,'Gas Useage'!$C$4:$AB$15))/_xlfn.XLOOKUP($B21&D$15,'Gas Useage'!$A$4:$A$15&'Gas Useage'!$B$4:$B$15,_xlfn.XLOOKUP(D$14,'Gas Useage'!$AA$3:$AB$3,'Gas Useage'!$AA$4:$AB$15))} -> 0 | E21: {=_xlfn.XLOOKUP(E$13,INDIRECT("'"&$B21&" EI'!$B$6:$B$53"),_xlfn.XLOOKUP($C$10,INDIRECT("'"&$B21&" EI'!$D$4:$Z$4"),INDIRECT("'"&$B21&" EI'!$D$6:$Z$53")))*_xlfn.XLOOKUP($B21&E$15,'Gas Useage'!$A$4:$A$15&'Gas Useage'!$B$4:$B$15,_xlfn.XLOOKUP($C21&E$14,'Gas Useage'!$C$2:$AB$2&'Gas Useage'!$C$3:$AB$3,'Gas Useage'!$C$4:$AB$15))/_xlfn.XLOOKUP($B21&E$15,'Gas Useage'!$A$4:$A$15&'Gas Useage'!$B$4:$B$15,_xlfn.XLOOKUP(E$14,'Gas Useage'!$AA$3:$AB$3,'Gas Useage'!$AA$4:$AB$15))} -> 0 | F21: {=_xlfn.XLOOKUP(F$13,INDIRECT("'"&$B21&" EI'!$B$6:$B$53"),_xlfn.XLOOKUP($C$10,INDIRECT("'"&$B21&" EI'!$D$4:$Z$4"),INDIRECT("'"&$B21&" EI'!$D$6:$Z$53")))*_xlfn.XLOOKUP($B21&F$15,'Gas Useage'!$A$4:$A$15&'Gas Useage'!$B$4:$B$15,_xlfn.XLOOKUP($C21&F$14,'Gas Useage'!$C$2:$AB$2&'Gas Useage'!$C$3:$AB$3,'Gas Useage'!$C$4:$AB$15))/_xlfn.XLOOKUP($B21&F$15,'Gas Useage'!$A$4:$A$15&'Gas Useage'!$B$4:$B$15,_xlfn.XLOOKUP(F$14,'Gas Useage'!$AA$3:$AB$3,'Gas Useage'!$AA$4:$AB$15))} -> 0 | G21: {=_xlfn.XLOOKUP(G$13,INDIRECT("'"&$B21&" EI'!$B$6:$B$53"),_xlfn.XLOOKUP($C$10,INDIRECT("'"&$B21&" EI'!$D$4:$Z$4"),INDIRECT("'"&$B21&" EI'!$D$6:$Z$53")))*_xlfn.XLOOKUP($B21&G$15,'Gas Useage'!$A$4:$A$15&'Gas Useage'!$B$4:$B$15,_xlfn.XLOOKUP($C21&G$14,'Gas Useage'!$C$2:$AB$2&'Gas Useage'!$C$3:$AB$3,'Gas Useage'!$C$4:$AB$15))/_xlfn.XLOOKUP($B21&G$15,'Gas Useage'!$A$4:$A$15&'Gas Useage'!$B$4:$B$15,_xlfn.XLOOKUP(G$14,'Gas Useage'!$AA$3:$AB$3,'Gas Useage'!$AA$4:$AB$15))} -> 0 | H21: -- | I21: -- | J21: -- | K21: --
B22: 2020 | C22: July | D22: {=_xlfn.XLOOKUP(D$13,INDIRECT("'"&$B22&" EI'!$B$6:$B$53"),_xlfn.XLOOKUP($C$10,INDIRECT("'"&$B22&" EI'!$D$4:$Z$4"),INDIRECT("'"&$B22&" EI'!$D$6:$Z$53")))*_xlfn.XLOOKUP($B22&D$15,'Gas Useage'!$A$4:$A$15&'Gas Useage'!$B$4:$B$15,_xlfn.XLOOKUP($C22&D$14,'Gas Useage'!$C$2:$AB$2&'Gas Useage'!$C$3:$AB$3,'Gas Useage'!$C$4:$AB$15))/_xlfn.XLOOKUP($B22&D$15,'Gas Useage'!$A$4:$A$15&'Gas Useage'!$B$4:$B$15,_xlfn.XLOOKUP(D$14,'Gas Useage'!$AA$3:$AB$3,'Gas Useage'!$AA$4:$AB$15))} -> 0.090937572 | E22: {=_xlfn.XLOOKUP(E$13,INDIRECT("'"&$B22&" EI'!$B$6:$B$53"),_xlfn.XLOOKUP($C$10,INDIRECT("'"&$B22&" EI'!$D$4:$Z$4"),INDIRECT("'"&$B22&" EI'!$D$6:$Z$53")))*_xlfn.XLOOKUP($B22&E$15,'Gas Useage'!$A$4:$A$15&'Gas Useage'!$B$4:$B$15,_xlfn.XLOOKUP($C22&E$14,'Gas Useage'!$C$2:$AB$2&'Gas Useage'!$C$3:$AB$3,'Gas Useage'!$C$4:$AB$15))/_xlfn.XLOOKUP($B22&E$15,'Gas Useage'!$A$4:$A$15&'Gas Useage'!$B$4:$B$15,_xlfn.XLOOKUP(E$14,'Gas Useage'!$AA$3:$AB$3,'Gas Useage'!$AA$4:$AB$15))} -> 0.0080933914 | F22: {=_xlfn.XLOOKUP(F$13,INDIRECT("'"&$B22&" EI'!$B$6:$B$53"),_xlfn.XLOOKUP($C$10,INDIRECT("'"&$B22&" EI'!$D$4:$Z$4"),INDIRECT("'"&$B22&" EI'!$D$6:$Z$53")))*_xlfn.XLOOKUP($B22&F$15,'Gas Useage'!$A$4:$A$15&'Gas Useage'!$B$4:$B$15,_xlfn.XLOOKUP($C22&F$14,'Gas Useage'!$C$2:$AB$2&'Gas Useage'!$C$3:$AB$3,'Gas Useage'!$C$4:$AB$15))/_xlfn.XLOOKUP($B22&F$15,'Gas Useage'!$A$4:$A$15&'Gas Useage'!$B$4:$B$15,_xlfn.XLOOKUP(F$14,'Gas Useage'!$AA$3:$AB$3,'Gas Useage'!$AA$4:$AB$15))} -> 0.057159355 | G22: {=_xlfn.XLOOKUP(G$13,INDIRECT("'"&$B22&" EI'!$B$6:$B$53"),_xlfn.XLOOKUP($C$10,INDIRECT("'"&$B22&" EI'!$D$4:$Z$4"),INDIRECT("'"&$B22&" EI'!$D$6:$Z$53")))*_xlfn.XLOOKUP($B22&G$15,'Gas Useage'!$A$4:$A$15&'Gas Useage'!$B$4:$B$15,_xlfn.XLOOKUP($C22&G$14,'Gas Useage'!$C$2:$AB$2&'Gas Useage'!$C$3:$AB$3,'Gas Useage'!$C$4:$AB$15))/_xlfn.XLOOKUP($B22&G$15,'Gas Useage'!$A$4:$A$15&'Gas Useage'!$B$4:$B$15,_xlfn.XLOOKUP(G$14,'Gas Useage'!$AA$3:$AB$3,'Gas Useage'!$AA$4:$AB$15))} -> 0.0050871496 | H22: -- | I22: -- | J22: -- | K22: --
B23: 2020 | C23: August | D23: {=_xlfn.XLOOKUP(D$13,INDIRECT("'"&$B23&" EI'!$B$6:$B$53"),_xlfn.XLOOKUP($C$10,INDIRECT("'"&$B23&" EI'!$D$4:$Z$4"),INDIRECT("'"&$B23&" EI'!$D$6:$Z$53")))*_xlfn.XLOOKUP($B23&D$15,'Gas Useage'!$A$4:$A$15&'Gas Useage'!$B$4:$B$15,_xlfn.XLOOKUP($C23&D$14,'Gas Useage'!$C$2:$AB$2&'Gas Useage'!$C$3:$AB$3,'Gas Useage'!$C$4:$AB$15))/_xlfn.XLOOKUP($B23&D$15,'Gas Useage'!$A$4:$A$15&'Gas Useage'!$B$4:$B$15,_xlfn.XLOOKUP(D$14,'Gas Useage'!$AA$3:$AB$3,'Gas Useage'!$AA$4:$AB$15))} -> 0.091465424 | E23: {=_xlfn.XLOOKUP(E$13,INDIRECT("'"&$B23&" EI'!$B$6:$B$53"),_xlfn.XLOOKUP($C$10,INDIRECT("'"&$B23&" EI'!$D$4:$Z$4"),INDIRECT("'"&$B23&" EI'!$D$6:$Z$53")))*_xlfn.XLOOKUP($B23&E$15,'Gas Useage'!$A$4:$A$15&'Gas Useage'!$B$4:$B$15,_xlfn.XLOOKUP($C23&E$14,'Gas Useage'!$C$2:$AB$2&'Gas Useage'!$C$3:$AB$3,'Gas Useage'!$C$4:$AB$15))/_xlfn.XLOOKUP($B23&E$15,'Gas Useage'!$A$4:$A$15&'Gas Useage'!$B$4:$B$15,_xlfn.XLOOKUP(E$14,'Gas Useage'!$AA$3:$AB$3,'Gas Useage'!$AA$4:$AB$15))} -> 0.0061895767 | F23: {=_xlfn.XLOOKUP(F$13,INDIRECT("'"&$B23&" EI'!$B$6:$B$53"),_xlfn.XLOOKUP($C$10,INDIRECT("'"&$B23&" EI'!$D$4:$Z$4"),INDIRECT("'"&$B23&" EI'!$D$6:$Z$53")))*_xlfn.XLOOKUP($B23&F$15,'Gas Useage'!$A$4:$A$15&'Gas Useage'!$B$4:$B$15,_xlfn.XLOOKUP($C23&F$14,'Gas Useage'!$C$2:$AB$2&'Gas Useage'!$C$3:$AB$3,'Gas Useage'!$C$4:$AB$15))/_xlfn.XLOOKUP($B23&F$15,'Gas Useage'!$A$4:$A$15&'Gas Useage'!$B$4:$B$15,_xlfn.XLOOKUP(F$14,'Gas Useage'!$AA$3:$AB$3,'Gas Useage'!$AA$4:$AB$15))} -> 0.010596703 | G23: {=_xlfn.XLOOKUP(G$13,INDIRECT("'"&$B23&" EI'!$B$6:$B$53"),_xlfn.XLOOKUP($C$10,INDIRECT("'"&$B23&" EI'!$D$4:$Z$4"),INDIRECT("'"&$B23&" EI'!$D$6:$Z$53")))*_xlfn.XLOOKUP($B23&G$15,'Gas Useage'!$A$4:$A$15&'Gas Useage'!$B$4:$B$15,_xlfn.XLOOKUP($C23&G$14,'Gas Useage'!$C$2:$AB$2&'Gas Useage'!$C$3:$AB$3,'Gas Useage'!$C$4:$AB$15))/_xlfn.XLOOKUP($B23&G$15,'Gas Useage'!$A$4:$A$15&'Gas Useage'!$B$4:$B$15,_xlfn.XLOOKUP(G$14,'Gas Useage'!$AA$3:$AB$3,'Gas Useage'!$AA$4:$AB$15))} -> 0.00071709179 | H23: -- | I23: -- | J23: -- | K23: --
B24: 2020 | C24: September | D24: {=_xlfn.XLOOKUP(D$13,INDIRECT("'"&$B24&" EI'!$B$6:$B$53"),_xlfn.XLOOKUP($C$10,INDIRECT("'"&$B24&" EI'!$D$4:$Z$4"),INDIRECT("'"&$B24&" EI'!$D$6:$Z$53")))*_xlfn.XLOOKUP($B24&D$15,'Gas Useage'!$A$4:$A$15&'Gas Useage'!$B$4:$B$15,_xlfn.XLOOKUP($C24&D$14,'Gas Useage'!$C$2:$AB$2&'Gas Useage'!$C$3:$AB$3,'Gas Useage'!$C$4:$AB$15))/_xlfn.XLOOKUP($B24&D$15,'Gas Useage'!$A$4:$A$15&'Gas Useage'!$B$4:$B$15,_xlfn.XLOOKUP(D$14,'Gas Useage'!$AA$3:$AB$3,'Gas Useage'!$AA$4:$AB$15))} -> 0.025109314 | E24: {=_xlfn.XLOOKUP(E$13,INDIRECT("'"&$B24&" EI'!$B$6:$B$53"),_xlfn.XLOOKUP($C$10,INDIRECT("'"&$B24&" EI'!$D$4:$Z$4"),INDIRECT("'"&$B24&" EI'!$D$6:$Z$53")))*_xlfn.XLOOKUP($B24&E$15,'Gas Useage'!$A$4:$A$15&'Gas Useage'!$B$4:$B$15,_xlfn.XLOOKUP($C24&E$14,'Gas Useage'!$C$2:$AB$2&'Gas Useage'!$C$3:$AB$3,'Gas Useage'!$C$4:$AB$15))/_xlfn.XLOOKUP($B24&E$15,'Gas Useage'!$A$4:$A$15&'Gas Useage'!$B$4:$B$15,_xlfn.XLOOKUP(E$14,'Gas Useage'!$AA$3:$AB$3,'Gas Useage'!$AA$4:$AB$15))} -> 0.0027718734 | F24: {=_xlfn.XLOOKUP(F$13,INDIRECT("'"&$B24&" EI'!$B$6:$B$53"),_xlfn.XLOOKUP($C$10,INDIRECT("'"&$B24&" EI'!$D$4:$Z$4"),INDIRECT("'"&$B24&" EI'!$D$6:$Z$53")))*_xlfn.XLOOKUP($B24&F$15,'Gas Useage'!$A$4:$A$15&'Gas Useage'!$B$4:$B$15,_xlfn.XLOOKUP($C24&F$14,'Gas Useage'!$C$2:$AB$2&'Gas Useage'!$C$3:$AB$3,'Gas Useage'!$C$4:$AB$15))/_xlfn.XLOOKUP($B24&F$15,'Gas Useage'!$A$4:$A$15&'Gas Useage'!$B$4:$B$15,_xlfn.XLOOKUP(F$14,'Gas Useage'!$AA$3:$AB$3,'Gas Useage'!$AA$4:$AB$15))} -> 0.00017189675 | G24: {=_xlfn.XLOOKUP(G$13,INDIRECT("'"&$B24&" EI'!$B$6:$B$53"),_xlfn.XLOOKUP($C$10,INDIRECT("'"&$B24&" EI'!$D$4:$Z$4"),INDIRECT("'"&$B24&" EI'!$D$6:$Z$53")))*_xlfn.XLOOKUP($B24&G$15,'Gas Useage'!$A$4:$A$15&'Gas Useage'!$B$4:$B$15,_xlfn.XLOOKUP($C24&G$14,'Gas Useage'!$C$2:$AB$2&'Gas Useage'!$C$3:$AB$3,'Gas Useage'!$C$4:$AB$15))/_xlfn.XLOOKUP($B24&G$15,'Gas Useage'!$A$4:$A$15&'Gas Useage'!$B$4:$B$15,_xlfn.XLOOKUP(G$14,'Gas Useage'!$AA$3:$AB$3,'Gas Useage'!$AA$4:$AB$15))} -> 1.8976067e-05 | H24: -- | I24: -- | J24: -- | K24: --
B25: 2020 | C25: October | D25: {=_xlfn.XLOOKUP(D$13,INDIRECT("'"&$B25&" EI'!$B$6:$B$53"),_xlfn.XLOOKUP($C$10,INDIRECT("'"&$B25&" EI'!$D$4:$Z$4"),INDIRECT("'"&$B25&" EI'!$D$6:$Z$53")))*_xlfn.XLOOKUP($B25&D$15,'Gas Useage'!$A$4:$A$15&'Gas Useage'!$B$4:$B$15,_xlfn.XLOOKUP($C25&D$14,'Gas Useage'!$C$2:$AB$2&'Gas Useage'!$C$3:$AB$3,'Gas Useage'!$C$4:$AB$15))/_xlfn.XLOOKUP($B25&D$15,'Gas Useage'!$A$4:$A$15&'Gas Useage'!$B$4:$B$15,_xlfn.XLOOKUP(D$14,'Gas Useage'!$AA$3:$AB$3,'Gas Useage'!$AA$4:$AB$15))} -> 0.029207565 | E25: {=_xlfn.XLOOKUP(E$13,INDIRECT("'"&$B25&" EI'!$B$6:$B$53"),_xlfn.XLOOKUP($C$10,INDIRECT("'"&$B25&" EI'!$D$4:$Z$4"),INDIRECT("'"&$B25&" EI'!$D$6:$Z$53")))*_xlfn.XLOOKUP($B25&E$15,'Gas Useage'!$A$4:$A$15&'Gas Useage'!$B$4:$B$15,_xlfn.XLOOKUP($C25&E$14,'Gas Useage'!$C$2:$AB$2&'Gas Useage'!$C$3:$AB$3,'Gas Useage'!$C$4:$AB$15))/_xlfn.XLOOKUP($B25&E$15,'Gas Useage'!$A$4:$A$15&'Gas Useage'!$B$4:$B$15,_xlfn.XLOOKUP(E$14,'Gas Useage'!$AA$3:$AB$3,'Gas Useage'!$AA$4:$AB$15))} -> 0.0022511766 | F25: {=_xlfn.XLOOKUP(F$13,INDIRECT("'"&$B25&" EI'!$B$6:$B$53"),_xlfn.XLOOKUP($C$10,INDIRECT("'"&$B25&" EI'!$D$4:$Z$4"),INDIRECT("'"&$B25&" EI'!$D$6:$Z$53")))*_xlfn.XLOOKUP($B25&F$15,'Gas Useage'!$A$4:$A$15&'Gas Useage'!$B$4:$B$15,_xlfn.XLOOKUP($C25&F$14,'Gas Useage'!$C$2:$AB$2&'Gas Useage'!$C$3:$AB$3,'Gas Useage'!$C$4:$AB$15))/_xlfn.XLOOKUP($B25&F$15,'Gas Useage'!$A$4:$A$15&'Gas Useage'!$B$4:$B$15,_xlfn.XLOOKUP(F$14,'Gas Useage'!$AA$3:$AB$3,'Gas Useage'!$AA$4:$AB$15))} -> 0.067547104 | G25: {=_xlfn.XLOOKUP(G$13,INDIRECT("'"&$B25&" EI'!$B$6:$B$53"),_xlfn.XLOOKUP($C$10,INDIRECT("'"&$B25&" EI'!$D$4:$Z$4"),INDIRECT("'"&$B25&" EI'!$D$6:$Z$53")))*_xlfn.XLOOKUP($B25&G$15,'Gas Useage'!$A$4:$A$15&'Gas Useage'!$B$4:$B$15,_xlfn.XLOOKUP($C25&G$14,'Gas Useage'!$C$2:$AB$2&'Gas Useage'!$C$3:$AB$3,'Gas Useage'!$C$4:$AB$15))/_xlfn.XLOOKUP($B25&G$15,'Gas Useage'!$A$4:$A$15&'Gas Useage'!$B$4:$B$15,_xlfn.XLOOKUP(G$14,'Gas Useage'!$AA$3:$AB$3,'Gas Useage'!$AA$4:$AB$15))} -> 0.0052062012 | H25: -- | I25: -- | J25: -- | K25: --
B26: 2020 | C26: November | D26: {=_xlfn.XLOOKUP(D$13,INDIRECT("'"&$B26&" EI'!$B$6:$B$53"),_xlfn.XLOOKUP($C$10,INDIRECT("'"&$B26&" EI'!$D$4:$Z$4"),INDIRECT("'"&$B26&" EI'!$D$6:$Z$53")))*_xlfn.XLOOKUP($B26&D$15,'Gas Useage'!$A$4:$A$15&'Gas Useage'!$B$4:$B$15,_xlfn.XLOOKUP($C26&D$14,'Gas Useage'!$C$2:$AB$2&'Gas Useage'!$C$3:$AB$3,'Gas Useage'!$C$4:$AB$15))/_xlfn.XLOOKUP($B26&D$15,'Gas Useage'!$A$4:$A$15&'Gas Useage'!$B$4:$B$15,_xlfn.XLOOKUP(D$14,'Gas Useage'!$AA$3:$AB$3,'Gas Useage'!$AA$4:$AB$15))} -> 0.062977413 | E26: {=_xlfn.XLOOKUP(E$13,INDIRECT("'"&$B26&" EI'!$B$6:$B$53"),_xlfn.XLOOKUP($C$10,INDIRECT("'"&$B26&" EI'!$D$4:$Z$4"),INDIRECT("'"&$B26&" EI'!$D$6:$Z$53")))*_xlfn.XLOOKUP($B26&E$15,'Gas Useage'!$A$4:$A$15&'Gas Useage'!$B$4:$B$15,_xlfn.XLOOKUP($C26&E$14,'Gas Useage'!$C$2:$AB$2&'Gas Useage'!$C$3:$AB$3,'Gas Useage'!$C$4:$AB$15))/_xlfn.XLOOKUP($B26&E$15,'Gas Useage'!$A$4:$A$15&'Gas Useage'!$B$4:$B$15,_xlfn.XLOOKUP(E$14,'Gas Useage'!$AA$3:$AB$3,'Gas Useage'!$AA$4:$AB$15))} -> 0.0065576173 | F26: {=_xlfn.XLOOKUP(F$13,INDIRECT("'"&$B26&" EI'!$B$6:$B$53"),_xlfn.XLOOKUP($C$10,INDIRECT("'"&$B26&" EI'!$D$4:$Z$4"),INDIRECT("'"&$B26&" EI'!$D$6:$Z$53")))*_xlfn.XLOOKUP($B26&F$15,'Gas Useage'!$A$4:$A$15&'Gas Useage'!$B$4:$B$15,_xlfn.XLOOKUP($C26&F$14,'Gas Useage'!$C$2:$AB$2&'Gas Useage'!$C$3:$AB$3,'Gas Useage'!$C$4:$AB$15))/_xlfn.XLOOKUP($B26&F$15,'Gas Useage'!$A$4:$A$15&'Gas Useage'!$B$4:$B$15,_xlfn.XLOOKUP(F$14,'Gas Useage'!$AA$3:$AB$3,'Gas Useage'!$AA$4:$AB$15))} -> 0.095329456 | G26: {=_xlfn.XLOOKUP(G$13,INDIRECT("'"&$B26&" EI'!$B$6:$B$53"),_xlfn.XLOOKUP($C$10,INDIRECT("'"&$B26&" EI'!$D$4:$Z$4"),INDIRECT("'"&$B26&" EI'!$D$6:$Z$53")))*_xlfn.XLOOKUP($B26&G$15,'Gas Useage'!$A$4:$A$15&'Gas Useage'!$B$4:$B$15,_xlfn.XLOOKUP($C26&G$14,'Gas Useage'!$C$2:$AB$2&'Gas Useage'!$C$3:$AB$3,'Gas Useage'!$C$4:$AB$15))/_xlfn.XLOOKUP($B26&G$15,'Gas Useage'!$A$4:$A$15&'Gas Useage'!$B$4:$B$15,_xlfn.XLOOKUP(G$14,'Gas Useage'!$AA$3:$AB$3,'Gas Useage'!$AA$4:$AB$15))} -> 0.0099263221 | H26: -- | I26: -- | J26: -- | K26: --
B27: 2020 | C27: December | D27: {=_xlfn.XLOOKUP(D$13,INDIRECT("'"&$B27&" EI'!$B$6:$B$53"),_xlfn.XLOOKUP($C$10,INDIRECT("'"&$B27&" EI'!$D$4:$Z$4"),INDIRECT("'"&$B27&" EI'!$D$6:$Z$53")))*_xlfn.XLOOKUP($B27&D$15,'Gas Useage'!$A$4:$A$15&'Gas Useage'!$B$4:$B$15,_xlfn.XLOOKUP($C27&D$14,'Gas Useage'!$C$2:$AB$2&'Gas Useage'!$C$3:$AB$3,'Gas Useage'!$C$4:$AB$15))/_xlfn.XLOOKUP($B27&D$15,'Gas Useage'!$A$4:$A$15&'Gas Useage'!$B$4:$B$15,_xlfn.XLOOKUP(D$14,'Gas Useage'!$AA$3:$AB$3,'Gas Useage'!$AA$4:$AB$15))} -> 0.062977413 | E27: {=_xlfn.XLOOKUP(E$13,INDIRECT("'"&$B27&" EI'!$B$6:$B$53"),_xlfn.XLOOKUP($C$10,INDIRECT("'"&$B27&" EI'!$D$4:$Z$4"),INDIRECT("'"&$B27&" EI'!$D$6:$Z$53")))*_xlfn.XLOOKUP($B27&E$15,'Gas Useage'!$A$4:$A$15&'Gas Useage'!$B$4:$B$15,_xlfn.XLOOKUP($C27&E$14,'Gas Useage'!$C$2:$AB$2&'Gas Useage'!$C$3:$AB$3,'Gas Useage'!$C$4:$AB$15))/_xlfn.XLOOKUP($B27&E$15,'Gas Useage'!$A$4:$A$15&'Gas Useage'!$B$4:$B$15,_xlfn.XLOOKUP(E$14,'Gas Useage'!$AA$3:$AB$3,'Gas Useage'!$AA$4:$AB$15))} -> 0.0065576173 | F27: {=_xlfn.XLOOKUP(F$13,INDIRECT("'"&$B27&" EI'!$B$6:$B$53"),_xlfn.XLOOKUP($C$10,INDIRECT("'"&$B27&" EI'!$D$4:$Z$4"),INDIRECT("'"&$B27&" EI'!$D$6:$Z$53")))*_xlfn.XLOOKUP($B27&F$15,'Gas Useage'!$A$4:$A$15&'Gas Useage'!$B$4:$B$15,_xlfn.XLOOKUP($C27&F$14,'Gas Useage'!$C$2:$AB$2&'Gas Useage'!$C$3:$AB$3,'Gas Useage'!$C$4:$AB$15))/_xlfn.XLOOKUP($B27&F$15,'Gas Useage'!$A$4:$A$15&'Gas Useage'!$B$4:$B$15,_xlfn.XLOOKUP(F$14,'Gas Useage'!$AA$3:$AB$3,'Gas Useage'!$AA$4:$AB$15))} -> 0.095329456 | G27: {=_xlfn.XLOOKUP(G$13,INDIRECT("'"&$B27&" EI'!$B$6:$B$53"),_xlfn.XLOOKUP($C$10,INDIRECT("'"&$B27&" EI'!$D$4:$Z$4"),INDIRECT("'"&$B27&" EI'!$D$6:$Z$53")))*_xlfn.XLOOKUP($B27&G$15,'Gas Useage'!$A$4:$A$15&'Gas Useage'!$B$4:$B$15,_xlfn.XLOOKUP($C27&G$14,'Gas Useage'!$C$2:$AB$2&'Gas Useage'!$C$3:$AB$3,'Gas Useage'!$C$4:$AB$15))/_xlfn.XLOOKUP($B27&G$15,'Gas Useage'!$A$4:$A$15&'Gas Useage'!$B$4:$B$15,_xlfn.XLOOKUP(G$14,'Gas Useage'!$AA$3:$AB$3,'Gas Useage'!$AA$4:$AB$15))} -> 0.0099263221 | H27: -- | I27: -- | J27: -- | K27: --
... B47: 2022 | C47: August | D47: {=_xlfn.XLOOKUP(D$13,INDIRECT("'"&$B47&" EI'!$B$6:$B$53"),_xlfn.XLOOKUP($C$10,INDIRECT("'"&$B47&" EI'!$D$4:$Z$4"),INDIRECT("'"&$B47&" EI'!$D$6:$Z$53")))*_xlfn.XLOOKUP($B47&D$15,'Gas Useage'!$A$4:$A$15&'Gas Useage'!$B$4:$B$15,_xlfn.XLOOKUP($C47&D$14,'Gas Useage'!$C$2:$AB$2&'Gas Useage'!$C$3:$AB$3,'Gas Useage'!$C$4:$AB$15))/_xlfn.XLOOKUP($B47&D$15,'Gas Useage'!$A$4:$A$15&'Gas Useage'!$B$4:$B$15,_xlfn.XLOOKUP(D$14,'Gas Useage'!$AA$3:$AB$3,'Gas Useage'!$AA$4:$AB$15))} -> 0.097735429 | E47: {=_xlfn.XLOOKUP(E$13,INDIRECT("'"&$B47&" EI'!$B$6:$B$53"),_xlfn.XLOOKUP($C$10,INDIRECT("'"&$B47&" EI'!$D$4:$Z$4"),INDIRECT("'"&$B47&" EI'!$D$6:$Z$53")))*_xlfn.XLOOKUP($B47&E$15,'Gas Useage'!$A$4:$A$15&'Gas Useage'!$B$4:$B$15,_xlfn.XLOOKUP($C47&E$14,'Gas Useage'!$C$2:$AB$2&'Gas Useage'!$C$3:$AB$3,'Gas Useage'!$C$4:$AB$15))/_xlfn.XLOOKUP($B47&E$15,'Gas Useage'!$A$4:$A$15&'Gas Useage'!$B$4:$B$15,_xlfn.XLOOKUP(E$14,'Gas Useage'!$AA$3:$AB$3,'Gas Useage'!$AA$4:$AB$15))} -> 0.0077910997 | F47: {=_xlfn.XLOOKUP(F$13,INDIRECT("'"&$B47&" EI'!$B$6:$B$53"),_xlfn.XLOOKUP($C$10,INDIRECT("'"&$B47&" EI'!$D$4:$Z$4"),INDIRECT("'"&$B47&" EI'!$D$6:$Z$53")))*_xlfn.XLOOKUP($B47&F$15,'Gas Useage'!$A$4:$A$15&'Gas Useage'!$B$4:$B$15,_xlfn.XLOOKUP($C47&F$14,'Gas Useage'!$C$2:$AB$2&'Gas Useage'!$C$3:$AB$3,'Gas Useage'!$C$4:$AB$15))/_xlfn.XLOOKUP($B47&F$15,'Gas Useage'!$A$4:$A$15&'Gas Useage'!$B$4:$B$15,_xlfn.XLOOKUP(F$14,'Gas Useage'!$AA$3:$AB$3,'Gas Useage'!$AA$4:$AB$15))} -> 0.07100578 | G47: {=_xlfn.XLOOKUP(G$13,INDIRECT("'"&$B47&" EI'!$B$6:$B$53"),_xlfn.XLOOKUP($C$10,INDIRECT("'"&$B47&" EI'!$D$4:$Z$4"),INDIRECT("'"&$B47&" EI'!$D$6:$Z$53")))*_xlfn.XLOOKUP($B47&G$15,'Gas Useage'!$A$4:$A$15&'Gas Useage'!$B$4:$B$15,_xlfn.XLOOKUP($C47&G$14,'Gas Useage'!$C$2:$AB$2&'Gas Useage'!$C$3:$AB$3,'Gas Useage'!$C$4:$AB$15))/_xlfn.XLOOKUP($B47&G$15,'Gas Useage'!$A$4:$A$15&'Gas Useage'!$B$4:$B$15,_xlfn.XLOOKUP(G$14,'Gas Useage'!$AA$3:$AB$3,'Gas Useage'!$AA$4:$AB$15))} -> 0.005660313 | H47: -- | I47: -- | J47: -- | K47: --
B48: 2022 | C48: September | D48: {=_xlfn.XLOOKUP(D$13,INDIRECT("'"&$B48&" EI'!$B$6:$B$53"),_xlfn.XLOOKUP($C$10,INDIRECT("'"&$B48&" EI'!$D$4:$Z$4"),INDIRECT("'"&$B48&" EI'!$D$6:$Z$53")))*_xlfn.XLOOKUP($B48&D$15,'Gas Useage'!$A$4:$A$15&'Gas Useage'!$B$4:$B$15,_xlfn.XLOOKUP($C48&D$14,'Gas Useage'!$C$2:$AB$2&'Gas Useage'!$C$3:$AB$3,'Gas Useage'!$C$4:$AB$15))/_xlfn.XLOOKUP($B48&D$15,'Gas Useage'!$A$4:$A$15&'Gas Useage'!$B$4:$B$15,_xlfn.XLOOKUP(D$14,'Gas Useage'!$AA$3:$AB$3,'Gas Useage'!$AA$4:$AB$15))} -> 0.03333566 | E48: {=_xlfn.XLOOKUP(E$13,INDIRECT("'"&$B48&" EI'!$B$6:$B$53"),_xlfn.XLOOKUP($C$10,INDIRECT("'"&$B48&" EI'!$D$4:$Z$4"),INDIRECT("'"&$B48&" EI'!$D$6:$Z$53")))*_xlfn.XLOOKUP($B48&E$15,'Gas Useage'!$A$4:$A$15&'Gas Useage'!$B$4:$B$15,_xlfn.XLOOKUP($C48&E$14,'Gas Useage'!$C$2:$AB$2&'Gas Useage'!$C$3:$AB$3,'Gas Useage'!$C$4:$AB$15))/_xlfn.XLOOKUP($B48&E$15,'Gas Useage'!$A$4:$A$15&'Gas Useage'!$B$4:$B$15,_xlfn.XLOOKUP(E$14,'Gas Useage'!$AA$3:$AB$3,'Gas Useage'!$AA$4:$AB$15))} -> 0.0033156336 | F48: {=_xlfn.XLOOKUP(F$13,INDIRECT("'"&$B48&" EI'!$B$6:$B$53"),_xlfn.XLOOKUP($C$10,INDIRECT("'"&$B48&" EI'!$D$4:$Z$4"),INDIRECT("'"&$B48&" EI'!$D$6:$Z$53")))*_xlfn.XLOOKUP($B48&F$15,'Gas Useage'!$A$4:$A$15&'Gas Useage'!$B$4:$B$15,_xlfn.XLOOKUP($C48&F$14,'Gas Useage'!$C$2:$AB$2&'Gas Useage'!$C$3:$AB$3,'Gas Useage'!$C$4:$AB$15))/_xlfn.XLOOKUP($B48&F$15,'Gas Useage'!$A$4:$A$15&'Gas Useage'!$B$4:$B$15,_xlfn.XLOOKUP(F$14,'Gas Useage'!$AA$3:$AB$3,'Gas Useage'!$AA$4:$AB$15))} -> 0.018892947 | G48: {=_xlfn.XLOOKUP(G$13,INDIRECT("'"&$B48&" EI'!$B$6:$B$53"),_xlfn.XLOOKUP($C$10,INDIRECT("'"&$B48&" EI'!$D$4:$Z$4"),INDIRECT("'"&$B48&" EI'!$D$6:$Z$53")))*_xlfn.XLOOKUP($B48&G$15,'Gas Useage'!$A$4:$A$15&'Gas Useage'!$B$4:$B$15,_xlfn.XLOOKUP($C48&G$14,'Gas Useage'!$C$2:$AB$2&'Gas Useage'!$C$3:$AB$3,'Gas Useage'!$C$4:$AB$15))/_xlfn.XLOOKUP($B48&G$15,'Gas Useage'!$A$4:$A$15&'Gas Useage'!$B$4:$B$15,_xlfn.XLOOKUP(G$14,'Gas Useage'!$AA$3:$AB$3,'Gas Useage'!$AA$4:$AB$15))} -> 0.0018791316 | H48: =IFERROR(SUM(D25:D48)/2,"--") -> 0.70061484 | I48: =IFERROR(SUM(E25:E48)/2,"--") -> 0.051879548 | J48: =IFERROR(SUM(F25:F48)/2,"--") -> 0.70882757 | K48: =IFERROR(SUM(G25:G48)/2,"--") -> 0.050886106
B49: 2022 | C49: October | D49: {=_xlfn.XLOOKUP(D$13,INDIRECT("'"&$B49&" EI'!$B$6:$B$53"),_xlfn.XLOOKUP($C$10,INDIRECT("'"&$B49&" EI'!$D$4:$Z$4"),INDIRECT("'"&$B49&" EI'!$D$6:$Z$53")))*_xlfn.XLOOKUP($B49&D$15,'Gas Useage'!$A$4:$A$15&'Gas Useage'!$B$4:$B$15,_xlfn.XLOOKUP($C49&D$14,'Gas Useage'!$C$2:$AB$2&'Gas Useage'!$C$3:$AB$3,'Gas Useage'!$C$4:$AB$15))/_xlfn.XLOOKUP($B49&D$15,'Gas Useage'!$A$4:$A$15&'Gas Useage'!$B$4:$B$15,_xlfn.XLOOKUP(D$14,'Gas Useage'!$AA$3:$AB$3,'Gas Useage'!$AA$4:$AB$15))} -> 0.023505494 | E49: {=_xlfn.XLOOKUP(E$13,INDIRECT("'"&$B49&" EI'!$B$6:$B$53"),_xlfn.XLOOKUP($C$10,INDIRECT("'"&$B49&" EI'!$D$4:$Z$4"),INDIRECT("'"&$B49&" EI'!$D$6:$Z$53")))*_xlfn.XLOOKUP($B49&E$15,'Gas Useage'!$A$4:$A$15&'Gas Useage'!$B$4:$B$15,_xlfn.XLOOKUP($C49&E$14,'Gas Useage'!$C$2:$AB$2&'Gas Useage'!$C$3:$AB$3,'Gas Useage'!$C$4:$AB$15))/_xlfn.XLOOKUP($B49&E$15,'Gas Useage'!$A$4:$A$15&'Gas Useage'!$B$4:$B$15,_xlfn.XLOOKUP(E$14,'Gas Useage'!$AA$3:$AB$3,'Gas Useage'!$AA$4:$AB$15))} -> 0.0035211147 | F49: {=_xlfn.XLOOKUP(F$13,INDIRECT("'"&$B49&" EI'!$B$6:$B$53"),_xlfn.XLOOKUP($C$10,INDIRECT("'"&$B49&" EI'!$D$4:$Z$4"),INDIRECT("'"&$B49&" EI'!$D$6:$Z$53")))*_xlfn.XLOOKUP($B49&F$15,'Gas Useage'!$A$4:$A$15&'Gas Useage'!$B$4:$B$15,_xlfn.XLOOKUP($C49&F$14,'Gas Useage'!$C$2:$AB$2&'Gas Useage'!$C$3:$AB$3,'Gas Useage'!$C$4:$AB$15))/_xlfn.XLOOKUP($B49&F$15,'Gas Useage'!$A$4:$A$15&'Gas Useage'!$B$4:$B$15,_xlfn.XLOOKUP(F$14,'Gas Useage'!$AA$3:$AB$3,'Gas Useage'!$AA$4:$AB$15))} -> 0.01775115 | G49: {=_xlfn.XLOOKUP(G$13,INDIRECT("'"&$B49&" EI'!$B$6:$B$53"),_xlfn.XLOOKUP($C$10,INDIRECT("'"&$B49&" EI'!$D$4:$Z$4"),INDIRECT("'"&$B49&" EI'!$D$6:$Z$53")))*_xlfn.XLOOKUP($B49&G$15,'Gas Useage'!$A$4:$A$15&'Gas Useage'!$B$4:$B$15,_xlfn.XLOOKUP($C49&G$14,'Gas Useage'!$C$2:$AB$2&'Gas Useage'!$C$3:$AB$3,'Gas Useage'!$C$4:$AB$15))/_xlfn.XLOOKUP($B49&G$15,'Gas Useage'!$A$4:$A$15&'Gas Useage'!$B$4:$B$15,_xlfn.XLOOKUP(G$14,'Gas Useage'!$AA$3:$AB$3,'Gas Useage'!$AA$4:$AB$15))} -> 0.002659116 | H49: =IFERROR(SUM(D26:D49)/2,"--") -> 0.69776381 | I49: =IFERROR(SUM(E26:E49)/2,"--") -> 0.052514517 | J49: =IFERROR(SUM(F26:F49)/2,"--") -> 0.6839296 | K49: =IFERROR(SUM(G26:G49)/2,"--") -> 0.049612563
B50: 2022 | C50: November | D50: {=_xlfn.XLOOKUP(D$13,INDIRECT("'"&$B50&" EI'!$B$6:$B$53"),_xlfn.XLOOKUP($C$10,INDIRECT("'"&$B50&" EI'!$D$4:$Z$4"),INDIRECT("'"&$B50&" EI'!$D$6:$Z$53")))*_xlfn.XLOOKUP($B50&D$15,'Gas Useage'!$A$4:$A$15&'Gas Useage'!$B$4:$B$15,_xlfn.XLOOKUP($C50&D$14,'Gas Useage'!$C$2:$AB$2&'Gas Useage'!$C$3:$AB$3,'Gas Useage'!$C$4:$AB$15))/_xlfn.XLOOKUP($B50&D$15,'Gas Useage'!$A$4:$A$15&'Gas Useage'!$B$4:$B$15,_xlfn.XLOOKUP(D$14,'Gas Useage'!$AA$3:$AB$3,'Gas Useage'!$AA$4:$AB$15))} -> 3.5781895e-05 | E50: {=_xlfn.XLOOKUP(E$13,INDIRECT("'"&$B50&" EI'!$B$6:$B$53"),_xlfn.XLOOKUP($C$10,INDIRECT("'"&$B50&" EI'!$D$4:$Z$4"),INDIRECT("'"&$B50&" EI'!$D$6:$Z$53")))*_xlfn.XLOOKUP($B50&E$15,'Gas Useage'!$A$4:$A$15&'Gas Useage'!$B$4:$B$15,_xlfn.XLOOKUP($C50&E$14,'Gas Useage'!$C$2:$AB$2&'Gas Useage'!$C$3:$AB$3,'Gas Useage'!$C$4:$AB$15))/_xlfn.XLOOKUP($B50&E$15,'Gas Useage'!$A$4:$A$15&'Gas Useage'!$B$4:$B$15,_xlfn.XLOOKUP(E$14,'Gas Useage'!$AA$3:$AB$3,'Gas Useage'!$AA$4:$AB$15))} -> 3.7321952e-06 | F50: {=_xlfn.XLOOKUP(F$13,INDIRECT("'"&$B50&" EI'!$B$6:$B$53"),_xlfn.XLOOKUP($C$10,INDIRECT("'"&$B50&" EI'!$D$4:$Z$4"),INDIRECT("'"&$B50&" EI'!$D$6:$Z$53")))*_xlfn.XLOOKUP($B50&F$15,'Gas Useage'!$A$4:$A$15&'Gas Useage'!$B$4:$B$15,_xlfn.XLOOKUP($C50&F$14,'Gas Useage'!$C$2:$AB$2&'Gas Useage'!$C$3:$AB$3,'Gas Useage'!$C$4:$AB$15))/_xlfn.XLOOKUP($B50&F$15,'Gas Useage'!$A$4:$A$15&'Gas Useage'!$B$4:$B$15,_xlfn.XLOOKUP(F$14,'Gas Useage'!$AA$3:$AB$3,'Gas Useage'!$AA$4:$AB$15))} -> 3.0112533e-05 | G50: {=_xlfn.XLOOKUP(G$13,INDIRECT("'"&$B50&" EI'!$B$6:$B$53"),_xlfn.XLOOKUP($C$10,INDIRECT("'"&$B50&" EI'!$D$4:$Z$4"),INDIRECT("'"&$B50&" EI'!$D$6:$Z$53")))*_xlfn.XLOOKUP($B50&G$15,'Gas Useage'!$A$4:$A$15&'Gas Useage'!$B$4:$B$15,_xlfn.XLOOKUP($C50&G$14,'Gas Useage'!$C$2:$AB$2&'Gas Useage'!$C$3:$AB$3,'Gas Useage'!$C$4:$AB$15))/_xlfn.XLOOKUP($B50&G$15,'Gas Useage'!$A$4:$A$15&'Gas Useage'!$B$4:$B$15,_xlfn.XLOOKUP(G$14,'Gas Useage'!$AA$3:$AB$3,'Gas Useage'!$AA$4:$AB$15))} -> 3.140858e-06 | H50: =IFERROR(SUM(D27:D50)/2,"--") -> 0.66629299 | I50: =IFERROR(SUM(E27:E50)/2,"--") -> 0.049237575 | J50: =IFERROR(SUM(F27:F50)/2,"--") -> 0.63627992 | K50: =IFERROR(SUM(G27:G50)/2,"--") -> 0.044650972
B51: 2022 | C51: December | D51: {=_xlfn.XLOOKUP(D$13,INDIRECT("'"&$B51&" EI'!$B$6:$B$53"),_xlfn.XLOOKUP($C$10,INDIRECT("'"&$B51&" EI'!$D$4:$Z$4"),INDIRECT("'"&$B51&" EI'!$D$6:$Z$53")))*_xlfn.XLOOKUP($B51&D$15,'Gas Useage'!$A$4:$A$15&'Gas Useage'!$B$4:$B$15,_xlfn.XLOOKUP($C51&D$14,'Gas Useage'!$C$2:$AB$2&'Gas Useage'!$C$3:$AB$3,'Gas Useage'!$C$4:$AB$15))/_xlfn.XLOOKUP($B51&D$15,'Gas Useage'!$A$4:$A$15&'Gas Useage'!$B$4:$B$15,_xlfn.XLOOKUP(D$14,'Gas Useage'!$AA$3:$AB$3,'Gas Useage'!$AA$4:$AB$15))} -> 1.1983608e-05 | E51: {=_xlfn.XLOOKUP(E$13,INDIRECT("'"&$B51&" EI'!$B$6:$B$53"),_xlfn.XLOOKUP($C$10,INDIRECT("'"&$B51&" EI'!$D$4:$Z$4"),INDIRECT("'"&$B51&" EI'!$D$6:$Z$53")))*_xlfn.XLOOKUP($B51&E$15,'Gas Useage'!$A$4:$A$15&'Gas Useage'!$B$4:$B$15,_xlfn.XLOOKUP($C51&E$14,'Gas Useage'!$C$2:$AB$2&'Gas Useage'!$C$3:$AB$3,'Gas Useage'!$C$4:$AB$15))/_xlfn.XLOOKUP($B51&E$15,'Gas Useage'!$A$4:$A$15&'Gas Useage'!$B$4:$B$15,_xlfn.XLOOKUP(E$14,'Gas Useage'!$AA$3:$AB$3,'Gas Useage'!$AA$4:$AB$15))} -> 1.3629409e-06 | F51: {=_xlfn.XLOOKUP(F$13,INDIRECT("'"&$B51&" EI'!$B$6:$B$53"),_xlfn.XLOOKUP($C$10,INDIRECT("'"&$B51&" EI'!$D$4:$Z$4"),INDIRECT("'"&$B51&" EI'!$D$6:$Z$53")))*_xlfn.XLOOKUP($B51&F$15,'Gas Useage'!$A$4:$A$15&'Gas Useage'!$B$4:$B$15,_xlfn.XLOOKUP($C51&F$14,'Gas Useage'!$C$2:$AB$2&'Gas Useage'!$C$3:$AB$3,'Gas Useage'!$C$4:$AB$15))/_xlfn.XLOOKUP($B51&F$15,'Gas Useage'!$A$4:$A$15&'Gas Useage'!$B$4:$B$15,_xlfn.XLOOKUP(F$14,'Gas Useage'!$AA$3:$AB$3,'Gas Useage'!$AA$4:$AB$15))} -> 8.6732665e-06 | G51: {=_xlfn.XLOOKUP(G$13,INDIRECT("'"&$B51&" EI'!$B$6:$B$53"),_xlfn.XLOOKUP($C$10,INDIRECT("'"&$B51&" EI'!$D$4:$Z$4"),INDIRECT("'"&$B51&" EI'!$D$6:$Z$53")))*_xlfn.XLOOKUP($B51&G$15,'Gas Useage'!$A$4:$A$15&'Gas Useage'!$B$4:$B$15,_xlfn.XLOOKUP($C51&G$14,'Gas Useage'!$C$2:$AB$2&'Gas Useage'!$C$3:$AB$3,'Gas Useage'!$C$4:$AB$15))/_xlfn.XLOOKUP($B51&G$15,'Gas Useage'!$A$4:$A$15&'Gas Useage'!$B$4:$B$15,_xlfn.XLOOKUP(G$14,'Gas Useage'!$AA$3:$AB$3,'Gas Useage'!$AA$4:$AB$15))} -> 9.8644326e-07 | H51: =IFERROR(SUM(D28:D51)/2,"--") -> 0.63481028 | I51: =IFERROR(SUM(E28:E51)/2,"--") -> 0.045959448 | J51: =IFERROR(SUM(F28:F51)/2,"--") -> 0.58861953 | K51: =IFERROR(SUM(G28:G51)/2,"--") -> 0.039688305

Sheet PM2.5 Simple
B4: Company Name: | C4: U. S. Steel
B5: Facility Name: | C5: Irvin Plant
B6: Project Description: | C6: Irvin Permitting
B10: Pollutant: | C10: PM2.5
D12: Monthly Emissions (tons) | H12: 2-Year Average of Emissions (tons)
B13: Year | C13: Month | D13: Boiler #3 - COG | E13: Boiler #3 - NG | F13: Boiler #4 - COG | G13: Boiler #4 - NG | H13: Boiler #3 - COG | I13: Boiler #3 - NG | J13: Boiler #4 - COG | K13: Boiler #4 - NG
D14: COG (MCF) | E14: NAT GAS (MCF) | F14: COG (MCF) | G14: NAT GAS (MCF)
D15: #3 Boiler | E15: #3 Boiler | F15: #4 Boiler | G15: #4 Boiler
B16: 2020 | C16: January | D16: {=_xlfn.XLOOKUP(D$13,INDIRECT("'"&$B16&" EI'!$B$6:$B$53"),_xlfn.XLOOKUP($C$10,INDIRECT("'"&$B16&" EI'!$D$4:$Z$4"),INDIRECT("'"&$B16&" EI'!$D$6:$Z$53")))*_xlfn.XLOOKUP($B16&D$15,'Gas Useage'!$A$4:$A$15&'Gas Useage'!$B$4:$B$15,_xlfn.XLOOKUP($C16&D$14,'Gas Useage'!$C$2:$AB$2&'Gas Useage'!$C$3:$AB$3,'Gas Useage'!$C$4:$AB$15))/_xlfn.XLOOKUP($B16&D$15,'Gas Useage'!$A$4:$A$15&'Gas Useage'!$B$4:$B$15,_xlfn.XLOOKUP(D$14,'Gas Useage'!$AA$3:$AB$3,'Gas Useage'!$AA$4:$AB$15))} -> 0.046856125 | E16: {=_xlfn.XLOOKUP(E$13,INDIRECT("'"&$B16&" EI'!$B$6:$B$53"),_xlfn.XLOOKUP($C$10,INDIRECT("'"&$B16&" EI'!$D$4:$Z$4"),INDIRECT("'"&$B16&" EI'!$D$6:$Z$53")))*_xlfn.XLOOKUP($B16&E$15,'Gas Useage'!$A$4:$A$15&'Gas Useage'!$B$4:$B$15,_xlfn.XLOOKUP($C16&E$14,'Gas Useage'!$C$2:$AB$2&'Gas Useage'!$C$3:$AB$3,'Gas Useage'!$C$4:$AB$15))/_xlfn.XLOOKUP($B16&E$15,'Gas Useage'!$A$4:$A$15&'Gas Useage'!$B$4:$B$15,_xlfn.XLOOKUP(E$14,'Gas Useage'!$AA$3:$AB$3,'Gas Useage'!$AA$4:$AB$15))} -> 0.0039382261 | F16: {=_xlfn.XLOOKUP(F$13,INDIRECT("'"&$B16&" EI'!$B$6:$B$53"),_xlfn.XLOOKUP($C$10,INDIRECT("'"&$B16&" EI'!$D$4:$Z$4"),INDIRECT("'"&$B16&" EI'!$D$6:$Z$53")))*_xlfn.XLOOKUP($B16&F$15,'Gas Useage'!$A$4:$A$15&'Gas Useage'!$B$4:$B$15,_xlfn.XLOOKUP($C16&F$14,'Gas Useage'!$C$2:$AB$2&'Gas Useage'!$C$3:$AB$3,'Gas Useage'!$C$4:$AB$15))/_xlfn.XLOOKUP($B16&F$15,'Gas Useage'!$A$4:$A$15&'Gas Useage'!$B$4:$B$15,_xlfn.XLOOKUP(F$14,'Gas Useage'!$AA$3:$AB$3,'Gas Useage'!$AA$4:$AB$15))} -> 0.061341536 | G16: {=_xlfn.XLOOKUP(G$13,INDIRECT("'"&$B16&" EI'!$B$6:$B$53"),_xlfn.XLOOKUP($C$10,INDIRECT("'"&$B16&" EI'!$D$4:$Z$4"),INDIRECT("'"&$B16&" EI'!$D$6:$Z$53")))*_xlfn.XLOOKUP($B16&G$15,'Gas Useage'!$A$4:$A$15&'Gas Useage'!$B$4:$B$15,_xlfn.XLOOKUP($C16&G$14,'Gas Useage'!$C$2:$AB$2&'Gas Useage'!$C$3:$AB$3,'Gas Useage'!$C$4:$AB$15))/_xlfn.XLOOKUP($B16&G$15,'Gas Useage'!$A$4:$A$15&'Gas Useage'!$B$4:$B$15,_xlfn.XLOOKUP(G$14,'Gas Useage'!$AA$3:$AB$3,'Gas Useage'!$AA$4:$AB$15))} -> 0.0051557153 | H16: -- | I16: -- | J16: -- | K16: --
B17: 2020 | C17: February | D17: {=_xlfn.XLOOKUP(D$13,INDIRECT("'"&$B17&" EI'!$B$6:$B$53"),_xlfn.XLOOKUP($C$10,INDIRECT("'"&$B17&" EI'!$D$4:$Z$4"),INDIRECT("'"&$B17&" EI'!$D$6:$Z$53")))*_xlfn.XLOOKUP($B17&D$15,'Gas Useage'!$A$4:$A$15&'Gas Useage'!$B$4:$B$15,_xlfn.XLOOKUP($C17&D$14,'Gas Useage'!$C$2:$AB$2&'Gas Useage'!$C$3:$AB$3,'Gas Useage'!$C$4:$AB$15))/_xlfn.XLOOKUP($B17&D$15,'Gas Useage'!$A$4:$A$15&'Gas Useage'!$B$4:$B$15,_xlfn.XLOOKUP(D$14,'Gas Useage'!$AA$3:$AB$3,'Gas Useage'!$AA$4:$AB$15))} -> 0.077677571 | E17: {=_xlfn.XLOOKUP(E$13,INDIRECT("'"&$B17&" EI'!$B$6:$B$53"),_xlfn.XLOOKUP($C$10,INDIRECT("'"&$B17&" EI'!$D$4:$Z$4"),INDIRECT("'"&$B17&" EI'!$D$6:$Z$53")))*_xlfn.XLOOKUP($B17&E$15,'Gas Useage'!$A$4:$A$15&'Gas Useage'!$B$4:$B$15,_xlfn.XLOOKUP($C17&E$14,'Gas Useage'!$C$2:$AB$2&'Gas Useage'!$C$3:$AB$3,'Gas Useage'!$C$4:$AB$15))/_xlfn.XLOOKUP($B17&E$15,'Gas Useage'!$A$4:$A$15&'Gas Useage'!$B$4:$B$15,_xlfn.XLOOKUP(E$14,'Gas Useage'!$AA$3:$AB$3,'Gas Useage'!$AA$4:$AB$15))} -> 0.0081726334 | F17: {=_xlfn.XLOOKUP(F$13,INDIRECT("'"&$B17&" EI'!$B$6:$B$53"),_xlfn.XLOOKUP($C$10,INDIRECT("'"&$B17&" EI'!$D$4:$Z$4"),INDIRECT("'"&$B17&" EI'!$D$6:$Z$53")))*_xlfn.XLOOKUP($B17&F$15,'Gas Useage'!$A$4:$A$15&'Gas Useage'!$B$4:$B$15,_xlfn.XLOOKUP($C17&F$14,'Gas Useage'!$C$2:$AB$2&'Gas Useage'!$C$3:$AB$3,'Gas Useage'!$C$4:$AB$15))/_xlfn.XLOOKUP($B17&F$15,'Gas Useage'!$A$4:$A$15&'Gas Useage'!$B$4:$B$15,_xlfn.XLOOKUP(F$14,'Gas Useage'!$AA$3:$AB$3,'Gas Useage'!$AA$4:$AB$15))} -> 0.06335372 | G17: {=_xlfn.XLOOKUP(G$13,INDIRECT("'"&$B17&" EI'!$B$6:$B$53"),_xlfn.XLOOKUP($C$10,INDIRECT("'"&$B17&" EI'!$D$4:$Z$4"),INDIRECT("'"&$B17&" EI'!$D$6:$Z$53")))*_xlfn.XLOOKUP($B17&G$15,'Gas Useage'!$A$4:$A$15&'Gas Useage'!$B$4:$B$15,_xlfn.XLOOKUP($C17&G$14,'Gas Useage'!$C$2:$AB$2&'Gas Useage'!$C$3:$AB$3,'Gas Useage'!$C$4:$AB$15))/_xlfn.XLOOKUP($B17&G$15,'Gas Useage'!$A$4:$A$15&'Gas Useage'!$B$4:$B$15,_xlfn.XLOOKUP(G$14,'Gas Useage'!$AA$3:$AB$3,'Gas Useage'!$AA$4:$AB$15))} -> 0.0066655885 | H17: -- | I17: -- | J17: -- | K17: --
B18: 2020 | C18: March | D18: {=_xlfn.XLOOKUP(D$13,INDIRECT("'"&$B18&" EI'!$B$6:$B$53"),_xlfn.XLOOKUP($C$10,INDIRECT("'"&$B18&" EI'!$D$4:$Z$4"),INDIRECT("'"&$B18&" EI'!$D$6:$Z$53")))*_xlfn.XLOOKUP($B18&D$15,'Gas Useage'!$A$4:$A$15&'Gas Useage'!$B$4:$B$15,_xlfn.XLOOKUP($C18&D$14,'Gas Useage'!$C$2:$AB$2&'Gas Useage'!$C$3:$AB$3,'Gas Useage'!$C$4:$AB$15))/_xlfn.XLOOKUP($B18&D$15,'Gas Useage'!$A$4:$A$15&'Gas Useage'!$B$4:$B$15,_xlfn.XLOOKUP(D$14,'Gas Useage'!$AA$3:$AB$3,'Gas Useage'!$AA$4:$AB$15))} -> 0.079284925 | E18: {=_xlfn.XLOOKUP(E$13,INDIRECT("'"&$B18&" EI'!$B$6:$B$53"),_xlfn.XLOOKUP($C$10,INDIRECT("'"&$B18&" EI'!$D$4:$Z$4"),INDIRECT("'"&$B18&" EI'!$D$6:$Z$53")))*_xlfn.XLOOKUP($B18&E$15,'Gas Useage'!$A$4:$A$15&'Gas Useage'!$B$4:$B$15,_xlfn.XLOOKUP($C18&E$14,'Gas Useage'!$C$2:$AB$2&'Gas Useage'!$C$3:$AB$3,'Gas Useage'!$C$4:$AB$15))/_xlfn.XLOOKUP($B18&E$15,'Gas Useage'!$A$4:$A$15&'Gas Useage'!$B$4:$B$15,_xlfn.XLOOKUP(E$14,'Gas Useage'!$AA$3:$AB$3,'Gas Useage'!$AA$4:$AB$15))} -> 0.008712433 | F18: {=_xlfn.XLOOKUP(F$13,INDIRECT("'"&$B18&" EI'!$B$6:$B$53"),_xlfn.XLOOKUP($C$10,INDIRECT("'"&$B18&" EI'!$D$4:$Z$4"),INDIRECT("'"&$B18&" EI'!$D$6:$Z$53")))*_xlfn.XLOOKUP($B18&F$15,'Gas Useage'!$A$4:$A$15&'Gas Useage'!$B$4:$B$15,_xlfn.XLOOKUP($C18&F$14,'Gas Useage'!$C$2:$AB$2&'Gas Useage'!$C$3:$AB$3,'Gas Useage'!$C$4:$AB$15))/_xlfn.XLOOKUP($B18&F$15,'Gas Useage'!$A$4:$A$15&'Gas Useage'!$B$4:$B$15,_xlfn.XLOOKUP(F$14,'Gas Useage'!$AA$3:$AB$3,'Gas Useage'!$AA$4:$AB$15))} -> 0.049283327 | G18: {=_xlfn.XLOOKUP(G$13,INDIRECT("'"&$B18&" EI'!$B$6:$B$53"),_xlfn.XLOOKUP($C$10,INDIRECT("'"&$B18&" EI'!$D$4:$Z$4"),INDIRECT("'"&$B18&" EI'!$D$6:$Z$53")))*_xlfn.XLOOKUP($B18&G$15,'Gas Useage'!$A$4:$A$15&'Gas Useage'!$B$4:$B$15,_xlfn.XLOOKUP($C18&G$14,'Gas Useage'!$C$2:$AB$2&'Gas Useage'!$C$3:$AB$3,'Gas Useage'!$C$4:$AB$15))/_xlfn.XLOOKUP($B18&G$15,'Gas Useage'!$A$4:$A$15&'Gas Useage'!$B$4:$B$15,_xlfn.XLOOKUP(G$14,'Gas Useage'!$AA$3:$AB$3,'Gas Useage'!$AA$4:$AB$15))} -> 0.0054156284 | H18: -- | I18: -- | J18: -- | K18: --
B19: 2020 | C19: April | D19: {=_xlfn.XLOOKUP(D$13,INDIRECT("'"&$B19&" EI'!$B$6:$B$53"),_xlfn.XLOOKUP($C$10,INDIRECT("'"&$B19&" EI'!$D$4:$Z$4"),INDIRECT("'"&$B19&" EI'!$D$6:$Z$53")))*_xlfn.XLOOKUP($B19&D$15,'Gas Useage'!$A$4:$A$15&'Gas Useage'!$B$4:$B$15,_xlfn.XLOOKUP($C19&D$14,'Gas Useage'!$C$2:$AB$2&'Gas Useage'!$C$3:$AB$3,'Gas Useage'!$C$4:$AB$15))/_xlfn.XLOOKUP($B19&D$15,'Gas Useage'!$A$4:$A$15&'Gas Useage'!$B$4:$B$15,_xlfn.XLOOKUP(D$14,'Gas Useage'!$AA$3:$AB$3,'Gas Useage'!$AA$4:$AB$15))} -> 0.030722784 | E19: {=_xlfn.XLOOKUP(E$13,INDIRECT("'"&$B19&" EI'!$B$6:$B$53"),_xlfn.XLOOKUP($C$10,INDIRECT("'"&$B19&" EI'!$D$4:$Z$4"),INDIRECT("'"&$B19&" EI'!$D$6:$Z$53")))*_xlfn.XLOOKUP($B19&E$15,'Gas Useage'!$A$4:$A$15&'Gas Useage'!$B$4:$B$15,_xlfn.XLOOKUP($C19&E$14,'Gas Useage'!$C$2:$AB$2&'Gas Useage'!$C$3:$AB$3,'Gas Useage'!$C$4:$AB$15))/_xlfn.XLOOKUP($B19&E$15,'Gas Useage'!$A$4:$A$15&'Gas Useage'!$B$4:$B$15,_xlfn.XLOOKUP(E$14,'Gas Useage'!$AA$3:$AB$3,'Gas Useage'!$AA$4:$AB$15))} -> 0.003454923 | F19: {=_xlfn.XLOOKUP(F$13,INDIRECT("'"&$B19&" EI'!$B$6:$B$53"),_xlfn.XLOOKUP($C$10,INDIRECT("'"&$B19&" EI'!$D$4:$Z$4"),INDIRECT("'"&$B19&" EI'!$D$6:$Z$53")))*_xlfn.XLOOKUP($B19&F$15,'Gas Useage'!$A$4:$A$15&'Gas Useage'!$B$4:$B$15,_xlfn.XLOOKUP($C19&F$14,'Gas Useage'!$C$2:$AB$2&'Gas Useage'!$C$3:$AB$3,'Gas Useage'!$C$4:$AB$15))/_xlfn.XLOOKUP($B19&F$15,'Gas Useage'!$A$4:$A$15&'Gas Useage'!$B$4:$B$15,_xlfn.XLOOKUP(F$14,'Gas Useage'!$AA$3:$AB$3,'Gas Useage'!$AA$4:$AB$15))} -> 0.030825433 | G19: {=_xlfn.XLOOKUP(G$13,INDIRECT("'"&$B19&" EI'!$B$6:$B$53"),_xlfn.XLOOKUP($C$10,INDIRECT("'"&$B19&" EI'!$D$4:$Z$4"),INDIRECT("'"&$B19&" EI'!$D$6:$Z$53")))*_xlfn.XLOOKUP($B19&G$15,'Gas Useage'!$A$4:$A$15&'Gas Useage'!$B$4:$B$15,_xlfn.XLOOKUP($C19&G$14,'Gas Useage'!$C$2:$AB$2&'Gas Useage'!$C$3:$AB$3,'Gas Useage'!$C$4:$AB$15))/_xlfn.XLOOKUP($B19&G$15,'Gas Useage'!$A$4:$A$15&'Gas Useage'!$B$4:$B$15,_xlfn.XLOOKUP(G$14,'Gas Useage'!$AA$3:$AB$3,'Gas Useage'!$AA$4:$AB$15))} -> 0.0034664663 | H19: -- | I19: -- | J19: -- | K19: --
B20: 2020 | C20: May | D20: {=_xlfn.XLOOKUP(D$13,INDIRECT("'"&$B20&" EI'!$B$6:$B$53"),_xlfn.XLOOKUP($C$10,INDIRECT("'"&$B20&" EI'!$D$4:$Z$4"),INDIRECT("'"&$B20&" EI'!$D$6:$Z$53")))*_xlfn.XLOOKUP($B20&D$15,'Gas Useage'!$A$4:$A$15&'Gas Useage'!$B$4:$B$15,_xlfn.XLOOKUP($C20&D$14,'Gas Useage'!$C$2:$AB$2&'Gas Useage'!$C$3:$AB$3,'Gas Useage'!$C$4:$AB$15))/_xlfn.XLOOKUP($B20&D$15,'Gas Useage'!$A$4:$A$15&'Gas Useage'!$B$4:$B$15,_xlfn.XLOOKUP(D$14,'Gas Useage'!$AA$3:$AB$3,'Gas Useage'!$AA$4:$AB$15))} -> 0.0019256289 | E20: {=_xlfn.XLOOKUP(E$13,INDIRECT("'"&$B20&" EI'!$B$6:$B$53"),_xlfn.XLOOKUP($C$10,INDIRECT("'"&$B20&" EI'!$D$4:$Z$4"),INDIRECT("'"&$B20&" EI'!$D$6:$Z$53")))*_xlfn.XLOOKUP($B20&E$15,'Gas Useage'!$A$4:$A$15&'Gas Useage'!$B$4:$B$15,_xlfn.XLOOKUP($C20&E$14,'Gas Useage'!$C$2:$AB$2&'Gas Useage'!$C$3:$AB$3,'Gas Useage'!$C$4:$AB$15))/_xlfn.XLOOKUP($B20&E$15,'Gas Useage'!$A$4:$A$15&'Gas Useage'!$B$4:$B$15,_xlfn.XLOOKUP(E$14,'Gas Useage'!$AA$3:$AB$3,'Gas Useage'!$AA$4:$AB$15))} -> 0.00012619798 | F20: {=_xlfn.XLOOKUP(F$13,INDIRECT("'"&$B20&" EI'!$B$6:$B$53"),_xlfn.XLOOKUP($C$10,INDIRECT("'"&$B20&" EI'!$D$4:$Z$4"),INDIRECT("'"&$B20&" EI'!$D$6:$Z$53")))*_xlfn.XLOOKUP($B20&F$15,'Gas Useage'!$A$4:$A$15&'Gas Useage'!$B$4:$B$15,_xlfn.XLOOKUP($C20&F$14,'Gas Useage'!$C$2:$AB$2&'Gas Useage'!$C$3:$AB$3,'Gas Useage'!$C$4:$AB$15))/_xlfn.XLOOKUP($B20&F$15,'Gas Useage'!$A$4:$A$15&'Gas Useage'!$B$4:$B$15,_xlfn.XLOOKUP(F$14,'Gas Useage'!$AA$3:$AB$3,'Gas Useage'!$AA$4:$AB$15))} -> 9.3023508e-07 | G20: {=_xlfn.XLOOKUP(G$13,INDIRECT("'"&$B20&" EI'!$B$6:$B$53"),_xlfn.XLOOKUP($C$10,INDIRECT("'"&$B20&" EI'!$D$4:$Z$4"),INDIRECT("'"&$B20&" EI'!$D$6:$Z$53")))*_xlfn.XLOOKUP($B20&G$15,'Gas Useage'!$A$4:$A$15&'Gas Useage'!$B$4:$B$15,_xlfn.XLOOKUP($C20&G$14,'Gas Useage'!$C$2:$AB$2&'Gas Useage'!$C$3:$AB$3,'Gas Useage'!$C$4:$AB$15))/_xlfn.XLOOKUP($B20&G$15,'Gas Useage'!$A$4:$A$15&'Gas Useage'!$B$4:$B$15,_xlfn.XLOOKUP(G$14,'Gas Useage'!$AA$3:$AB$3,'Gas Useage'!$AA$4:$AB$15))} -> 6.0963868e-08 | H20: -- | I20: -- | J20: -- | K20: --
B21: 2020 | C21: June | D21: {=_xlfn.XLOOKUP(D$13,INDIRECT("'"&$B21&" EI'!$B$6:$B$53"),_xlfn.XLOOKUP($C$10,INDIRECT("'"&$B21&" EI'!$D$4:$Z$4"),INDIRECT("'"&$B21&" EI'!$D$6:$Z$53")))*_xlfn.XLOOKUP($B21&D$15,'Gas Useage'!$A$4:$A$15&'Gas Useage'!$B$4:$B$15,_xlfn.XLOOKUP($C21&D$14,'Gas Useage'!$C$2:$AB$2&'Gas Useage'!$C$3:$AB$3,'Gas Useage'!$C$4:$AB$15))/_xlfn.XLOOKUP($B21&D$15,'Gas Useage'!$A$4:$A$15&'Gas Useage'!$B$4:$B$15,_xlfn.XLOOKUP(D$14,'Gas Useage'!$AA$3:$AB$3,'Gas Useage'!$AA$4:$AB$15))} -> 0 | E21: {=_xlfn.XLOOKUP(E$13,INDIRECT("'"&$B21&" EI'!$B$6:$B$53"),_xlfn.XLOOKUP($C$10,INDIRECT("'"&$B21&" EI'!$D$4:$Z$4"),INDIRECT("'"&$B21&" EI'!$D$6:$Z$53")))*_xlfn.XLOOKUP($B21&E$15,'Gas Useage'!$A$4:$A$15&'Gas Useage'!$B$4:$B$15,_xlfn.XLOOKUP($C21&E$14,'Gas Useage'!$C$2:$AB$2&'Gas Useage'!$C$3:$AB$3,'Gas Useage'!$C$4:$AB$15))/_xlfn.XLOOKUP($B21&E$15,'Gas Useage'!$A$4:$A$15&'Gas Useage'!$B$4:$B$15,_xlfn.XLOOKUP(E$14,'Gas Useage'!$AA$3:$AB$3,'Gas Useage'!$AA$4:$AB$15))} -> 0 | F21: {=_xlfn.XLOOKUP(F$13,INDIRECT("'"&$B21&" EI'!$B$6:$B$53"),_xlfn.XLOOKUP($C$10,INDIRECT("'"&$B21&" EI'!$D$4:$Z$4"),INDIRECT("'"&$B21&" EI'!$D$6:$Z$53")))*_xlfn.XLOOKUP($B21&F$15,'Gas Useage'!$A$4:$A$15&'Gas Useage'!$B$4:$B$15,_xlfn.XLOOKUP($C21&F$14,'Gas Useage'!$C$2:$AB$2&'Gas Useage'!$C$3:$AB$3,'Gas Useage'!$C$4:$AB$15))/_xlfn.XLOOKUP($B21&F$15,'Gas Useage'!$A$4:$A$15&'Gas Useage'!$B$4:$B$15,_xlfn.XLOOKUP(F$14,'Gas Useage'!$AA$3:$AB$3,'Gas Useage'!$AA$4:$AB$15))} -> 0 | G21: {=_xlfn.XLOOKUP(G$13,INDIRECT("'"&$B21&" EI'!$B$6:$B$53"),_xlfn.XLOOKUP($C$10,INDIRECT("'"&$B21&" EI'!$D$4:$Z$4"),INDIRECT("'"&$B21&" EI'!$D$6:$Z$53")))*_xlfn.XLOOKUP($B21&G$15,'Gas Useage'!$A$4:$A$15&'Gas Useage'!$B$4:$B$15,_xlfn.XLOOKUP($C21&G$14,'Gas Useage'!$C$2:$AB$2&'Gas Useage'!$C$3:$AB$3,'Gas Useage'!$C$4:$AB$15))/_xlfn.XLOOKUP($B21&G$15,'Gas Useage'!$A$4:$A$15&'Gas Useage'!$B$4:$B$15,_xlfn.XLOOKUP(G$14,'Gas Useage'!$AA$3:$AB$3,'Gas Useage'!$AA$4:$AB$15))} -> 0 | H21: -- | I21: -- | J21: -- | K21: --
B22: 2020 | C22: July | D22: {=_xlfn.XLOOKUP(D$13,INDIRECT("'"&$B22&" EI'!$B$6:$B$53"),_xlfn.XLOOKUP($C$10,INDIRECT("'"&$B22&" EI'!$D$4:$Z$4"),INDIRECT("'"&$B22&" EI'!$D$6:$Z$53")))*_xlfn.XLOOKUP($B22&D$15,'Gas Useage'!$A$4:$A$15&'Gas Useage'!$B$4:$B$15,_xlfn.XLOOKUP($C22&D$14,'Gas Useage'!$C$2:$AB$2&'Gas Useage'!$C$3:$AB$3,'Gas Useage'!$C$4:$AB$15))/_xlfn.XLOOKUP($B22&D$15,'Gas Useage'!$A$4:$A$15&'Gas Useage'!$B$4:$B$15,_xlfn.XLOOKUP(D$14,'Gas Useage'!$AA$3:$AB$3,'Gas Useage'!$AA$4:$AB$15))} -> 0.077416591 | E22: {=_xlfn.XLOOKUP(E$13,INDIRECT("'"&$B22&" EI'!$B$6:$B$53"),_xlfn.XLOOKUP($C$10,INDIRECT("'"&$B22&" EI'!$D$4:$Z$4"),INDIRECT("'"&$B22&" EI'!$D$6:$Z$53")))*_xlfn.XLOOKUP($B22&E$15,'Gas Useage'!$A$4:$A$15&'Gas Useage'!$B$4:$B$15,_xlfn.XLOOKUP($C22&E$14,'Gas Useage'!$C$2:$AB$2&'Gas Useage'!$C$3:$AB$3,'Gas Useage'!$C$4:$AB$15))/_xlfn.XLOOKUP($B22&E$15,'Gas Useage'!$A$4:$A$15&'Gas Useage'!$B$4:$B$15,_xlfn.XLOOKUP(E$14,'Gas Useage'!$AA$3:$AB$3,'Gas Useage'!$AA$4:$AB$15))} -> 0.0080933914 | F22: {=_xlfn.XLOOKUP(F$13,INDIRECT("'"&$B22&" EI'!$B$6:$B$53"),_xlfn.XLOOKUP($C$10,INDIRECT("'"&$B22&" EI'!$D$4:$Z$4"),INDIRECT("'"&$B22&" EI'!$D$6:$Z$53")))*_xlfn.XLOOKUP($B22&F$15,'Gas Useage'!$A$4:$A$15&'Gas Useage'!$B$4:$B$15,_xlfn.XLOOKUP($C22&F$14,'Gas Useage'!$C$2:$AB$2&'Gas Useage'!$C$3:$AB$3,'Gas Useage'!$C$4:$AB$15))/_xlfn.XLOOKUP($B22&F$15,'Gas Useage'!$A$4:$A$15&'Gas Useage'!$B$4:$B$15,_xlfn.XLOOKUP(F$14,'Gas Useage'!$AA$3:$AB$3,'Gas Useage'!$AA$4:$AB$15))} -> 0.048660662 | G22: {=_xlfn.XLOOKUP(G$13,INDIRECT("'"&$B22&" EI'!$B$6:$B$53"),_xlfn.XLOOKUP($C$10,INDIRECT("'"&$B22&" EI'!$D$4:$Z$4"),INDIRECT("'"&$B22&" EI'!$D$6:$Z$53")))*_xlfn.XLOOKUP($B22&G$15,'Gas Useage'!$A$4:$A$15&'Gas Useage'!$B$4:$B$15,_xlfn.XLOOKUP($C22&G$14,'Gas Useage'!$C$2:$AB$2&'Gas Useage'!$C$3:$AB$3,'Gas Useage'!$C$4:$AB$15))/_xlfn.XLOOKUP($B22&G$15,'Gas Useage'!$A$4:$A$15&'Gas Useage'!$B$4:$B$15,_xlfn.XLOOKUP(G$14,'Gas Useage'!$AA$3:$AB$3,'Gas Useage'!$AA$4:$AB$15))} -> 0.0050871496 | H22: -- | I22: -- | J22: -- | K22: --
B23: 2020 | C23: August | D23: {=_xlfn.XLOOKUP(D$13,INDIRECT("'"&$B23&" EI'!$B$6:$B$53"),_xlfn.XLOOKUP($C$10,INDIRECT("'"&$B23&" EI'!$D$4:$Z$4"),INDIRECT("'"&$B23&" EI'!$D$6:$Z$53")))*_xlfn.XLOOKUP($B23&D$15,'Gas Useage'!$A$4:$A$15&'Gas Useage'!$B$4:$B$15,_xlfn.XLOOKUP($C23&D$14,'Gas Useage'!$C$2:$AB$2&'Gas Useage'!$C$3:$AB$3,'Gas Useage'!$C$4:$AB$15))/_xlfn.XLOOKUP($B23&D$15,'Gas Useage'!$A$4:$A$15&'Gas Useage'!$B$4:$B$15,_xlfn.XLOOKUP(D$14,'Gas Useage'!$AA$3:$AB$3,'Gas Useage'!$AA$4:$AB$15))} -> 0.077865959 | E23: {=_xlfn.XLOOKUP(E$13,INDIRECT("'"&$B23&" EI'!$B$6:$B$53"),_xlfn.XLOOKUP($C$10,INDIRECT("'"&$B23&" EI'!$D$4:$Z$4"),INDIRECT("'"&$B23&" EI'!$D$6:$Z$53")))*_xlfn.XLOOKUP($B23&E$15,'Gas Useage'!$A$4:$A$15&'Gas Useage'!$B$4:$B$15,_xlfn.XLOOKUP($C23&E$14,'Gas Useage'!$C$2:$AB$2&'Gas Useage'!$C$3:$AB$3,'Gas Useage'!$C$4:$AB$15))/_xlfn.XLOOKUP($B23&E$15,'Gas Useage'!$A$4:$A$15&'Gas Useage'!$B$4:$B$15,_xlfn.XLOOKUP(E$14,'Gas Useage'!$AA$3:$AB$3,'Gas Useage'!$AA$4:$AB$15))} -> 0.0061895767 | F23: {=_xlfn.XLOOKUP(F$13,INDIRECT("'"&$B23&" EI'!$B$6:$B$53"),_xlfn.XLOOKUP($C$10,INDIRECT("'"&$B23&" EI'!$D$4:$Z$4"),INDIRECT("'"&$B23&" EI'!$D$6:$Z$53")))*_xlfn.XLOOKUP($B23&F$15,'Gas Useage'!$A$4:$A$15&'Gas Useage'!$B$4:$B$15,_xlfn.XLOOKUP($C23&F$14,'Gas Useage'!$C$2:$AB$2&'Gas Useage'!$C$3:$AB$3,'Gas Useage'!$C$4:$AB$15))/_xlfn.XLOOKUP($B23&F$15,'Gas Useage'!$A$4:$A$15&'Gas Useage'!$B$4:$B$15,_xlfn.XLOOKUP(F$14,'Gas Useage'!$AA$3:$AB$3,'Gas Useage'!$AA$4:$AB$15))} -> 0.0090211404 | G23: {=_xlfn.XLOOKUP(G$13,INDIRECT("'"&$B23&" EI'!$B$6:$B$53"),_xlfn.XLOOKUP($C$10,INDIRECT("'"&$B23&" EI'!$D$4:$Z$4"),INDIRECT("'"&$B23&" EI'!$D$6:$Z$53")))*_xlfn.XLOOKUP($B23&G$15,'Gas Useage'!$A$4:$A$15&'Gas Useage'!$B$4:$B$15,_xlfn.XLOOKUP($C23&G$14,'Gas Useage'!$C$2:$AB$2&'Gas Useage'!$C$3:$AB$3,'Gas Useage'!$C$4:$AB$15))/_xlfn.XLOOKUP($B23&G$15,'Gas Useage'!$A$4:$A$15&'Gas Useage'!$B$4:$B$15,_xlfn.XLOOKUP(G$14,'Gas Useage'!$AA$3:$AB$3,'Gas Useage'!$AA$4:$AB$15))} -> 0.00071709179 | H23: -- | I23: -- | J23: -- | K23: --
B24: 2020 | C24: September | D24: {=_xlfn.XLOOKUP(D$13,INDIRECT("'"&$B24&" EI'!$B$6:$B$53"),_xlfn.XLOOKUP($C$10,INDIRECT("'"&$B24&" EI'!$D$4:$Z$4"),INDIRECT("'"&$B24&" EI'!$D$6:$Z$53")))*_xlfn.XLOOKUP($B24&D$15,'Gas Useage'!$A$4:$A$15&'Gas Useage'!$B$4:$B$15,_xlfn.XLOOKUP($C24&D$14,'Gas Useage'!$C$2:$AB$2&'Gas Useage'!$C$3:$AB$3,'Gas Useage'!$C$4:$AB$15))/_xlfn.XLOOKUP($B24&D$15,'Gas Useage'!$A$4:$A$15&'Gas Useage'!$B$4:$B$15,_xlfn.XLOOKUP(D$14,'Gas Useage'!$AA$3:$AB$3,'Gas Useage'!$AA$4:$AB$15))} -> 0.021375956 | E24: {=_xlfn.XLOOKUP(E$13,INDIRECT("'"&$B24&" EI'!$B$6:$B$53"),_xlfn.XLOOKUP($C$10,INDIRECT("'"&$B24&" EI'!$D$4:$Z$4"),INDIRECT("'"&$B24&" EI'!$D$6:$Z$53")))*_xlfn.XLOOKUP($B24&E$15,'Gas Useage'!$A$4:$A$15&'Gas Useage'!$B$4:$B$15,_xlfn.XLOOKUP($C24&E$14,'Gas Useage'!$C$2:$AB$2&'Gas Useage'!$C$3:$AB$3,'Gas Useage'!$C$4:$AB$15))/_xlfn.XLOOKUP($B24&E$15,'Gas Useage'!$A$4:$A$15&'Gas Useage'!$B$4:$B$15,_xlfn.XLOOKUP(E$14,'Gas Useage'!$AA$3:$AB$3,'Gas Useage'!$AA$4:$AB$15))} -> 0.0027718734 | F24: {=_xlfn.XLOOKUP(F$13,INDIRECT("'"&$B24&" EI'!$B$6:$B$53"),_xlfn.XLOOKUP($C$10,INDIRECT("'"&$B24&" EI'!$D$4:$Z$4"),INDIRECT("'"&$B24&" EI'!$D$6:$Z$53")))*_xlfn.XLOOKUP($B24&F$15,'Gas Useage'!$A$4:$A$15&'Gas Useage'!$B$4:$B$15,_xlfn.XLOOKUP($C24&F$14,'Gas Useage'!$C$2:$AB$2&'Gas Useage'!$C$3:$AB$3,'Gas Useage'!$C$4:$AB$15))/_xlfn.XLOOKUP($B24&F$15,'Gas Useage'!$A$4:$A$15&'Gas Useage'!$B$4:$B$15,_xlfn.XLOOKUP(F$14,'Gas Useage'!$AA$3:$AB$3,'Gas Useage'!$AA$4:$AB$15))} -> 0.00014633842 | G24: {=_xlfn.XLOOKUP(G$13,INDIRECT("'"&$B24&" EI'!$B$6:$B$53"),_xlfn.XLOOKUP($C$10,INDIRECT("'"&$B24&" EI'!$D$4:$Z$4"),INDIRECT("'"&$B24&" EI'!$D$6:$Z$53")))*_xlfn.XLOOKUP($B24&G$15,'Gas Useage'!$A$4:$A$15&'Gas Useage'!$B$4:$B$15,_xlfn.XLOOKUP($C24&G$14,'Gas Useage'!$C$2:$AB$2&'Gas Useage'!$C$3:$AB$3,'Gas Useage'!$C$4:$AB$15))/_xlfn.XLOOKUP($B24&G$15,'Gas Useage'!$A$4:$A$15&'Gas Useage'!$B$4:$B$15,_xlfn.XLOOKUP(G$14,'Gas Useage'!$AA$3:$AB$3,'Gas Useage'!$AA$4:$AB$15))} -> 1.8976067e-05 | H24: -- | I24: -- | J24: -- | K24: --
B25: 2020 | C25: October | D25: {=_xlfn.XLOOKUP(D$13,INDIRECT("'"&$B25&" EI'!$B$6:$B$53"),_xlfn.XLOOKUP($C$10,INDIRECT("'"&$B25&" EI'!$D$4:$Z$4"),INDIRECT("'"&$B25&" EI'!$D$6:$Z$53")))*_xlfn.XLOOKUP($B25&D$15,'Gas Useage'!$A$4:$A$15&'Gas Useage'!$B$4:$B$15,_xlfn.XLOOKUP($C25&D$14,'Gas Useage'!$C$2:$AB$2&'Gas Useage'!$C$3:$AB$3,'Gas Useage'!$C$4:$AB$15))/_xlfn.XLOOKUP($B25&D$15,'Gas Useage'!$A$4:$A$15&'Gas Useage'!$B$4:$B$15,_xlfn.XLOOKUP(D$14,'Gas Useage'!$AA$3:$AB$3,'Gas Useage'!$AA$4:$AB$15))} -> 0.024864861 | E25: {=_xlfn.XLOOKUP(E$13,INDIRECT("'"&$B25&" EI'!$B$6:$B$53"),_xlfn.XLOOKUP($C$10,INDIRECT("'"&$B25&" EI'!$D$4:$Z$4"),INDIRECT("'"&$B25&" EI'!$D$6:$Z$53")))*_xlfn.XLOOKUP($B25&E$15,'Gas Useage'!$A$4:$A$15&'Gas Useage'!$B$4:$B$15,_xlfn.XLOOKUP($C25&E$14,'Gas Useage'!$C$2:$AB$2&'Gas Useage'!$C$3:$AB$3,'Gas Useage'!$C$4:$AB$15))/_xlfn.XLOOKUP($B25&E$15,'Gas Useage'!$A$4:$A$15&'Gas Useage'!$B$4:$B$15,_xlfn.XLOOKUP(E$14,'Gas Useage'!$AA$3:$AB$3,'Gas Useage'!$AA$4:$AB$15))} -> 0.0022511766 | F25: {=_xlfn.XLOOKUP(F$13,INDIRECT("'"&$B25&" EI'!$B$6:$B$53"),_xlfn.XLOOKUP($C$10,INDIRECT("'"&$B25&" EI'!$D$4:$Z$4"),INDIRECT("'"&$B25&" EI'!$D$6:$Z$53")))*_xlfn.XLOOKUP($B25&F$15,'Gas Useage'!$A$4:$A$15&'Gas Useage'!$B$4:$B$15,_xlfn.XLOOKUP($C25&F$14,'Gas Useage'!$C$2:$AB$2&'Gas Useage'!$C$3:$AB$3,'Gas Useage'!$C$4:$AB$15))/_xlfn.XLOOKUP($B25&F$15,'Gas Useage'!$A$4:$A$15&'Gas Useage'!$B$4:$B$15,_xlfn.XLOOKUP(F$14,'Gas Useage'!$AA$3:$AB$3,'Gas Useage'!$AA$4:$AB$15))} -> 0.057503916 | G25: {=_xlfn.XLOOKUP(G$13,INDIRECT("'"&$B25&" EI'!$B$6:$B$53"),_xlfn.XLOOKUP($C$10,INDIRECT("'"&$B25&" EI'!$D$4:$Z$4"),INDIRECT("'"&$B25&" EI'!$D$6:$Z$53")))*_xlfn.XLOOKUP($B25&G$15,'Gas Useage'!$A$4:$A$15&'Gas Useage'!$B$4:$B$15,_xlfn.XLOOKUP($C25&G$14,'Gas Useage'!$C$2:$AB$2&'Gas Useage'!$C$3:$AB$3,'Gas Useage'!$C$4:$AB$15))/_xlfn.XLOOKUP($B25&G$15,'Gas Useage'!$A$4:$A$15&'Gas Useage'!$B$4:$B$15,_xlfn.XLOOKUP(G$14,'Gas Useage'!$AA$3:$AB$3,'Gas Useage'!$AA$4:$AB$15))} -> 0.0052062012 | H25: -- | I25: -- | J25: -- | K25: --
B26: 2020 | C26: November | D26: {=_xlfn.XLOOKUP(D$13,INDIRECT("'"&$B26&" EI'!$B$6:$B$53"),_xlfn.XLOOKUP($C$10,INDIRECT("'"&$B26&" EI'!$D$4:$Z$4"),INDIRECT("'"&$B26&" EI'!$D$6:$Z$53")))*_xlfn.XLOOKUP($B26&D$15,'Gas Useage'!$A$4:$A$15&'Gas Useage'!$B$4:$B$15,_xlfn.XLOOKUP($C26&D$14,'Gas Useage'!$C$2:$AB$2&'Gas Useage'!$C$3:$AB$3,'Gas Useage'!$C$4:$AB$15))/_xlfn.XLOOKUP($B26&D$15,'Gas Useage'!$A$4:$A$15&'Gas Useage'!$B$4:$B$15,_xlfn.XLOOKUP(D$14,'Gas Useage'!$AA$3:$AB$3,'Gas Useage'!$AA$4:$AB$15))} -> 0.053613666 | E26: {=_xlfn.XLOOKUP(E$13,INDIRECT("'"&$B26&" EI'!$B$6:$B$53"),_xlfn.XLOOKUP($C$10,INDIRECT("'"&$B26&" EI'!$D$4:$Z$4"),INDIRECT("'"&$B26&" EI'!$D$6:$Z$53")))*_xlfn.XLOOKUP($B26&E$15,'Gas Useage'!$A$4:$A$15&'Gas Useage'!$B$4:$B$15,_xlfn.XLOOKUP($C26&E$14,'Gas Useage'!$C$2:$AB$2&'Gas Useage'!$C$3:$AB$3,'Gas Useage'!$C$4:$AB$15))/_xlfn.XLOOKUP($B26&E$15,'Gas Useage'!$A$4:$A$15&'Gas Useage'!$B$4:$B$15,_xlfn.XLOOKUP(E$14,'Gas Useage'!$AA$3:$AB$3,'Gas Useage'!$AA$4:$AB$15))} -> 0.0065576173 | F26: {=_xlfn.XLOOKUP(F$13,INDIRECT("'"&$B26&" EI'!$B$6:$B$53"),_xlfn.XLOOKUP($C$10,INDIRECT("'"&$B26&" EI'!$D$4:$Z$4"),INDIRECT("'"&$B26&" EI'!$D$6:$Z$53")))*_xlfn.XLOOKUP($B26&F$15,'Gas Useage'!$A$4:$A$15&'Gas Useage'!$B$4:$B$15,_xlfn.XLOOKUP($C26&F$14,'Gas Useage'!$C$2:$AB$2&'Gas Useage'!$C$3:$AB$3,'Gas Useage'!$C$4:$AB$15))/_xlfn.XLOOKUP($B26&F$15,'Gas Useage'!$A$4:$A$15&'Gas Useage'!$B$4:$B$15,_xlfn.XLOOKUP(F$14,'Gas Useage'!$AA$3:$AB$3,'Gas Useage'!$AA$4:$AB$15))} -> 0.081155471 | G26: {=_xlfn.XLOOKUP(G$13,INDIRECT("'"&$B26&" EI'!$B$6:$B$53"),_xlfn.XLOOKUP($C$10,INDIRECT("'"&$B26&" EI'!$D$4:$Z$4"),INDIRECT("'"&$B26&" EI'!$D$6:$Z$53")))*_xlfn.XLOOKUP($B26&G$15,'Gas Useage'!$A$4:$A$15&'Gas Useage'!$B$4:$B$15,_xlfn.XLOOKUP($C26&G$14,'Gas Useage'!$C$2:$AB$2&'Gas Useage'!$C$3:$AB$3,'Gas Useage'!$C$4:$AB$15))/_xlfn.XLOOKUP($B26&G$15,'Gas Useage'!$A$4:$A$15&'Gas Useage'!$B$4:$B$15,_xlfn.XLOOKUP(G$14,'Gas Useage'!$AA$3:$AB$3,'Gas Useage'!$AA$4:$AB$15))} -> 0.0099263221 | H26: -- | I26: -- | J26: -- | K26: --
B27: 2020 | C27: December | D27: {=_xlfn.XLOOKUP(D$13,INDIRECT("'"&$B27&" EI'!$B$6:$B$53"),_xlfn.XLOOKUP($C$10,INDIRECT("'"&$B27&" EI'!$D$4:$Z$4"),INDIRECT("'"&$B27&" EI'!$D$6:$Z$53")))*_xlfn.XLOOKUP($B27&D$15,'Gas Useage'!$A$4:$A$15&'Gas Useage'!$B$4:$B$15,_xlfn.XLOOKUP($C27&D$14,'Gas Useage'!$C$2:$AB$2&'Gas Useage'!$C$3:$AB$3,'Gas Useage'!$C$4:$AB$15))/_xlfn.XLOOKUP($B27&D$15,'Gas Useage'!$A$4:$A$15&'Gas Useage'!$B$4:$B$15,_xlfn.XLOOKUP(D$14,'Gas Useage'!$AA$3:$AB$3,'Gas Useage'!$AA$4:$AB$15))} -> 0.053613666 | E27: {=_xlfn.XLOOKUP(E$13,INDIRECT("'"&$B27&" EI'!$B$6:$B$53"),_xlfn.XLOOKUP($C$10,INDIRECT("'"&$B27&" EI'!$D$4:$Z$4"),INDIRECT("'"&$B27&" EI'!$D$6:$Z$53")))*_xlfn.XLOOKUP($B27&E$15,'Gas Useage'!$A$4:$A$15&'Gas Useage'!$B$4:$B$15,_xlfn.XLOOKUP($C27&E$14,'Gas Useage'!$C$2:$AB$2&'Gas Useage'!$C$3:$AB$3,'Gas Useage'!$C$4:$AB$15))/_xlfn.XLOOKUP($B27&E$15,'Gas Useage'!$A$4:$A$15&'Gas Useage'!$B$4:$B$15,_xlfn.XLOOKUP(E$14,'Gas Useage'!$AA$3:$AB$3,'Gas Useage'!$AA$4:$AB$15))} -> 0.0065576173 | F27: {=_xlfn.XLOOKUP(F$13,INDIRECT("'"&$B27&" EI'!$B$6:$B$53"),_xlfn.XLOOKUP($C$10,INDIRECT("'"&$B27&" EI'!$D$4:$Z$4"),INDIRECT("'"&$B27&" EI'!$D$6:$Z$53")))*_xlfn.XLOOKUP($B27&F$15,'Gas Useage'!$A$4:$A$15&'Gas Useage'!$B$4:$B$15,_xlfn.XLOOKUP($C27&F$14,'Gas Useage'!$C$2:$AB$2&'Gas Useage'!$C$3:$AB$3,'Gas Useage'!$C$4:$AB$15))/_xlfn.XLOOKUP($B27&F$15,'Gas Useage'!$A$4:$A$15&'Gas Useage'!$B$4:$B$15,_xlfn.XLOOKUP(F$14,'Gas Useage'!$AA$3:$AB$3,'Gas Useage'!$AA$4:$AB$15))} -> 0.081155471 | G27: {=_xlfn.XLOOKUP(G$13,INDIRECT("'"&$B27&" EI'!$B$6:$B$53"),_xlfn.XLOOKUP($C$10,INDIRECT("'"&$B27&" EI'!$D$4:$Z$4"),INDIRECT("'"&$B27&" EI'!$D$6:$Z$53")))*_xlfn.XLOOKUP($B27&G$15,'Gas Useage'!$A$4:$A$15&'Gas Useage'!$B$4:$B$15,_xlfn.XLOOKUP($C27&G$14,'Gas Useage'!$C$2:$AB$2&'Gas Useage'!$C$3:$AB$3,'Gas Useage'!$C$4:$AB$15))/_xlfn.XLOOKUP($B27&G$15,'Gas Useage'!$A$4:$A$15&'Gas Useage'!$B$4:$B$15,_xlfn.XLOOKUP(G$14,'Gas Useage'!$AA$3:$AB$3,'Gas Useage'!$AA$4:$AB$15))} -> 0.0099263221 | H27: -- | I27: -- | J27: -- | K27: --
... B47: 2022 | C47: August | D47: {=_xlfn.XLOOKUP(D$13,INDIRECT("'"&$B47&" EI'!$B$6:$B$53"),_xlfn.XLOOKUP($C$10,INDIRECT("'"&$B47&" EI'!$D$4:$Z$4"),INDIRECT("'"&$B47&" EI'!$D$6:$Z$53")))*_xlfn.XLOOKUP($B47&D$15,'Gas Useage'!$A$4:$A$15&'Gas Useage'!$B$4:$B$15,_xlfn.XLOOKUP($C47&D$14,'Gas Useage'!$C$2:$AB$2&'Gas Useage'!$C$3:$AB$3,'Gas Useage'!$C$4:$AB$15))/_xlfn.XLOOKUP($B47&D$15,'Gas Useage'!$A$4:$A$15&'Gas Useage'!$B$4:$B$15,_xlfn.XLOOKUP(D$14,'Gas Useage'!$AA$3:$AB$3,'Gas Useage'!$AA$4:$AB$15))} -> 0.083203714 | E47: {=_xlfn.XLOOKUP(E$13,INDIRECT("'"&$B47&" EI'!$B$6:$B$53"),_xlfn.XLOOKUP($C$10,INDIRECT("'"&$B47&" EI'!$D$4:$Z$4"),INDIRECT("'"&$B47&" EI'!$D$6:$Z$53")))*_xlfn.XLOOKUP($B47&E$15,'Gas Useage'!$A$4:$A$15&'Gas Useage'!$B$4:$B$15,_xlfn.XLOOKUP($C47&E$14,'Gas Useage'!$C$2:$AB$2&'Gas Useage'!$C$3:$AB$3,'Gas Useage'!$C$4:$AB$15))/_xlfn.XLOOKUP($B47&E$15,'Gas Useage'!$A$4:$A$15&'Gas Useage'!$B$4:$B$15,_xlfn.XLOOKUP(E$14,'Gas Useage'!$AA$3:$AB$3,'Gas Useage'!$AA$4:$AB$15))} -> 0.0077910997 | F47: {=_xlfn.XLOOKUP(F$13,INDIRECT("'"&$B47&" EI'!$B$6:$B$53"),_xlfn.XLOOKUP($C$10,INDIRECT("'"&$B47&" EI'!$D$4:$Z$4"),INDIRECT("'"&$B47&" EI'!$D$6:$Z$53")))*_xlfn.XLOOKUP($B47&F$15,'Gas Useage'!$A$4:$A$15&'Gas Useage'!$B$4:$B$15,_xlfn.XLOOKUP($C47&F$14,'Gas Useage'!$C$2:$AB$2&'Gas Useage'!$C$3:$AB$3,'Gas Useage'!$C$4:$AB$15))/_xlfn.XLOOKUP($B47&F$15,'Gas Useage'!$A$4:$A$15&'Gas Useage'!$B$4:$B$15,_xlfn.XLOOKUP(F$14,'Gas Useage'!$AA$3:$AB$3,'Gas Useage'!$AA$4:$AB$15))} -> 0.060448342 | G47: {=_xlfn.XLOOKUP(G$13,INDIRECT("'"&$B47&" EI'!$B$6:$B$53"),_xlfn.XLOOKUP($C$10,INDIRECT("'"&$B47&" EI'!$D$4:$Z$4"),INDIRECT("'"&$B47&" EI'!$D$6:$Z$53")))*_xlfn.XLOOKUP($B47&G$15,'Gas Useage'!$A$4:$A$15&'Gas Useage'!$B$4:$B$15,_xlfn.XLOOKUP($C47&G$14,'Gas Useage'!$C$2:$AB$2&'Gas Useage'!$C$3:$AB$3,'Gas Useage'!$C$4:$AB$15))/_xlfn.XLOOKUP($B47&G$15,'Gas Useage'!$A$4:$A$15&'Gas Useage'!$B$4:$B$15,_xlfn.XLOOKUP(G$14,'Gas Useage'!$AA$3:$AB$3,'Gas Useage'!$AA$4:$AB$15))} -> 0.005660313 | H47: -- | I47: -- | J47: -- | K47: --
B48: 2022 | C48: September | D48: {=_xlfn.XLOOKUP(D$13,INDIRECT("'"&$B48&" EI'!$B$6:$B$53"),_xlfn.XLOOKUP($C$10,INDIRECT("'"&$B48&" EI'!$D$4:$Z$4"),INDIRECT("'"&$B48&" EI'!$D$6:$Z$53")))*_xlfn.XLOOKUP($B48&D$15,'Gas Useage'!$A$4:$A$15&'Gas Useage'!$B$4:$B$15,_xlfn.XLOOKUP($C48&D$14,'Gas Useage'!$C$2:$AB$2&'Gas Useage'!$C$3:$AB$3,'Gas Useage'!$C$4:$AB$15))/_xlfn.XLOOKUP($B48&D$15,'Gas Useage'!$A$4:$A$15&'Gas Useage'!$B$4:$B$15,_xlfn.XLOOKUP(D$14,'Gas Useage'!$AA$3:$AB$3,'Gas Useage'!$AA$4:$AB$15))} -> 0.028379174 | E48: {=_xlfn.XLOOKUP(E$13,INDIRECT("'"&$B48&" EI'!$B$6:$B$53"),_xlfn.XLOOKUP($C$10,INDIRECT("'"&$B48&" EI'!$D$4:$Z$4"),INDIRECT("'"&$B48&" EI'!$D$6:$Z$53")))*_xlfn.XLOOKUP($B48&E$15,'Gas Useage'!$A$4:$A$15&'Gas Useage'!$B$4:$B$15,_xlfn.XLOOKUP($C48&E$14,'Gas Useage'!$C$2:$AB$2&'Gas Useage'!$C$3:$AB$3,'Gas Useage'!$C$4:$AB$15))/_xlfn.XLOOKUP($B48&E$15,'Gas Useage'!$A$4:$A$15&'Gas Useage'!$B$4:$B$15,_xlfn.XLOOKUP(E$14,'Gas Useage'!$AA$3:$AB$3,'Gas Useage'!$AA$4:$AB$15))} -> 0.0033156336 | F48: {=_xlfn.XLOOKUP(F$13,INDIRECT("'"&$B48&" EI'!$B$6:$B$53"),_xlfn.XLOOKUP($C$10,INDIRECT("'"&$B48&" EI'!$D$4:$Z$4"),INDIRECT("'"&$B48&" EI'!$D$6:$Z$53")))*_xlfn.XLOOKUP($B48&F$15,'Gas Useage'!$A$4:$A$15&'Gas Useage'!$B$4:$B$15,_xlfn.XLOOKUP($C48&F$14,'Gas Useage'!$C$2:$AB$2&'Gas Useage'!$C$3:$AB$3,'Gas Useage'!$C$4:$AB$15))/_xlfn.XLOOKUP($B48&F$15,'Gas Useage'!$A$4:$A$15&'Gas Useage'!$B$4:$B$15,_xlfn.XLOOKUP(F$14,'Gas Useage'!$AA$3:$AB$3,'Gas Useage'!$AA$4:$AB$15))} -> 0.016083864 | G48: {=_xlfn.XLOOKUP(G$13,INDIRECT("'"&$B48&" EI'!$B$6:$B$53"),_xlfn.XLOOKUP($C$10,INDIRECT("'"&$B48&" EI'!$D$4:$Z$4"),INDIRECT("'"&$B48&" EI'!$D$6:$Z$53")))*_xlfn.XLOOKUP($B48&G$15,'Gas Useage'!$A$4:$A$15&'Gas Useage'!$B$4:$B$15,_xlfn.XLOOKUP($C48&G$14,'Gas Useage'!$C$2:$AB$2&'Gas Useage'!$C$3:$AB$3,'Gas Useage'!$C$4:$AB$15))/_xlfn.XLOOKUP($B48&G$15,'Gas Useage'!$A$4:$A$15&'Gas Useage'!$B$4:$B$15,_xlfn.XLOOKUP(G$14,'Gas Useage'!$AA$3:$AB$3,'Gas Useage'!$AA$4:$AB$15))} -> 0.0018791316 | H48: =IFERROR(SUM(D25:D48)/2,"--") -> 0.59644448 | I48: =IFERROR(SUM(E25:E48)/2,"--") -> 0.051879548 | J48: =IFERROR(SUM(F25:F48)/2,"--") -> 0.6034361 | K48: =IFERROR(SUM(G25:G48)/2,"--") -> 0.050886106
B49: 2022 | C49: October | D49: {=_xlfn.XLOOKUP(D$13,INDIRECT("'"&$B49&" EI'!$B$6:$B$53"),_xlfn.XLOOKUP($C$10,INDIRECT("'"&$B49&" EI'!$D$4:$Z$4"),INDIRECT("'"&$B49&" EI'!$D$6:$Z$53")))*_xlfn.XLOOKUP($B49&D$15,'Gas Useage'!$A$4:$A$15&'Gas Useage'!$B$4:$B$15,_xlfn.XLOOKUP($C49&D$14,'Gas Useage'!$C$2:$AB$2&'Gas Useage'!$C$3:$AB$3,'Gas Useage'!$C$4:$AB$15))/_xlfn.XLOOKUP($B49&D$15,'Gas Useage'!$A$4:$A$15&'Gas Useage'!$B$4:$B$15,_xlfn.XLOOKUP(D$14,'Gas Useage'!$AA$3:$AB$3,'Gas Useage'!$AA$4:$AB$15))} -> 0.020010598 | E49: {=_xlfn.XLOOKUP(E$13,INDIRECT("'"&$B49&" EI'!$B$6:$B$53"),_xlfn.XLOOKUP($C$10,INDIRECT("'"&$B49&" EI'!$D$4:$Z$4"),INDIRECT("'"&$B49&" EI'!$D$6:$Z$53")))*_xlfn.XLOOKUP($B49&E$15,'Gas Useage'!$A$4:$A$15&'Gas Useage'!$B$4:$B$15,_xlfn.XLOOKUP($C49&E$14,'Gas Useage'!$C$2:$AB$2&'Gas Useage'!$C$3:$AB$3,'Gas Useage'!$C$4:$AB$15))/_xlfn.XLOOKUP($B49&E$15,'Gas Useage'!$A$4:$A$15&'Gas Useage'!$B$4:$B$15,_xlfn.XLOOKUP(E$14,'Gas Useage'!$AA$3:$AB$3,'Gas Useage'!$AA$4:$AB$15))} -> 0.0035211147 | F49: {=_xlfn.XLOOKUP(F$13,INDIRECT("'"&$B49&" EI'!$B$6:$B$53"),_xlfn.XLOOKUP($C$10,INDIRECT("'"&$B49&" EI'!$D$4:$Z$4"),INDIRECT("'"&$B49&" EI'!$D$6:$Z$53")))*_xlfn.XLOOKUP($B49&F$15,'Gas Useage'!$A$4:$A$15&'Gas Useage'!$B$4:$B$15,_xlfn.XLOOKUP($C49&F$14,'Gas Useage'!$C$2:$AB$2&'Gas Useage'!$C$3:$AB$3,'Gas Useage'!$C$4:$AB$15))/_xlfn.XLOOKUP($B49&F$15,'Gas Useage'!$A$4:$A$15&'Gas Useage'!$B$4:$B$15,_xlfn.XLOOKUP(F$14,'Gas Useage'!$AA$3:$AB$3,'Gas Useage'!$AA$4:$AB$15))} -> 0.015111834 | G49: {=_xlfn.XLOOKUP(G$13,INDIRECT("'"&$B49&" EI'!$B$6:$B$53"),_xlfn.XLOOKUP($C$10,INDIRECT("'"&$B49&" EI'!$D$4:$Z$4"),INDIRECT("'"&$B49&" EI'!$D$6:$Z$53")))*_xlfn.XLOOKUP($B49&G$15,'Gas Useage'!$A$4:$A$15&'Gas Useage'!$B$4:$B$15,_xlfn.XLOOKUP($C49&G$14,'Gas Useage'!$C$2:$AB$2&'Gas Useage'!$C$3:$AB$3,'Gas Useage'!$C$4:$AB$15))/_xlfn.XLOOKUP($B49&G$15,'Gas Useage'!$A$4:$A$15&'Gas Useage'!$B$4:$B$15,_xlfn.XLOOKUP(G$14,'Gas Useage'!$AA$3:$AB$3,'Gas Useage'!$AA$4:$AB$15))} -> 0.002659116 | H49: =IFERROR(SUM(D26:D49)/2,"--") -> 0.59401735 | I49: =IFERROR(SUM(E26:E49)/2,"--") -> 0.052514517 | J49: =IFERROR(SUM(F26:F49)/2,"--") -> 0.58224006 | K49: =IFERROR(SUM(G26:G49)/2,"--") -> 0.049612563
B50: 2022 | C50: November | D50: {=_xlfn.XLOOKUP(D$13,INDIRECT("'"&$B50&" EI'!$B$6:$B$53"),_xlfn.XLOOKUP($C$10,INDIRECT("'"&$B50&" EI'!$D$4:$Z$4"),INDIRECT("'"&$B50&" EI'!$D$6:$Z$53")))*_xlfn.XLOOKUP($B50&D$15,'Gas Useage'!$A$4:$A$15&'Gas Useage'!$B$4:$B$15,_xlfn.XLOOKUP($C50&D$14,'Gas Useage'!$C$2:$AB$2&'Gas Useage'!$C$3:$AB$3,'Gas Useage'!$C$4:$AB$15))/_xlfn.XLOOKUP($B50&D$15,'Gas Useage'!$A$4:$A$15&'Gas Useage'!$B$4:$B$15,_xlfn.XLOOKUP(D$14,'Gas Useage'!$AA$3:$AB$3,'Gas Useage'!$AA$4:$AB$15))} -> 3.0461692e-05 | E50: {=_xlfn.XLOOKUP(E$13,INDIRECT("'"&$B50&" EI'!$B$6:$B$53"),_xlfn.XLOOKUP($C$10,INDIRECT("'"&$B50&" EI'!$D$4:$Z$4"),INDIRECT("'"&$B50&" EI'!$D$6:$Z$53")))*_xlfn.XLOOKUP($B50&E$15,'Gas Useage'!$A$4:$A$15&'Gas Useage'!$B$4:$B$15,_xlfn.XLOOKUP($C50&E$14,'Gas Useage'!$C$2:$AB$2&'Gas Useage'!$C$3:$AB$3,'Gas Useage'!$C$4:$AB$15))/_xlfn.XLOOKUP($B50&E$15,'Gas Useage'!$A$4:$A$15&'Gas Useage'!$B$4:$B$15,_xlfn.XLOOKUP(E$14,'Gas Useage'!$AA$3:$AB$3,'Gas Useage'!$AA$4:$AB$15))} -> 3.7321952e-06 | F50: {=_xlfn.XLOOKUP(F$13,INDIRECT("'"&$B50&" EI'!$B$6:$B$53"),_xlfn.XLOOKUP($C$10,INDIRECT("'"&$B50&" EI'!$D$4:$Z$4"),INDIRECT("'"&$B50&" EI'!$D$6:$Z$53")))*_xlfn.XLOOKUP($B50&F$15,'Gas Useage'!$A$4:$A$15&'Gas Useage'!$B$4:$B$15,_xlfn.XLOOKUP($C50&F$14,'Gas Useage'!$C$2:$AB$2&'Gas Useage'!$C$3:$AB$3,'Gas Useage'!$C$4:$AB$15))/_xlfn.XLOOKUP($B50&F$15,'Gas Useage'!$A$4:$A$15&'Gas Useage'!$B$4:$B$15,_xlfn.XLOOKUP(F$14,'Gas Useage'!$AA$3:$AB$3,'Gas Useage'!$AA$4:$AB$15))} -> 2.5635274e-05 | G50: {=_xlfn.XLOOKUP(G$13,INDIRECT("'"&$B50&" EI'!$B$6:$B$53"),_xlfn.XLOOKUP($C$10,INDIRECT("'"&$B50&" EI'!$D$4:$Z$4"),INDIRECT("'"&$B50&" EI'!$D$6:$Z$53")))*_xlfn.XLOOKUP($B50&G$15,'Gas Useage'!$A$4:$A$15&'Gas Useage'!$B$4:$B$15,_xlfn.XLOOKUP($C50&G$14,'Gas Useage'!$C$2:$AB$2&'Gas Useage'!$C$3:$AB$3,'Gas Useage'!$C$4:$AB$15))/_xlfn.XLOOKUP($B50&G$15,'Gas Useage'!$A$4:$A$15&'Gas Useage'!$B$4:$B$15,_xlfn.XLOOKUP(G$14,'Gas Useage'!$AA$3:$AB$3,'Gas Useage'!$AA$4:$AB$15))} -> 3.140858e-06 | H50: =IFERROR(SUM(D27:D50)/2,"--") -> 0.56722574 | I50: =IFERROR(SUM(E27:E50)/2,"--") -> 0.049237575 | J50: =IFERROR(SUM(F27:F50)/2,"--") -> 0.54167515 | K50: =IFERROR(SUM(G27:G50)/2,"--") -> 0.044650972
B51: 2022 | C51: December | D51: {=_xlfn.XLOOKUP(D$13,INDIRECT("'"&$B51&" EI'!$B$6:$B$53"),_xlfn.XLOOKUP($C$10,INDIRECT("'"&$B51&" EI'!$D$4:$Z$4"),INDIRECT("'"&$B51&" EI'!$D$6:$Z$53")))*_xlfn.XLOOKUP($B51&D$15,'Gas Useage'!$A$4:$A$15&'Gas Useage'!$B$4:$B$15,_xlfn.XLOOKUP($C51&D$14,'Gas Useage'!$C$2:$AB$2&'Gas Useage'!$C$3:$AB$3,'Gas Useage'!$C$4:$AB$15))/_xlfn.XLOOKUP($B51&D$15,'Gas Useage'!$A$4:$A$15&'Gas Useage'!$B$4:$B$15,_xlfn.XLOOKUP(D$14,'Gas Useage'!$AA$3:$AB$3,'Gas Useage'!$AA$4:$AB$15))} -> 1.0201835e-05 | E51: {=_xlfn.XLOOKUP(E$13,INDIRECT("'"&$B51&" EI'!$B$6:$B$53"),_xlfn.XLOOKUP($C$10,INDIRECT("'"&$B51&" EI'!$D$4:$Z$4"),INDIRECT("'"&$B51&" EI'!$D$6:$Z$53")))*_xlfn.XLOOKUP($B51&E$15,'Gas Useage'!$A$4:$A$15&'Gas Useage'!$B$4:$B$15,_xlfn.XLOOKUP($C51&E$14,'Gas Useage'!$C$2:$AB$2&'Gas Useage'!$C$3:$AB$3,'Gas Useage'!$C$4:$AB$15))/_xlfn.XLOOKUP($B51&E$15,'Gas Useage'!$A$4:$A$15&'Gas Useage'!$B$4:$B$15,_xlfn.XLOOKUP(E$14,'Gas Useage'!$AA$3:$AB$3,'Gas Useage'!$AA$4:$AB$15))} -> 1.3629409e-06 | F51: {=_xlfn.XLOOKUP(F$13,INDIRECT("'"&$B51&" EI'!$B$6:$B$53"),_xlfn.XLOOKUP($C$10,INDIRECT("'"&$B51&" EI'!$D$4:$Z$4"),INDIRECT("'"&$B51&" EI'!$D$6:$Z$53")))*_xlfn.XLOOKUP($B51&F$15,'Gas Useage'!$A$4:$A$15&'Gas Useage'!$B$4:$B$15,_xlfn.XLOOKUP($C51&F$14,'Gas Useage'!$C$2:$AB$2&'Gas Useage'!$C$3:$AB$3,'Gas Useage'!$C$4:$AB$15))/_xlfn.XLOOKUP($B51&F$15,'Gas Useage'!$A$4:$A$15&'Gas Useage'!$B$4:$B$15,_xlfn.XLOOKUP(F$14,'Gas Useage'!$AA$3:$AB$3,'Gas Useage'!$AA$4:$AB$15))} -> 7.3836887e-06 | G51: {=_xlfn.XLOOKUP(G$13,INDIRECT("'"&$B51&" EI'!$B$6:$B$53"),_xlfn.XLOOKUP($C$10,INDIRECT("'"&$B51&" EI'!$D$4:$Z$4"),INDIRECT("'"&$B51&" EI'!$D$6:$Z$53")))*_xlfn.XLOOKUP($B51&G$15,'Gas Useage'!$A$4:$A$15&'Gas Useage'!$B$4:$B$15,_xlfn.XLOOKUP($C51&G$14,'Gas Useage'!$C$2:$AB$2&'Gas Useage'!$C$3:$AB$3,'Gas Useage'!$C$4:$AB$15))/_xlfn.XLOOKUP($B51&G$15,'Gas Useage'!$A$4:$A$15&'Gas Useage'!$B$4:$B$15,_xlfn.XLOOKUP(G$14,'Gas Useage'!$AA$3:$AB$3,'Gas Useage'!$AA$4:$AB$15))} -> 9.8644326e-07 | H51: =IFERROR(SUM(D28:D51)/2,"--") -> 0.54042401 | I51: =IFERROR(SUM(E28:E51)/2,"--") -> 0.045959448 | J51: =IFERROR(SUM(F28:F51)/2,"--") -> 0.5011011 | K51: =IFERROR(SUM(G28:G51)/2,"--") -> 0.039688305

Sheet PMCOND Simple
B4: Company Name: | C4: U. S. Steel
B5: Facility Name: | C5: Irvin Plant
B6: Project Description: | C6: Irvin Permitting
B10: Pollutant: | C10: PMCOND
D12: Monthly Emissions (tons) | H12: 2-Year Average of Emissions (tons)
B13: Year | C13: Month | D13: Boiler #3 - COG | E13: Boiler #3 - NG | F13: Boiler #4 - COG | G13: Boiler #4 - NG | H13: Boiler #3 - COG | I13: Boiler #3 - NG | J13: Boiler #4 - COG | K13: Boiler #4 - NG
D14: COG (MCF) | E14: NAT GAS (MCF) | F14: COG (MCF) | G14: NAT GAS (MCF)
D15: #3 Boiler | E15: #3 Boiler | F15: #4 Boiler | G15: #4 Boiler
B16: 2020 | C16: January | D16: {=_xlfn.XLOOKUP(D$13,INDIRECT("'"&$B16&" EI'!$B$6:$B$53"),_xlfn.XLOOKUP($C$10,INDIRECT("'"&$B16&" EI'!$D$4:$Z$4"),INDIRECT("'"&$B16&" EI'!$D$6:$Z$53")))*_xlfn.XLOOKUP($B16&D$15,'Gas Useage'!$A$4:$A$15&'Gas Useage'!$B$4:$B$15,_xlfn.XLOOKUP($C16&D$14,'Gas Useage'!$C$2:$AB$2&'Gas Useage'!$C$3:$AB$3,'Gas Useage'!$C$4:$AB$15))/_xlfn.XLOOKUP($B16&D$15,'Gas Useage'!$A$4:$A$15&'Gas Useage'!$B$4:$B$15,_xlfn.XLOOKUP(D$14,'Gas Useage'!$AA$3:$AB$3,'Gas Useage'!$AA$4:$AB$15))} -> 0.023536693 | E16: {=_xlfn.XLOOKUP(E$13,INDIRECT("'"&$B16&" EI'!$B$6:$B$53"),_xlfn.XLOOKUP($C$10,INDIRECT("'"&$B16&" EI'!$D$4:$Z$4"),INDIRECT("'"&$B16&" EI'!$D$6:$Z$53")))*_xlfn.XLOOKUP($B16&E$15,'Gas Useage'!$A$4:$A$15&'Gas Useage'!$B$4:$B$15,_xlfn.XLOOKUP($C16&E$14,'Gas Useage'!$C$2:$AB$2&'Gas Useage'!$C$3:$AB$3,'Gas Useage'!$C$4:$AB$15))/_xlfn.XLOOKUP($B16&E$15,'Gas Useage'!$A$4:$A$15&'Gas Useage'!$B$4:$B$15,_xlfn.XLOOKUP(E$14,'Gas Useage'!$AA$3:$AB$3,'Gas Useage'!$AA$4:$AB$15))} -> 0.0029536696 | F16: {=_xlfn.XLOOKUP(F$13,INDIRECT("'"&$B16&" EI'!$B$6:$B$53"),_xlfn.XLOOKUP($C$10,INDIRECT("'"&$B16&" EI'!$D$4:$Z$4"),INDIRECT("'"&$B16&" EI'!$D$6:$Z$53")))*_xlfn.XLOOKUP($B16&F$15,'Gas Useage'!$A$4:$A$15&'Gas Useage'!$B$4:$B$15,_xlfn.XLOOKUP($C16&F$14,'Gas Useage'!$C$2:$AB$2&'Gas Useage'!$C$3:$AB$3,'Gas Useage'!$C$4:$AB$15))/_xlfn.XLOOKUP($B16&F$15,'Gas Useage'!$A$4:$A$15&'Gas Useage'!$B$4:$B$15,_xlfn.XLOOKUP(F$14,'Gas Useage'!$AA$3:$AB$3,'Gas Useage'!$AA$4:$AB$15))} -> 0.030812982 | G16: {=_xlfn.XLOOKUP(G$13,INDIRECT("'"&$B16&" EI'!$B$6:$B$53"),_xlfn.XLOOKUP($C$10,INDIRECT("'"&$B16&" EI'!$D$4:$Z$4"),INDIRECT("'"&$B16&" EI'!$D$6:$Z$53")))*_xlfn.XLOOKUP($B16&G$15,'Gas Useage'!$A$4:$A$15&'Gas Useage'!$B$4:$B$15,_xlfn.XLOOKUP($C16&G$14,'Gas Useage'!$C$2:$AB$2&'Gas Useage'!$C$3:$AB$3,'Gas Useage'!$C$4:$AB$15))/_xlfn.XLOOKUP($B16&G$15,'Gas Useage'!$A$4:$A$15&'Gas Useage'!$B$4:$B$15,_xlfn.XLOOKUP(G$14,'Gas Useage'!$AA$3:$AB$3,'Gas Useage'!$AA$4:$AB$15))} -> 0.0038667864 | H16: -- | I16: -- | J16: -- | K16: --
B17: 2020 | C17: February | D17: {=_xlfn.XLOOKUP(D$13,INDIRECT("'"&$B17&" EI'!$B$6:$B$53"),_xlfn.XLOOKUP($C$10,INDIRECT("'"&$B17&" EI'!$D$4:$Z$4"),INDIRECT("'"&$B17&" EI'!$D$6:$Z$53")))*_xlfn.XLOOKUP($B17&D$15,'Gas Useage'!$A$4:$A$15&'Gas Useage'!$B$4:$B$15,_xlfn.XLOOKUP($C17&D$14,'Gas Useage'!$C$2:$AB$2&'Gas Useage'!$C$3:$AB$3,'Gas Useage'!$C$4:$AB$15))/_xlfn.XLOOKUP($B17&D$15,'Gas Useage'!$A$4:$A$15&'Gas Useage'!$B$4:$B$15,_xlfn.XLOOKUP(D$14,'Gas Useage'!$AA$3:$AB$3,'Gas Useage'!$AA$4:$AB$15))} -> 0.039018873 | E17: {=_xlfn.XLOOKUP(E$13,INDIRECT("'"&$B17&" EI'!$B$6:$B$53"),_xlfn.XLOOKUP($C$10,INDIRECT("'"&$B17&" EI'!$D$4:$Z$4"),INDIRECT("'"&$B17&" EI'!$D$6:$Z$53")))*_xlfn.XLOOKUP($B17&E$15,'Gas Useage'!$A$4:$A$15&'Gas Useage'!$B$4:$B$15,_xlfn.XLOOKUP($C17&E$14,'Gas Useage'!$C$2:$AB$2&'Gas Useage'!$C$3:$AB$3,'Gas Useage'!$C$4:$AB$15))/_xlfn.XLOOKUP($B17&E$15,'Gas Useage'!$A$4:$A$15&'Gas Useage'!$B$4:$B$15,_xlfn.XLOOKUP(E$14,'Gas Useage'!$AA$3:$AB$3,'Gas Useage'!$AA$4:$AB$15))} -> 0.006129475 | F17: {=_xlfn.XLOOKUP(F$13,INDIRECT("'"&$B17&" EI'!$B$6:$B$53"),_xlfn.XLOOKUP($C$10,INDIRECT("'"&$B17&" EI'!$D$4:$Z$4"),INDIRECT("'"&$B17&" EI'!$D$6:$Z$53")))*_xlfn.XLOOKUP($B17&F$15,'Gas Useage'!$A$4:$A$15&'Gas Useage'!$B$4:$B$15,_xlfn.XLOOKUP($C17&F$14,'Gas Useage'!$C$2:$AB$2&'Gas Useage'!$C$3:$AB$3,'Gas Useage'!$C$4:$AB$15))/_xlfn.XLOOKUP($B17&F$15,'Gas Useage'!$A$4:$A$15&'Gas Useage'!$B$4:$B$15,_xlfn.XLOOKUP(F$14,'Gas Useage'!$AA$3:$AB$3,'Gas Useage'!$AA$4:$AB$15))} -> 0.031823739 | G17: {=_xlfn.XLOOKUP(G$13,INDIRECT("'"&$B17&" EI'!$B$6:$B$53"),_xlfn.XLOOKUP($C$10,INDIRECT("'"&$B17&" EI'!$D$4:$Z$4"),INDIRECT("'"&$B17&" EI'!$D$6:$Z$53")))*_xlfn.XLOOKUP($B17&G$15,'Gas Useage'!$A$4:$A$15&'Gas Useage'!$B$4:$B$15,_xlfn.XLOOKUP($C17&G$14,'Gas Useage'!$C$2:$AB$2&'Gas Useage'!$C$3:$AB$3,'Gas Useage'!$C$4:$AB$15))/_xlfn.XLOOKUP($B17&G$15,'Gas Useage'!$A$4:$A$15&'Gas Useage'!$B$4:$B$15,_xlfn.XLOOKUP(G$14,'Gas Useage'!$AA$3:$AB$3,'Gas Useage'!$AA$4:$AB$15))} -> 0.0049991914 | H17: -- | I17: -- | J17: -- | K17: --
B18: 2020 | C18: March | D18: {=_xlfn.XLOOKUP(D$13,INDIRECT("'"&$B18&" EI'!$B$6:$B$53"),_xlfn.XLOOKUP($C$10,INDIRECT("'"&$B18&" EI'!$D$4:$Z$4"),INDIRECT("'"&$B18&" EI'!$D$6:$Z$53")))*_xlfn.XLOOKUP($B18&D$15,'Gas Useage'!$A$4:$A$15&'Gas Useage'!$B$4:$B$15,_xlfn.XLOOKUP($C18&D$14,'Gas Useage'!$C$2:$AB$2&'Gas Useage'!$C$3:$AB$3,'Gas Useage'!$C$4:$AB$15))/_xlfn.XLOOKUP($B18&D$15,'Gas Useage'!$A$4:$A$15&'Gas Useage'!$B$4:$B$15,_xlfn.XLOOKUP(D$14,'Gas Useage'!$AA$3:$AB$3,'Gas Useage'!$AA$4:$AB$15))} -> 0.039826276 | E18: {=_xlfn.XLOOKUP(E$13,INDIRECT("'"&$B18&" EI'!$B$6:$B$53"),_xlfn.XLOOKUP($C$10,INDIRECT("'"&$B18&" EI'!$D$4:$Z$4"),INDIRECT("'"&$B18&" EI'!$D$6:$Z$53")))*_xlfn.XLOOKUP($B18&E$15,'Gas Useage'!$A$4:$A$15&'Gas Useage'!$B$4:$B$15,_xlfn.XLOOKUP($C18&E$14,'Gas Useage'!$C$2:$AB$2&'Gas Useage'!$C$3:$AB$3,'Gas Useage'!$C$4:$AB$15))/_xlfn.XLOOKUP($B18&E$15,'Gas Useage'!$A$4:$A$15&'Gas Useage'!$B$4:$B$15,_xlfn.XLOOKUP(E$14,'Gas Useage'!$AA$3:$AB$3,'Gas Useage'!$AA$4:$AB$15))} -> 0.0065343248 | F18: {=_xlfn.XLOOKUP(F$13,INDIRECT("'"&$B18&" EI'!$B$6:$B$53"),_xlfn.XLOOKUP($C$10,INDIRECT("'"&$B18&" EI'!$D$4:$Z$4"),INDIRECT("'"&$B18&" EI'!$D$6:$Z$53")))*_xlfn.XLOOKUP($B18&F$15,'Gas Useage'!$A$4:$A$15&'Gas Useage'!$B$4:$B$15,_xlfn.XLOOKUP($C18&F$14,'Gas Useage'!$C$2:$AB$2&'Gas Useage'!$C$3:$AB$3,'Gas Useage'!$C$4:$AB$15))/_xlfn.XLOOKUP($B18&F$15,'Gas Useage'!$A$4:$A$15&'Gas Useage'!$B$4:$B$15,_xlfn.XLOOKUP(F$14,'Gas Useage'!$AA$3:$AB$3,'Gas Useage'!$AA$4:$AB$15))} -> 0.024755922 | G18: {=_xlfn.XLOOKUP(G$13,INDIRECT("'"&$B18&" EI'!$B$6:$B$53"),_xlfn.XLOOKUP($C$10,INDIRECT("'"&$B18&" EI'!$D$4:$Z$4"),INDIRECT("'"&$B18&" EI'!$D$6:$Z$53")))*_xlfn.XLOOKUP($B18&G$15,'Gas Useage'!$A$4:$A$15&'Gas Useage'!$B$4:$B$15,_xlfn.XLOOKUP($C18&G$14,'Gas Useage'!$C$2:$AB$2&'Gas Useage'!$C$3:$AB$3,'Gas Useage'!$C$4:$AB$15))/_xlfn.XLOOKUP($B18&G$15,'Gas Useage'!$A$4:$A$15&'Gas Useage'!$B$4:$B$15,_xlfn.XLOOKUP(G$14,'Gas Useage'!$AA$3:$AB$3,'Gas Useage'!$AA$4:$AB$15))} -> 0.0040617213 | H18: -- | I18: -- | J18: -- | K18: --
B19: 2020 | C19: April | D19: {=_xlfn.XLOOKUP(D$13,INDIRECT("'"&$B19&" EI'!$B$6:$B$53"),_xlfn.XLOOKUP($C$10,INDIRECT("'"&$B19&" EI'!$D$4:$Z$4"),INDIRECT("'"&$B19&" EI'!$D$6:$Z$53")))*_xlfn.XLOOKUP($B19&D$15,'Gas Useage'!$A$4:$A$15&'Gas Useage'!$B$4:$B$15,_xlfn.XLOOKUP($C19&D$14,'Gas Useage'!$C$2:$AB$2&'Gas Useage'!$C$3:$AB$3,'Gas Useage'!$C$4:$AB$15))/_xlfn.XLOOKUP($B19&D$15,'Gas Useage'!$A$4:$A$15&'Gas Useage'!$B$4:$B$15,_xlfn.XLOOKUP(D$14,'Gas Useage'!$AA$3:$AB$3,'Gas Useage'!$AA$4:$AB$15))} -> 0.015432619 | E19: {=_xlfn.XLOOKUP(E$13,INDIRECT("'"&$B19&" EI'!$B$6:$B$53"),_xlfn.XLOOKUP($C$10,INDIRECT("'"&$B19&" EI'!$D$4:$Z$4"),INDIRECT("'"&$B19&" EI'!$D$6:$Z$53")))*_xlfn.XLOOKUP($B19&E$15,'Gas Useage'!$A$4:$A$15&'Gas Useage'!$B$4:$B$15,_xlfn.XLOOKUP($C19&E$14,'Gas Useage'!$C$2:$AB$2&'Gas Useage'!$C$3:$AB$3,'Gas Useage'!$C$4:$AB$15))/_xlfn.XLOOKUP($B19&E$15,'Gas Useage'!$A$4:$A$15&'Gas Useage'!$B$4:$B$15,_xlfn.XLOOKUP(E$14,'Gas Useage'!$AA$3:$AB$3,'Gas Useage'!$AA$4:$AB$15))} -> 0.0025911922 | F19: {=_xlfn.XLOOKUP(F$13,INDIRECT("'"&$B19&" EI'!$B$6:$B$53"),_xlfn.XLOOKUP($C$10,INDIRECT("'"&$B19&" EI'!$D$4:$Z$4"),INDIRECT("'"&$B19&" EI'!$D$6:$Z$53")))*_xlfn.XLOOKUP($B19&F$15,'Gas Useage'!$A$4:$A$15&'Gas Useage'!$B$4:$B$15,_xlfn.XLOOKUP($C19&F$14,'Gas Useage'!$C$2:$AB$2&'Gas Useage'!$C$3:$AB$3,'Gas Useage'!$C$4:$AB$15))/_xlfn.XLOOKUP($B19&F$15,'Gas Useage'!$A$4:$A$15&'Gas Useage'!$B$4:$B$15,_xlfn.XLOOKUP(F$14,'Gas Useage'!$AA$3:$AB$3,'Gas Useage'!$AA$4:$AB$15))} -> 0.015484182 | G19: {=_xlfn.XLOOKUP(G$13,INDIRECT("'"&$B19&" EI'!$B$6:$B$53"),_xlfn.XLOOKUP($C$10,INDIRECT("'"&$B19&" EI'!$D$4:$Z$4"),INDIRECT("'"&$B19&" EI'!$D$6:$Z$53")))*_xlfn.XLOOKUP($B19&G$15,'Gas Useage'!$A$4:$A$15&'Gas Useage'!$B$4:$B$15,_xlfn.XLOOKUP($C19&G$14,'Gas Useage'!$C$2:$AB$2&'Gas Useage'!$C$3:$AB$3,'Gas Useage'!$C$4:$AB$15))/_xlfn.XLOOKUP($B19&G$15,'Gas Useage'!$A$4:$A$15&'Gas Useage'!$B$4:$B$15,_xlfn.XLOOKUP(G$14,'Gas Useage'!$AA$3:$AB$3,'Gas Useage'!$AA$4:$AB$15))} -> 0.0025998497 | H19: -- | I19: -- | J19: -- | K19: --
B20: 2020 | C20: May | D20: {=_xlfn.XLOOKUP(D$13,INDIRECT("'"&$B20&" EI'!$B$6:$B$53"),_xlfn.XLOOKUP($C$10,INDIRECT("'"&$B20&" EI'!$D$4:$Z$4"),INDIRECT("'"&$B20&" EI'!$D$6:$Z$53")))*_xlfn.XLOOKUP($B20&D$15,'Gas Useage'!$A$4:$A$15&'Gas Useage'!$B$4:$B$15,_xlfn.XLOOKUP($C20&D$14,'Gas Useage'!$C$2:$AB$2&'Gas Useage'!$C$3:$AB$3,'Gas Useage'!$C$4:$AB$15))/_xlfn.XLOOKUP($B20&D$15,'Gas Useage'!$A$4:$A$15&'Gas Useage'!$B$4:$B$15,_xlfn.XLOOKUP(D$14,'Gas Useage'!$AA$3:$AB$3,'Gas Useage'!$AA$4:$AB$15))} -> 0.00096727882 | E20: {=_xlfn.XLOOKUP(E$13,INDIRECT("'"&$B20&" EI'!$B$6:$B$53"),_xlfn.XLOOKUP($C$10,INDIRECT("'"&$B20&" EI'!$D$4:$Z$4"),INDIRECT("'"&$B20&" EI'!$D$6:$Z$53")))*_xlfn.XLOOKUP($B20&E$15,'Gas Useage'!$A$4:$A$15&'Gas Useage'!$B$4:$B$15,_xlfn.XLOOKUP($C20&E$14,'Gas Useage'!$C$2:$AB$2&'Gas Useage'!$C$3:$AB$3,'Gas Useage'!$C$4:$AB$15))/_xlfn.XLOOKUP($B20&E$15,'Gas Useage'!$A$4:$A$15&'Gas Useage'!$B$4:$B$15,_xlfn.XLOOKUP(E$14,'Gas Useage'!$AA$3:$AB$3,'Gas Useage'!$AA$4:$AB$15))} -> 9.4648483e-05 | F20: {=_xlfn.XLOOKUP(F$13,INDIRECT("'"&$B20&" EI'!$B$6:$B$53"),_xlfn.XLOOKUP($C$10,INDIRECT("'"&$B20&" EI'!$D$4:$Z$4"),INDIRECT("'"&$B20&" EI'!$D$6:$Z$53")))*_xlfn.XLOOKUP($B20&F$15,'Gas Useage'!$A$4:$A$15&'Gas Useage'!$B$4:$B$15,_xlfn.XLOOKUP($C20&F$14,'Gas Useage'!$C$2:$AB$2&'Gas Useage'!$C$3:$AB$3,'Gas Useage'!$C$4:$AB$15))/_xlfn.XLOOKUP($B20&F$15,'Gas Useage'!$A$4:$A$15&'Gas Useage'!$B$4:$B$15,_xlfn.XLOOKUP(F$14,'Gas Useage'!$AA$3:$AB$3,'Gas Useage'!$AA$4:$AB$15))} -> 4.6727419e-07 | G20: {=_xlfn.XLOOKUP(G$13,INDIRECT("'"&$B20&" EI'!$B$6:$B$53"),_xlfn.XLOOKUP($C$10,INDIRECT("'"&$B20&" EI'!$D$4:$Z$4"),INDIRECT("'"&$B20&" EI'!$D$6:$Z$53")))*_xlfn.XLOOKUP($B20&G$15,'Gas Useage'!$A$4:$A$15&'Gas Useage'!$B$4:$B$15,_xlfn.XLOOKUP($C20&G$14,'Gas Useage'!$C$2:$AB$2&'Gas Useage'!$C$3:$AB$3,'Gas Useage'!$C$4:$AB$15))/_xlfn.XLOOKUP($B20&G$15,'Gas Useage'!$A$4:$A$15&'Gas Useage'!$B$4:$B$15,_xlfn.XLOOKUP(G$14,'Gas Useage'!$AA$3:$AB$3,'Gas Useage'!$AA$4:$AB$15))} -> 4.5722901e-08 | H20: -- | I20: -- | J20: -- | K20: --
B21: 2020 | C21: June | D21: {=_xlfn.XLOOKUP(D$13,INDIRECT("'"&$B21&" EI'!$B$6:$B$53"),_xlfn.XLOOKUP($C$10,INDIRECT("'"&$B21&" EI'!$D$4:$Z$4"),INDIRECT("'"&$B21&" EI'!$D$6:$Z$53")))*_xlfn.XLOOKUP($B21&D$15,'Gas Useage'!$A$4:$A$15&'Gas Useage'!$B$4:$B$15,_xlfn.XLOOKUP($C21&D$14,'Gas Useage'!$C$2:$AB$2&'Gas Useage'!$C$3:$AB$3,'Gas Useage'!$C$4:$AB$15))/_xlfn.XLOOKUP($B21&D$15,'Gas Useage'!$A$4:$A$15&'Gas Useage'!$B$4:$B$15,_xlfn.XLOOKUP(D$14,'Gas Useage'!$AA$3:$AB$3,'Gas Useage'!$AA$4:$AB$15))} -> 0 | E21: {=_xlfn.XLOOKUP(E$13,INDIRECT("'"&$B21&" EI'!$B$6:$B$53"),_xlfn.XLOOKUP($C$10,INDIRECT("'"&$B21&" EI'!$D$4:$Z$4"),INDIRECT("'"&$B21&" EI'!$D$6:$Z$53")))*_xlfn.XLOOKUP($B21&E$15,'Gas Useage'!$A$4:$A$15&'Gas Useage'!$B$4:$B$15,_xlfn.XLOOKUP($C21&E$14,'Gas Useage'!$C$2:$AB$2&'Gas Useage'!$C$3:$AB$3,'Gas Useage'!$C$4:$AB$15))/_xlfn.XLOOKUP($B21&E$15,'Gas Useage'!$A$4:$A$15&'Gas Useage'!$B$4:$B$15,_xlfn.XLOOKUP(E$14,'Gas Useage'!$AA$3:$AB$3,'Gas Useage'!$AA$4:$AB$15))} -> 0 | F21: {=_xlfn.XLOOKUP(F$13,INDIRECT("'"&$B21&" EI'!$B$6:$B$53"),_xlfn.XLOOKUP($C$10,INDIRECT("'"&$B21&" EI'!$D$4:$Z$4"),INDIRECT("'"&$B21&" EI'!$D$6:$Z$53")))*_xlfn.XLOOKUP($B21&F$15,'Gas Useage'!$A$4:$A$15&'Gas Useage'!$B$4:$B$15,_xlfn.XLOOKUP($C21&F$14,'Gas Useage'!$C$2:$AB$2&'Gas Useage'!$C$3:$AB$3,'Gas Useage'!$C$4:$AB$15))/_xlfn.XLOOKUP($B21&F$15,'Gas Useage'!$A$4:$A$15&'Gas Useage'!$B$4:$B$15,_xlfn.XLOOKUP(F$14,'Gas Useage'!$AA$3:$AB$3,'Gas Useage'!$AA$4:$AB$15))} -> 0 | G21: {=_xlfn.XLOOKUP(G$13,INDIRECT("'"&$B21&" EI'!$B$6:$B$53"),_xlfn.XLOOKUP($C$10,INDIRECT("'"&$B21&" EI'!$D$4:$Z$4"),INDIRECT("'"&$B21&" EI'!$D$6:$Z$53")))*_xlfn.XLOOKUP($B21&G$15,'Gas Useage'!$A$4:$A$15&'Gas Useage'!$B$4:$B$15,_xlfn.XLOOKUP($C21&G$14,'Gas Useage'!$C$2:$AB$2&'Gas Useage'!$C$3:$AB$3,'Gas Useage'!$C$4:$AB$15))/_xlfn.XLOOKUP($B21&G$15,'Gas Useage'!$A$4:$A$15&'Gas Useage'!$B$4:$B$15,_xlfn.XLOOKUP(G$14,'Gas Useage'!$AA$3:$AB$3,'Gas Useage'!$AA$4:$AB$15))} -> 0 | H21: -- | I21: -- | J21: -- | K21: --
B22: 2020 | C22: July | D22: {=_xlfn.XLOOKUP(D$13,INDIRECT("'"&$B22&" EI'!$B$6:$B$53"),_xlfn.XLOOKUP($C$10,INDIRECT("'"&$B22&" EI'!$D$4:$Z$4"),INDIRECT("'"&$B22&" EI'!$D$6:$Z$53")))*_xlfn.XLOOKUP($B22&D$15,'Gas Useage'!$A$4:$A$15&'Gas Useage'!$B$4:$B$15,_xlfn.XLOOKUP($C22&D$14,'Gas Useage'!$C$2:$AB$2&'Gas Useage'!$C$3:$AB$3,'Gas Useage'!$C$4:$AB$15))/_xlfn.XLOOKUP($B22&D$15,'Gas Useage'!$A$4:$A$15&'Gas Useage'!$B$4:$B$15,_xlfn.XLOOKUP(D$14,'Gas Useage'!$AA$3:$AB$3,'Gas Useage'!$AA$4:$AB$15))} -> 0.038887777 | E22: {=_xlfn.XLOOKUP(E$13,INDIRECT("'"&$B22&" EI'!$B$6:$B$53"),_xlfn.XLOOKUP($C$10,INDIRECT("'"&$B22&" EI'!$D$4:$Z$4"),INDIRECT("'"&$B22&" EI'!$D$6:$Z$53")))*_xlfn.XLOOKUP($B22&E$15,'Gas Useage'!$A$4:$A$15&'Gas Useage'!$B$4:$B$15,_xlfn.XLOOKUP($C22&E$14,'Gas Useage'!$C$2:$AB$2&'Gas Useage'!$C$3:$AB$3,'Gas Useage'!$C$4:$AB$15))/_xlfn.XLOOKUP($B22&E$15,'Gas Useage'!$A$4:$A$15&'Gas Useage'!$B$4:$B$15,_xlfn.XLOOKUP(E$14,'Gas Useage'!$AA$3:$AB$3,'Gas Useage'!$AA$4:$AB$15))} -> 0.0060700436 | F22: {=_xlfn.XLOOKUP(F$13,INDIRECT("'"&$B22&" EI'!$B$6:$B$53"),_xlfn.XLOOKUP($C$10,INDIRECT("'"&$B22&" EI'!$D$4:$Z$4"),INDIRECT("'"&$B22&" EI'!$D$6:$Z$53")))*_xlfn.XLOOKUP($B22&F$15,'Gas Useage'!$A$4:$A$15&'Gas Useage'!$B$4:$B$15,_xlfn.XLOOKUP($C22&F$14,'Gas Useage'!$C$2:$AB$2&'Gas Useage'!$C$3:$AB$3,'Gas Useage'!$C$4:$AB$15))/_xlfn.XLOOKUP($B22&F$15,'Gas Useage'!$A$4:$A$15&'Gas Useage'!$B$4:$B$15,_xlfn.XLOOKUP(F$14,'Gas Useage'!$AA$3:$AB$3,'Gas Useage'!$AA$4:$AB$15))} -> 0.024443145 | G22: {=_xlfn.XLOOKUP(G$13,INDIRECT("'"&$B22&" EI'!$B$6:$B$53"),_xlfn.XLOOKUP($C$10,INDIRECT("'"&$B22&" EI'!$D$4:$Z$4"),INDIRECT("'"&$B22&" EI'!$D$6:$Z$53")))*_xlfn.XLOOKUP($B22&G$15,'Gas Useage'!$A$4:$A$15&'Gas Useage'!$B$4:$B$15,_xlfn.XLOOKUP($C22&G$14,'Gas Useage'!$C$2:$AB$2&'Gas Useage'!$C$3:$AB$3,'Gas Useage'!$C$4:$AB$15))/_xlfn.XLOOKUP($B22&G$15,'Gas Useage'!$A$4:$A$15&'Gas Useage'!$B$4:$B$15,_xlfn.XLOOKUP(G$14,'Gas Useage'!$AA$3:$AB$3,'Gas Useage'!$AA$4:$AB$15))} -> 0.0038153622 | H22: -- | I22: -- | J22: -- | K22: --
B23: 2020 | C23: August | D23: {=_xlfn.XLOOKUP(D$13,INDIRECT("'"&$B23&" EI'!$B$6:$B$53"),_xlfn.XLOOKUP($C$10,INDIRECT("'"&$B23&" EI'!$D$4:$Z$4"),INDIRECT("'"&$B23&" EI'!$D$6:$Z$53")))*_xlfn.XLOOKUP($B23&D$15,'Gas Useage'!$A$4:$A$15&'Gas Useage'!$B$4:$B$15,_xlfn.XLOOKUP($C23&D$14,'Gas Useage'!$C$2:$AB$2&'Gas Useage'!$C$3:$AB$3,'Gas Useage'!$C$4:$AB$15))/_xlfn.XLOOKUP($B23&D$15,'Gas Useage'!$A$4:$A$15&'Gas Useage'!$B$4:$B$15,_xlfn.XLOOKUP(D$14,'Gas Useage'!$AA$3:$AB$3,'Gas Useage'!$AA$4:$AB$15))} -> 0.039113504 | E23: {=_xlfn.XLOOKUP(E$13,INDIRECT("'"&$B23&" EI'!$B$6:$B$53"),_xlfn.XLOOKUP($C$10,INDIRECT("'"&$B23&" EI'!$D$4:$Z$4"),INDIRECT("'"&$B23&" EI'!$D$6:$Z$53")))*_xlfn.XLOOKUP($B23&E$15,'Gas Useage'!$A$4:$A$15&'Gas Useage'!$B$4:$B$15,_xlfn.XLOOKUP($C23&E$14,'Gas Useage'!$C$2:$AB$2&'Gas Useage'!$C$3:$AB$3,'Gas Useage'!$C$4:$AB$15))/_xlfn.XLOOKUP($B23&E$15,'Gas Useage'!$A$4:$A$15&'Gas Useage'!$B$4:$B$15,_xlfn.XLOOKUP(E$14,'Gas Useage'!$AA$3:$AB$3,'Gas Useage'!$AA$4:$AB$15))} -> 0.0046421825 | F23: {=_xlfn.XLOOKUP(F$13,INDIRECT("'"&$B23&" EI'!$B$6:$B$53"),_xlfn.XLOOKUP($C$10,INDIRECT("'"&$B23&" EI'!$D$4:$Z$4"),INDIRECT("'"&$B23&" EI'!$D$6:$Z$53")))*_xlfn.XLOOKUP($B23&F$15,'Gas Useage'!$A$4:$A$15&'Gas Useage'!$B$4:$B$15,_xlfn.XLOOKUP($C23&F$14,'Gas Useage'!$C$2:$AB$2&'Gas Useage'!$C$3:$AB$3,'Gas Useage'!$C$4:$AB$15))/_xlfn.XLOOKUP($B23&F$15,'Gas Useage'!$A$4:$A$15&'Gas Useage'!$B$4:$B$15,_xlfn.XLOOKUP(F$14,'Gas Useage'!$AA$3:$AB$3,'Gas Useage'!$AA$4:$AB$15))} -> 0.0045314847 | G23: {=_xlfn.XLOOKUP(G$13,INDIRECT("'"&$B23&" EI'!$B$6:$B$53"),_xlfn.XLOOKUP($C$10,INDIRECT("'"&$B23&" EI'!$D$4:$Z$4"),INDIRECT("'"&$B23&" EI'!$D$6:$Z$53")))*_xlfn.XLOOKUP($B23&G$15,'Gas Useage'!$A$4:$A$15&'Gas Useage'!$B$4:$B$15,_xlfn.XLOOKUP($C23&G$14,'Gas Useage'!$C$2:$AB$2&'Gas Useage'!$C$3:$AB$3,'Gas Useage'!$C$4:$AB$15))/_xlfn.XLOOKUP($B23&G$15,'Gas Useage'!$A$4:$A$15&'Gas Useage'!$B$4:$B$15,_xlfn.XLOOKUP(G$14,'Gas Useage'!$AA$3:$AB$3,'Gas Useage'!$AA$4:$AB$15))} -> 0.00053781884 | H23: -- | I23: -- | J23: -- | K23: --
B24: 2020 | C24: September | D24: {=_xlfn.XLOOKUP(D$13,INDIRECT("'"&$B24&" EI'!$B$6:$B$53"),_xlfn.XLOOKUP($C$10,INDIRECT("'"&$B24&" EI'!$D$4:$Z$4"),INDIRECT("'"&$B24&" EI'!$D$6:$Z$53")))*_xlfn.XLOOKUP($B24&D$15,'Gas Useage'!$A$4:$A$15&'Gas Useage'!$B$4:$B$15,_xlfn.XLOOKUP($C24&D$14,'Gas Useage'!$C$2:$AB$2&'Gas Useage'!$C$3:$AB$3,'Gas Useage'!$C$4:$AB$15))/_xlfn.XLOOKUP($B24&D$15,'Gas Useage'!$A$4:$A$15&'Gas Useage'!$B$4:$B$15,_xlfn.XLOOKUP(D$14,'Gas Useage'!$AA$3:$AB$3,'Gas Useage'!$AA$4:$AB$15))} -> 0.010737536 | E24: {=_xlfn.XLOOKUP(E$13,INDIRECT("'"&$B24&" EI'!$B$6:$B$53"),_xlfn.XLOOKUP($C$10,INDIRECT("'"&$B24&" EI'!$D$4:$Z$4"),INDIRECT("'"&$B24&" EI'!$D$6:$Z$53")))*_xlfn.XLOOKUP($B24&E$15,'Gas Useage'!$A$4:$A$15&'Gas Useage'!$B$4:$B$15,_xlfn.XLOOKUP($C24&E$14,'Gas Useage'!$C$2:$AB$2&'Gas Useage'!$C$3:$AB$3,'Gas Useage'!$C$4:$AB$15))/_xlfn.XLOOKUP($B24&E$15,'Gas Useage'!$A$4:$A$15&'Gas Useage'!$B$4:$B$15,_xlfn.XLOOKUP(E$14,'Gas Useage'!$AA$3:$AB$3,'Gas Useage'!$AA$4:$AB$15))} -> 0.0020789051 | F24: {=_xlfn.XLOOKUP(F$13,INDIRECT("'"&$B24&" EI'!$B$6:$B$53"),_xlfn.XLOOKUP($C$10,INDIRECT("'"&$B24&" EI'!$D$4:$Z$4"),INDIRECT("'"&$B24&" EI'!$D$6:$Z$53")))*_xlfn.XLOOKUP($B24&F$15,'Gas Useage'!$A$4:$A$15&'Gas Useage'!$B$4:$B$15,_xlfn.XLOOKUP($C24&F$14,'Gas Useage'!$C$2:$AB$2&'Gas Useage'!$C$3:$AB$3,'Gas Useage'!$C$4:$AB$15))/_xlfn.XLOOKUP($B24&F$15,'Gas Useage'!$A$4:$A$15&'Gas Useage'!$B$4:$B$15,_xlfn.XLOOKUP(F$14,'Gas Useage'!$AA$3:$AB$3,'Gas Useage'!$AA$4:$AB$15))} -> 7.3508478e-05 | G24: {=_xlfn.XLOOKUP(G$13,INDIRECT("'"&$B24&" EI'!$B$6:$B$53"),_xlfn.XLOOKUP($C$10,INDIRECT("'"&$B24&" EI'!$D$4:$Z$4"),INDIRECT("'"&$B24&" EI'!$D$6:$Z$53")))*_xlfn.XLOOKUP($B24&G$15,'Gas Useage'!$A$4:$A$15&'Gas Useage'!$B$4:$B$15,_xlfn.XLOOKUP($C24&G$14,'Gas Useage'!$C$2:$AB$2&'Gas Useage'!$C$3:$AB$3,'Gas Useage'!$C$4:$AB$15))/_xlfn.XLOOKUP($B24&G$15,'Gas Useage'!$A$4:$A$15&'Gas Useage'!$B$4:$B$15,_xlfn.XLOOKUP(G$14,'Gas Useage'!$AA$3:$AB$3,'Gas Useage'!$AA$4:$AB$15))} -> 1.423205e-05 | H24: -- | I24: -- | J24: -- | K24: --
B25: 2020 | C25: October | D25: {=_xlfn.XLOOKUP(D$13,INDIRECT("'"&$B25&" EI'!$B$6:$B$53"),_xlfn.XLOOKUP($C$10,INDIRECT("'"&$B25&" EI'!$D$4:$Z$4"),INDIRECT("'"&$B25&" EI'!$D$6:$Z$53")))*_xlfn.XLOOKUP($B25&D$15,'Gas Useage'!$A$4:$A$15&'Gas Useage'!$B$4:$B$15,_xlfn.XLOOKUP($C25&D$14,'Gas Useage'!$C$2:$AB$2&'Gas Useage'!$C$3:$AB$3,'Gas Useage'!$C$4:$AB$15))/_xlfn.XLOOKUP($B25&D$15,'Gas Useage'!$A$4:$A$15&'Gas Useage'!$B$4:$B$15,_xlfn.XLOOKUP(D$14,'Gas Useage'!$AA$3:$AB$3,'Gas Useage'!$AA$4:$AB$15))} -> 0.012490077 | E25: {=_xlfn.XLOOKUP(E$13,INDIRECT("'"&$B25&" EI'!$B$6:$B$53"),_xlfn.XLOOKUP($C$10,INDIRECT("'"&$B25&" EI'!$D$4:$Z$4"),INDIRECT("'"&$B25&" EI'!$D$6:$Z$53")))*_xlfn.XLOOKUP($B25&E$15,'Gas Useage'!$A$4:$A$15&'Gas Useage'!$B$4:$B$15,_xlfn.XLOOKUP($C25&E$14,'Gas Useage'!$C$2:$AB$2&'Gas Useage'!$C$3:$AB$3,'Gas Useage'!$C$4:$AB$15))/_xlfn.XLOOKUP($B25&E$15,'Gas Useage'!$A$4:$A$15&'Gas Useage'!$B$4:$B$15,_xlfn.XLOOKUP(E$14,'Gas Useage'!$AA$3:$AB$3,'Gas Useage'!$AA$4:$AB$15))} -> 0.0016883825 | F25: {=_xlfn.XLOOKUP(F$13,INDIRECT("'"&$B25&" EI'!$B$6:$B$53"),_xlfn.XLOOKUP($C$10,INDIRECT("'"&$B25&" EI'!$D$4:$Z$4"),INDIRECT("'"&$B25&" EI'!$D$6:$Z$53")))*_xlfn.XLOOKUP($B25&F$15,'Gas Useage'!$A$4:$A$15&'Gas Useage'!$B$4:$B$15,_xlfn.XLOOKUP($C25&F$14,'Gas Useage'!$C$2:$AB$2&'Gas Useage'!$C$3:$AB$3,'Gas Useage'!$C$4:$AB$15))/_xlfn.XLOOKUP($B25&F$15,'Gas Useage'!$A$4:$A$15&'Gas Useage'!$B$4:$B$15,_xlfn.XLOOKUP(F$14,'Gas Useage'!$AA$3:$AB$3,'Gas Useage'!$AA$4:$AB$15))} -> 0.028885275 | G25: {=_xlfn.XLOOKUP(G$13,INDIRECT("'"&$B25&" EI'!$B$6:$B$53"),_xlfn.XLOOKUP($C$10,INDIRECT("'"&$B25&" EI'!$D$4:$Z$4"),INDIRECT("'"&$B25&" EI'!$D$6:$Z$53")))*_xlfn.XLOOKUP($B25&G$15,'Gas Useage'!$A$4:$A$15&'Gas Useage'!$B$4:$B$15,_xlfn.XLOOKUP($C25&G$14,'Gas Useage'!$C$2:$AB$2&'Gas Useage'!$C$3:$AB$3,'Gas Useage'!$C$4:$AB$15))/_xlfn.XLOOKUP($B25&G$15,'Gas Useage'!$A$4:$A$15&'Gas Useage'!$B$4:$B$15,_xlfn.XLOOKUP(G$14,'Gas Useage'!$AA$3:$AB$3,'Gas Useage'!$AA$4:$AB$15))} -> 0.0039046509 | H25: -- | I25: -- | J25: -- | K25: --
B26: 2020 | C26: November | D26: {=_xlfn.XLOOKUP(D$13,INDIRECT("'"&$B26&" EI'!$B$6:$B$53"),_xlfn.XLOOKUP($C$10,INDIRECT("'"&$B26&" EI'!$D$4:$Z$4"),INDIRECT("'"&$B26&" EI'!$D$6:$Z$53")))*_xlfn.XLOOKUP($B26&D$15,'Gas Useage'!$A$4:$A$15&'Gas Useage'!$B$4:$B$15,_xlfn.XLOOKUP($C26&D$14,'Gas Useage'!$C$2:$AB$2&'Gas Useage'!$C$3:$AB$3,'Gas Useage'!$C$4:$AB$15))/_xlfn.XLOOKUP($B26&D$15,'Gas Useage'!$A$4:$A$15&'Gas Useage'!$B$4:$B$15,_xlfn.XLOOKUP(D$14,'Gas Useage'!$AA$3:$AB$3,'Gas Useage'!$AA$4:$AB$15))} -> 0.026931131 | E26: {=_xlfn.XLOOKUP(E$13,INDIRECT("'"&$B26&" EI'!$B$6:$B$53"),_xlfn.XLOOKUP($C$10,INDIRECT("'"&$B26&" EI'!$D$4:$Z$4"),INDIRECT("'"&$B26&" EI'!$D$6:$Z$53")))*_xlfn.XLOOKUP($B26&E$15,'Gas Useage'!$A$4:$A$15&'Gas Useage'!$B$4:$B$15,_xlfn.XLOOKUP($C26&E$14,'Gas Useage'!$C$2:$AB$2&'Gas Useage'!$C$3:$AB$3,'Gas Useage'!$C$4:$AB$15))/_xlfn.XLOOKUP($B26&E$15,'Gas Useage'!$A$4:$A$15&'Gas Useage'!$B$4:$B$15,_xlfn.XLOOKUP(E$14,'Gas Useage'!$AA$3:$AB$3,'Gas Useage'!$AA$4:$AB$15))} -> 0.0049182129 | F26: {=_xlfn.XLOOKUP(F$13,INDIRECT("'"&$B26&" EI'!$B$6:$B$53"),_xlfn.XLOOKUP($C$10,INDIRECT("'"&$B26&" EI'!$D$4:$Z$4"),INDIRECT("'"&$B26&" EI'!$D$6:$Z$53")))*_xlfn.XLOOKUP($B26&F$15,'Gas Useage'!$A$4:$A$15&'Gas Useage'!$B$4:$B$15,_xlfn.XLOOKUP($C26&F$14,'Gas Useage'!$C$2:$AB$2&'Gas Useage'!$C$3:$AB$3,'Gas Useage'!$C$4:$AB$15))/_xlfn.XLOOKUP($B26&F$15,'Gas Useage'!$A$4:$A$15&'Gas Useage'!$B$4:$B$15,_xlfn.XLOOKUP(F$14,'Gas Useage'!$AA$3:$AB$3,'Gas Useage'!$AA$4:$AB$15))} -> 0.040765886 | G26: {=_xlfn.XLOOKUP(G$13,INDIRECT("'"&$B26&" EI'!$B$6:$B$53"),_xlfn.XLOOKUP($C$10,INDIRECT("'"&$B26&" EI'!$D$4:$Z$4"),INDIRECT("'"&$B26&" EI'!$D$6:$Z$53")))*_xlfn.XLOOKUP($B26&G$15,'Gas Useage'!$A$4:$A$15&'Gas Useage'!$B$4:$B$15,_xlfn.XLOOKUP($C26&G$14,'Gas Useage'!$C$2:$AB$2&'Gas Useage'!$C$3:$AB$3,'Gas Useage'!$C$4:$AB$15))/_xlfn.XLOOKUP($B26&G$15,'Gas Useage'!$A$4:$A$15&'Gas Useage'!$B$4:$B$15,_xlfn.XLOOKUP(G$14,'Gas Useage'!$AA$3:$AB$3,'Gas Useage'!$AA$4:$AB$15))} -> 0.0074447416 | H26: -- | I26: -- | J26: -- | K26: --
B27: 2020 | C27: December | D27: {=_xlfn.XLOOKUP(D$13,INDIRECT("'"&$B27&" EI'!$B$6:$B$53"),_xlfn.XLOOKUP($C$10,INDIRECT("'"&$B27&" EI'!$D$4:$Z$4"),INDIRECT("'"&$B27&" EI'!$D$6:$Z$53")))*_xlfn.XLOOKUP($B27&D$15,'Gas Useage'!$A$4:$A$15&'Gas Useage'!$B$4:$B$15,_xlfn.XLOOKUP($C27&D$14,'Gas Useage'!$C$2:$AB$2&'Gas Useage'!$C$3:$AB$3,'Gas Useage'!$C$4:$AB$15))/_xlfn.XLOOKUP($B27&D$15,'Gas Useage'!$A$4:$A$15&'Gas Useage'!$B$4:$B$15,_xlfn.XLOOKUP(D$14,'Gas Useage'!$AA$3:$AB$3,'Gas Useage'!$AA$4:$AB$15))} -> 0.026931131 | E27: {=_xlfn.XLOOKUP(E$13,INDIRECT("'"&$B27&" EI'!$B$6:$B$53"),_xlfn.XLOOKUP($C$10,INDIRECT("'"&$B27&" EI'!$D$4:$Z$4"),INDIRECT("'"&$B27&" EI'!$D$6:$Z$53")))*_xlfn.XLOOKUP($B27&E$15,'Gas Useage'!$A$4:$A$15&'Gas Useage'!$B$4:$B$15,_xlfn.XLOOKUP($C27&E$14,'Gas Useage'!$C$2:$AB$2&'Gas Useage'!$C$3:$AB$3,'Gas Useage'!$C$4:$AB$15))/_xlfn.XLOOKUP($B27&E$15,'Gas Useage'!$A$4:$A$15&'Gas Useage'!$B$4:$B$15,_xlfn.XLOOKUP(E$14,'Gas Useage'!$AA$3:$AB$3,'Gas Useage'!$AA$4:$AB$15))} -> 0.0049182129 | F27: {=_xlfn.XLOOKUP(F$13,INDIRECT("'"&$B27&" EI'!$B$6:$B$53"),_xlfn.XLOOKUP($C$10,INDIRECT("'"&$B27&" EI'!$D$4:$Z$4"),INDIRECT("'"&$B27&" EI'!$D$6:$Z$53")))*_xlfn.XLOOKUP($B27&F$15,'Gas Useage'!$A$4:$A$15&'Gas Useage'!$B$4:$B$15,_xlfn.XLOOKUP($C27&F$14,'Gas Useage'!$C$2:$AB$2&'Gas Useage'!$C$3:$AB$3,'Gas Useage'!$C$4:$AB$15))/_xlfn.XLOOKUP($B27&F$15,'Gas Useage'!$A$4:$A$15&'Gas Useage'!$B$4:$B$15,_xlfn.XLOOKUP(F$14,'Gas Useage'!$AA$3:$AB$3,'Gas Useage'!$AA$4:$AB$15))} -> 0.040765886 | G27: {=_xlfn.XLOOKUP(G$13,INDIRECT("'"&$B27&" EI'!$B$6:$B$53"),_xlfn.XLOOKUP($C$10,INDIRECT("'"&$B27&" EI'!$D$4:$Z$4"),INDIRECT("'"&$B27&" EI'!$D$6:$Z$53")))*_xlfn.XLOOKUP($B27&G$15,'Gas Useage'!$A$4:$A$15&'Gas Useage'!$B$4:$B$15,_xlfn.XLOOKUP($C27&G$14,'Gas Useage'!$C$2:$AB$2&'Gas Useage'!$C$3:$AB$3,'Gas Useage'!$C$4:$AB$15))/_xlfn.XLOOKUP($B27&G$15,'Gas Useage'!$A$4:$A$15&'Gas Useage'!$B$4:$B$15,_xlfn.XLOOKUP(G$14,'Gas Useage'!$AA$3:$AB$3,'Gas Useage'!$AA$4:$AB$15))} -> 0.0074447416 | H27: -- | I27: -- | J27: -- | K27: --
... B47: 2022 | C47: August | D47: {=_xlfn.XLOOKUP(D$13,INDIRECT("'"&$B47&" EI'!$B$6:$B$53"),_xlfn.XLOOKUP($C$10,INDIRECT("'"&$B47&" EI'!$D$4:$Z$4"),INDIRECT("'"&$B47&" EI'!$D$6:$Z$53")))*_xlfn.XLOOKUP($B47&D$15,'Gas Useage'!$A$4:$A$15&'Gas Useage'!$B$4:$B$15,_xlfn.XLOOKUP($C47&D$14,'Gas Useage'!$C$2:$AB$2&'Gas Useage'!$C$3:$AB$3,'Gas Useage'!$C$4:$AB$15))/_xlfn.XLOOKUP($B47&D$15,'Gas Useage'!$A$4:$A$15&'Gas Useage'!$B$4:$B$15,_xlfn.XLOOKUP(D$14,'Gas Useage'!$AA$3:$AB$3,'Gas Useage'!$AA$4:$AB$15))} -> 0.041794756 | E47: {=_xlfn.XLOOKUP(E$13,INDIRECT("'"&$B47&" EI'!$B$6:$B$53"),_xlfn.XLOOKUP($C$10,INDIRECT("'"&$B47&" EI'!$D$4:$Z$4"),INDIRECT("'"&$B47&" EI'!$D$6:$Z$53")))*_xlfn.XLOOKUP($B47&E$15,'Gas Useage'!$A$4:$A$15&'Gas Useage'!$B$4:$B$15,_xlfn.XLOOKUP($C47&E$14,'Gas Useage'!$C$2:$AB$2&'Gas Useage'!$C$3:$AB$3,'Gas Useage'!$C$4:$AB$15))/_xlfn.XLOOKUP($B47&E$15,'Gas Useage'!$A$4:$A$15&'Gas Useage'!$B$4:$B$15,_xlfn.XLOOKUP(E$14,'Gas Useage'!$AA$3:$AB$3,'Gas Useage'!$AA$4:$AB$15))} -> 0.0058433248 | F47: {=_xlfn.XLOOKUP(F$13,INDIRECT("'"&$B47&" EI'!$B$6:$B$53"),_xlfn.XLOOKUP($C$10,INDIRECT("'"&$B47&" EI'!$D$4:$Z$4"),INDIRECT("'"&$B47&" EI'!$D$6:$Z$53")))*_xlfn.XLOOKUP($B47&F$15,'Gas Useage'!$A$4:$A$15&'Gas Useage'!$B$4:$B$15,_xlfn.XLOOKUP($C47&F$14,'Gas Useage'!$C$2:$AB$2&'Gas Useage'!$C$3:$AB$3,'Gas Useage'!$C$4:$AB$15))/_xlfn.XLOOKUP($B47&F$15,'Gas Useage'!$A$4:$A$15&'Gas Useage'!$B$4:$B$15,_xlfn.XLOOKUP(F$14,'Gas Useage'!$AA$3:$AB$3,'Gas Useage'!$AA$4:$AB$15))} -> 0.030364314 | G47: {=_xlfn.XLOOKUP(G$13,INDIRECT("'"&$B47&" EI'!$B$6:$B$53"),_xlfn.XLOOKUP($C$10,INDIRECT("'"&$B47&" EI'!$D$4:$Z$4"),INDIRECT("'"&$B47&" EI'!$D$6:$Z$53")))*_xlfn.XLOOKUP($B47&G$15,'Gas Useage'!$A$4:$A$15&'Gas Useage'!$B$4:$B$15,_xlfn.XLOOKUP($C47&G$14,'Gas Useage'!$C$2:$AB$2&'Gas Useage'!$C$3:$AB$3,'Gas Useage'!$C$4:$AB$15))/_xlfn.XLOOKUP($B47&G$15,'Gas Useage'!$A$4:$A$15&'Gas Useage'!$B$4:$B$15,_xlfn.XLOOKUP(G$14,'Gas Useage'!$AA$3:$AB$3,'Gas Useage'!$AA$4:$AB$15))} -> 0.0042452347 | H47: -- | I47: -- | J47: -- | K47: --
B48: 2022 | C48: September | D48: {=_xlfn.XLOOKUP(D$13,INDIRECT("'"&$B48&" EI'!$B$6:$B$53"),_xlfn.XLOOKUP($C$10,INDIRECT("'"&$B48&" EI'!$D$4:$Z$4"),INDIRECT("'"&$B48&" EI'!$D$6:$Z$53")))*_xlfn.XLOOKUP($B48&D$15,'Gas Useage'!$A$4:$A$15&'Gas Useage'!$B$4:$B$15,_xlfn.XLOOKUP($C48&D$14,'Gas Useage'!$C$2:$AB$2&'Gas Useage'!$C$3:$AB$3,'Gas Useage'!$C$4:$AB$15))/_xlfn.XLOOKUP($B48&D$15,'Gas Useage'!$A$4:$A$15&'Gas Useage'!$B$4:$B$15,_xlfn.XLOOKUP(D$14,'Gas Useage'!$AA$3:$AB$3,'Gas Useage'!$AA$4:$AB$15))} -> 0.014255381 | E48: {=_xlfn.XLOOKUP(E$13,INDIRECT("'"&$B48&" EI'!$B$6:$B$53"),_xlfn.XLOOKUP($C$10,INDIRECT("'"&$B48&" EI'!$D$4:$Z$4"),INDIRECT("'"&$B48&" EI'!$D$6:$Z$53")))*_xlfn.XLOOKUP($B48&E$15,'Gas Useage'!$A$4:$A$15&'Gas Useage'!$B$4:$B$15,_xlfn.XLOOKUP($C48&E$14,'Gas Useage'!$C$2:$AB$2&'Gas Useage'!$C$3:$AB$3,'Gas Useage'!$C$4:$AB$15))/_xlfn.XLOOKUP($B48&E$15,'Gas Useage'!$A$4:$A$15&'Gas Useage'!$B$4:$B$15,_xlfn.XLOOKUP(E$14,'Gas Useage'!$AA$3:$AB$3,'Gas Useage'!$AA$4:$AB$15))} -> 0.0024867252 | F48: {=_xlfn.XLOOKUP(F$13,INDIRECT("'"&$B48&" EI'!$B$6:$B$53"),_xlfn.XLOOKUP($C$10,INDIRECT("'"&$B48&" EI'!$D$4:$Z$4"),INDIRECT("'"&$B48&" EI'!$D$6:$Z$53")))*_xlfn.XLOOKUP($B48&F$15,'Gas Useage'!$A$4:$A$15&'Gas Useage'!$B$4:$B$15,_xlfn.XLOOKUP($C48&F$14,'Gas Useage'!$C$2:$AB$2&'Gas Useage'!$C$3:$AB$3,'Gas Useage'!$C$4:$AB$15))/_xlfn.XLOOKUP($B48&F$15,'Gas Useage'!$A$4:$A$15&'Gas Useage'!$B$4:$B$15,_xlfn.XLOOKUP(F$14,'Gas Useage'!$AA$3:$AB$3,'Gas Useage'!$AA$4:$AB$15))} -> 0.0080792208 | G48: {=_xlfn.XLOOKUP(G$13,INDIRECT("'"&$B48&" EI'!$B$6:$B$53"),_xlfn.XLOOKUP($C$10,INDIRECT("'"&$B48&" EI'!$D$4:$Z$4"),INDIRECT("'"&$B48&" EI'!$D$6:$Z$53")))*_xlfn.XLOOKUP($B48&G$15,'Gas Useage'!$A$4:$A$15&'Gas Useage'!$B$4:$B$15,_xlfn.XLOOKUP($C48&G$14,'Gas Useage'!$C$2:$AB$2&'Gas Useage'!$C$3:$AB$3,'Gas Useage'!$C$4:$AB$15))/_xlfn.XLOOKUP($B48&G$15,'Gas Useage'!$A$4:$A$15&'Gas Useage'!$B$4:$B$15,_xlfn.XLOOKUP(G$14,'Gas Useage'!$AA$3:$AB$3,'Gas Useage'!$AA$4:$AB$15))} -> 0.0014093487 | H48: =IFERROR(SUM(D25:D48)/2,"--") -> 0.29960503 | I48: =IFERROR(SUM(E25:E48)/2,"--") -> 0.038909661 | J48: =IFERROR(SUM(F25:F48)/2,"--") -> 0.30311705 | K48: =IFERROR(SUM(G25:G48)/2,"--") -> 0.038164579
B49: 2022 | C49: October | D49: {=_xlfn.XLOOKUP(D$13,INDIRECT("'"&$B49&" EI'!$B$6:$B$53"),_xlfn.XLOOKUP($C$10,INDIRECT("'"&$B49&" EI'!$D$4:$Z$4"),INDIRECT("'"&$B49&" EI'!$D$6:$Z$53")))*_xlfn.XLOOKUP($B49&D$15,'Gas Useage'!$A$4:$A$15&'Gas Useage'!$B$4:$B$15,_xlfn.XLOOKUP($C49&D$14,'Gas Useage'!$C$2:$AB$2&'Gas Useage'!$C$3:$AB$3,'Gas Useage'!$C$4:$AB$15))/_xlfn.XLOOKUP($B49&D$15,'Gas Useage'!$A$4:$A$15&'Gas Useage'!$B$4:$B$15,_xlfn.XLOOKUP(D$14,'Gas Useage'!$AA$3:$AB$3,'Gas Useage'!$AA$4:$AB$15))} -> 0.010051691 | E49: {=_xlfn.XLOOKUP(E$13,INDIRECT("'"&$B49&" EI'!$B$6:$B$53"),_xlfn.XLOOKUP($C$10,INDIRECT("'"&$B49&" EI'!$D$4:$Z$4"),INDIRECT("'"&$B49&" EI'!$D$6:$Z$53")))*_xlfn.XLOOKUP($B49&E$15,'Gas Useage'!$A$4:$A$15&'Gas Useage'!$B$4:$B$15,_xlfn.XLOOKUP($C49&E$14,'Gas Useage'!$C$2:$AB$2&'Gas Useage'!$C$3:$AB$3,'Gas Useage'!$C$4:$AB$15))/_xlfn.XLOOKUP($B49&E$15,'Gas Useage'!$A$4:$A$15&'Gas Useage'!$B$4:$B$15,_xlfn.XLOOKUP(E$14,'Gas Useage'!$AA$3:$AB$3,'Gas Useage'!$AA$4:$AB$15))} -> 0.002640836 | F49: {=_xlfn.XLOOKUP(F$13,INDIRECT("'"&$B49&" EI'!$B$6:$B$53"),_xlfn.XLOOKUP($C$10,INDIRECT("'"&$B49&" EI'!$D$4:$Z$4"),INDIRECT("'"&$B49&" EI'!$D$6:$Z$53")))*_xlfn.XLOOKUP($B49&F$15,'Gas Useage'!$A$4:$A$15&'Gas Useage'!$B$4:$B$15,_xlfn.XLOOKUP($C49&F$14,'Gas Useage'!$C$2:$AB$2&'Gas Useage'!$C$3:$AB$3,'Gas Useage'!$C$4:$AB$15))/_xlfn.XLOOKUP($B49&F$15,'Gas Useage'!$A$4:$A$15&'Gas Useage'!$B$4:$B$15,_xlfn.XLOOKUP(F$14,'Gas Useage'!$AA$3:$AB$3,'Gas Useage'!$AA$4:$AB$15))} -> 0.0075909521 | G49: {=_xlfn.XLOOKUP(G$13,INDIRECT("'"&$B49&" EI'!$B$6:$B$53"),_xlfn.XLOOKUP($C$10,INDIRECT("'"&$B49&" EI'!$D$4:$Z$4"),INDIRECT("'"&$B49&" EI'!$D$6:$Z$53")))*_xlfn.XLOOKUP($B49&G$15,'Gas Useage'!$A$4:$A$15&'Gas Useage'!$B$4:$B$15,_xlfn.XLOOKUP($C49&G$14,'Gas Useage'!$C$2:$AB$2&'Gas Useage'!$C$3:$AB$3,'Gas Useage'!$C$4:$AB$15))/_xlfn.XLOOKUP($B49&G$15,'Gas Useage'!$A$4:$A$15&'Gas Useage'!$B$4:$B$15,_xlfn.XLOOKUP(G$14,'Gas Useage'!$AA$3:$AB$3,'Gas Useage'!$AA$4:$AB$15))} -> 0.001994337 | H49: =IFERROR(SUM(D26:D49)/2,"--") -> 0.29838584 | I49: =IFERROR(SUM(E26:E49)/2,"--") -> 0.039385888 | J49: =IFERROR(SUM(F26:F49)/2,"--") -> 0.29246989 | K49: =IFERROR(SUM(G26:G49)/2,"--") -> 0.037209422
B50: 2022 | C50: November | D50: {=_xlfn.XLOOKUP(D$13,INDIRECT("'"&$B50&" EI'!$B$6:$B$53"),_xlfn.XLOOKUP($C$10,INDIRECT("'"&$B50&" EI'!$D$4:$Z$4"),INDIRECT("'"&$B50&" EI'!$D$6:$Z$53")))*_xlfn.XLOOKUP($B50&D$15,'Gas Useage'!$A$4:$A$15&'Gas Useage'!$B$4:$B$15,_xlfn.XLOOKUP($C50&D$14,'Gas Useage'!$C$2:$AB$2&'Gas Useage'!$C$3:$AB$3,'Gas Useage'!$C$4:$AB$15))/_xlfn.XLOOKUP($B50&D$15,'Gas Useage'!$A$4:$A$15&'Gas Useage'!$B$4:$B$15,_xlfn.XLOOKUP(D$14,'Gas Useage'!$AA$3:$AB$3,'Gas Useage'!$AA$4:$AB$15))} -> 1.5301468e-05 | E50: {=_xlfn.XLOOKUP(E$13,INDIRECT("'"&$B50&" EI'!$B$6:$B$53"),_xlfn.XLOOKUP($C$10,INDIRECT("'"&$B50&" EI'!$D$4:$Z$4"),INDIRECT("'"&$B50&" EI'!$D$6:$Z$53")))*_xlfn.XLOOKUP($B50&E$15,'Gas Useage'!$A$4:$A$15&'Gas Useage'!$B$4:$B$15,_xlfn.XLOOKUP($C50&E$14,'Gas Useage'!$C$2:$AB$2&'Gas Useage'!$C$3:$AB$3,'Gas Useage'!$C$4:$AB$15))/_xlfn.XLOOKUP($B50&E$15,'Gas Useage'!$A$4:$A$15&'Gas Useage'!$B$4:$B$15,_xlfn.XLOOKUP(E$14,'Gas Useage'!$AA$3:$AB$3,'Gas Useage'!$AA$4:$AB$15))} -> 2.7991464e-06 | F50: {=_xlfn.XLOOKUP(F$13,INDIRECT("'"&$B50&" EI'!$B$6:$B$53"),_xlfn.XLOOKUP($C$10,INDIRECT("'"&$B50&" EI'!$D$4:$Z$4"),INDIRECT("'"&$B50&" EI'!$D$6:$Z$53")))*_xlfn.XLOOKUP($B50&F$15,'Gas Useage'!$A$4:$A$15&'Gas Useage'!$B$4:$B$15,_xlfn.XLOOKUP($C50&F$14,'Gas Useage'!$C$2:$AB$2&'Gas Useage'!$C$3:$AB$3,'Gas Useage'!$C$4:$AB$15))/_xlfn.XLOOKUP($B50&F$15,'Gas Useage'!$A$4:$A$15&'Gas Useage'!$B$4:$B$15,_xlfn.XLOOKUP(F$14,'Gas Useage'!$AA$3:$AB$3,'Gas Useage'!$AA$4:$AB$15))} -> 1.287707e-05 | G50: {=_xlfn.XLOOKUP(G$13,INDIRECT("'"&$B50&" EI'!$B$6:$B$53"),_xlfn.XLOOKUP($C$10,INDIRECT("'"&$B50&" EI'!$D$4:$Z$4"),INDIRECT("'"&$B50&" EI'!$D$6:$Z$53")))*_xlfn.XLOOKUP($B50&G$15,'Gas Useage'!$A$4:$A$15&'Gas Useage'!$B$4:$B$15,_xlfn.XLOOKUP($C50&G$14,'Gas Useage'!$C$2:$AB$2&'Gas Useage'!$C$3:$AB$3,'Gas Useage'!$C$4:$AB$15))/_xlfn.XLOOKUP($B50&G$15,'Gas Useage'!$A$4:$A$15&'Gas Useage'!$B$4:$B$15,_xlfn.XLOOKUP(G$14,'Gas Useage'!$AA$3:$AB$3,'Gas Useage'!$AA$4:$AB$15))} -> 2.3556435e-06 | H50: =IFERROR(SUM(D27:D50)/2,"--") -> 0.28492792 | I50: =IFERROR(SUM(E27:E50)/2,"--") -> 0.036928181 | J50: =IFERROR(SUM(F27:F50)/2,"--") -> 0.27209339 | K50: =IFERROR(SUM(G27:G50)/2,"--") -> 0.033488229
B51: 2022 | C51: December | D51: {=_xlfn.XLOOKUP(D$13,INDIRECT("'"&$B51&" EI'!$B$6:$B$53"),_xlfn.XLOOKUP($C$10,INDIRECT("'"&$B51&" EI'!$D$4:$Z$4"),INDIRECT("'"&$B51&" EI'!$D$6:$Z$53")))*_xlfn.XLOOKUP($B51&D$15,'Gas Useage'!$A$4:$A$15&'Gas Useage'!$B$4:$B$15,_xlfn.XLOOKUP($C51&D$14,'Gas Useage'!$C$2:$AB$2&'Gas Useage'!$C$3:$AB$3,'Gas Useage'!$C$4:$AB$15))/_xlfn.XLOOKUP($B51&D$15,'Gas Useage'!$A$4:$A$15&'Gas Useage'!$B$4:$B$15,_xlfn.XLOOKUP(D$14,'Gas Useage'!$AA$3:$AB$3,'Gas Useage'!$AA$4:$AB$15))} -> 5.1245693e-06 | E51: {=_xlfn.XLOOKUP(E$13,INDIRECT("'"&$B51&" EI'!$B$6:$B$53"),_xlfn.XLOOKUP($C$10,INDIRECT("'"&$B51&" EI'!$D$4:$Z$4"),INDIRECT("'"&$B51&" EI'!$D$6:$Z$53")))*_xlfn.XLOOKUP($B51&E$15,'Gas Useage'!$A$4:$A$15&'Gas Useage'!$B$4:$B$15,_xlfn.XLOOKUP($C51&E$14,'Gas Useage'!$C$2:$AB$2&'Gas Useage'!$C$3:$AB$3,'Gas Useage'!$C$4:$AB$15))/_xlfn.XLOOKUP($B51&E$15,'Gas Useage'!$A$4:$A$15&'Gas Useage'!$B$4:$B$15,_xlfn.XLOOKUP(E$14,'Gas Useage'!$AA$3:$AB$3,'Gas Useage'!$AA$4:$AB$15))} -> 1.0222057e-06 | F51: {=_xlfn.XLOOKUP(F$13,INDIRECT("'"&$B51&" EI'!$B$6:$B$53"),_xlfn.XLOOKUP($C$10,INDIRECT("'"&$B51&" EI'!$D$4:$Z$4"),INDIRECT("'"&$B51&" EI'!$D$6:$Z$53")))*_xlfn.XLOOKUP($B51&F$15,'Gas Useage'!$A$4:$A$15&'Gas Useage'!$B$4:$B$15,_xlfn.XLOOKUP($C51&F$14,'Gas Useage'!$C$2:$AB$2&'Gas Useage'!$C$3:$AB$3,'Gas Useage'!$C$4:$AB$15))/_xlfn.XLOOKUP($B51&F$15,'Gas Useage'!$A$4:$A$15&'Gas Useage'!$B$4:$B$15,_xlfn.XLOOKUP(F$14,'Gas Useage'!$AA$3:$AB$3,'Gas Useage'!$AA$4:$AB$15))} -> 3.7089626e-06 | G51: {=_xlfn.XLOOKUP(G$13,INDIRECT("'"&$B51&" EI'!$B$6:$B$53"),_xlfn.XLOOKUP($C$10,INDIRECT("'"&$B51&" EI'!$D$4:$Z$4"),INDIRECT("'"&$B51&" EI'!$D$6:$Z$53")))*_xlfn.XLOOKUP($B51&G$15,'Gas Useage'!$A$4:$A$15&'Gas Useage'!$B$4:$B$15,_xlfn.XLOOKUP($C51&G$14,'Gas Useage'!$C$2:$AB$2&'Gas Useage'!$C$3:$AB$3,'Gas Useage'!$C$4:$AB$15))/_xlfn.XLOOKUP($B51&G$15,'Gas Useage'!$A$4:$A$15&'Gas Useage'!$B$4:$B$15,_xlfn.XLOOKUP(G$14,'Gas Useage'!$AA$3:$AB$3,'Gas Useage'!$AA$4:$AB$15))} -> 7.3983245e-07 | H51: =IFERROR(SUM(D28:D51)/2,"--") -> 0.27146492 | I51: =IFERROR(SUM(E28:E51)/2,"--") -> 0.034469586 | J51: =IFERROR(SUM(F28:F51)/2,"--") -> 0.2517123 | K51: =IFERROR(SUM(G28:G51)/2,"--") -> 0.029766228

Sheet NOx Simple
B4: Company Name: | C4: U. S. Steel
B5: Facility Name: | C5: Irvin Plant
B6: Project Description: | C6: Irvin Permitting
B10: Pollutant: | C10: NOx
D12: Monthly Emissions (tons) | H12: 2-Year Average of Emissions (tons)
B13: Year | C13: Month | D13: Boiler #3 - COG | E13: Boiler #3 - NG | F13: Boiler #4 - COG | G13: Boiler #4 - NG | H13: Boiler #3 - COG | I13: Boiler #3 - NG | J13: Boiler #4 - COG | K13: Boiler #4 - NG
D14: COG (MCF) | E14: NAT GAS (MCF) | F14: COG (MCF) | G14: NAT GAS (MCF)
D15: #3 Boiler | E15: #3 Boiler | F15: #4 Boiler | G15: #4 Boiler
B16: 2020 | C16: January | D16: {=_xlfn.XLOOKUP(D$13,INDIRECT("'"&$B16&" EI'!$B$6:$B$53"),_xlfn.XLOOKUP($C$10,INDIRECT("'"&$B16&" EI'!$D$4:$Z$4"),INDIRECT("'"&$B16&" EI'!$D$6:$Z$53")))*_xlfn.XLOOKUP($B16&D$15,'Gas Useage'!$A$4:$A$15&'Gas Useage'!$B$4:$B$15,_xlfn.XLOOKUP($C16&D$14,'Gas Useage'!$C$2:$AB$2&'Gas Useage'!$C$3:$AB$3,'Gas Useage'!$C$4:$AB$15))/_xlfn.XLOOKUP($B16&D$15,'Gas Useage'!$A$4:$A$15&'Gas Useage'!$B$4:$B$15,_xlfn.XLOOKUP(D$14,'Gas Useage'!$AA$3:$AB$3,'Gas Useage'!$AA$4:$AB$15))} -> 0.57936476 | E16: {=_xlfn.XLOOKUP(E$13,INDIRECT("'"&$B16&" EI'!$B$6:$B$53"),_xlfn.XLOOKUP($C$10,INDIRECT("'"&$B16&" EI'!$D$4:$Z$4"),INDIRECT("'"&$B16&" EI'!$D$6:$Z$53")))*_xlfn.XLOOKUP($B16&E$15,'Gas Useage'!$A$4:$A$15&'Gas Useage'!$B$4:$B$15,_xlfn.XLOOKUP($C16&E$14,'Gas Useage'!$C$2:$AB$2&'Gas Useage'!$C$3:$AB$3,'Gas Useage'!$C$4:$AB$15))/_xlfn.XLOOKUP($B16&E$15,'Gas Useage'!$A$4:$A$15&'Gas Useage'!$B$4:$B$15,_xlfn.XLOOKUP(E$14,'Gas Useage'!$AA$3:$AB$3,'Gas Useage'!$AA$4:$AB$15))} -> 0.051818765 | F16: {=_xlfn.XLOOKUP(F$13,INDIRECT("'"&$B16&" EI'!$B$6:$B$53"),_xlfn.XLOOKUP($C$10,INDIRECT("'"&$B16&" EI'!$D$4:$Z$4"),INDIRECT("'"&$B16&" EI'!$D$6:$Z$53")))*_xlfn.XLOOKUP($B16&F$15,'Gas Useage'!$A$4:$A$15&'Gas Useage'!$B$4:$B$15,_xlfn.XLOOKUP($C16&F$14,'Gas Useage'!$C$2:$AB$2&'Gas Useage'!$C$3:$AB$3,'Gas Useage'!$C$4:$AB$15))/_xlfn.XLOOKUP($B16&F$15,'Gas Useage'!$A$4:$A$15&'Gas Useage'!$B$4:$B$15,_xlfn.XLOOKUP(F$14,'Gas Useage'!$AA$3:$AB$3,'Gas Useage'!$AA$4:$AB$15))} -> 0.7584734 | G16: {=_xlfn.XLOOKUP(G$13,INDIRECT("'"&$B16&" EI'!$B$6:$B$53"),_xlfn.XLOOKUP($C$10,INDIRECT("'"&$B16&" EI'!$D$4:$Z$4"),INDIRECT("'"&$B16&" EI'!$D$6:$Z$53")))*_xlfn.XLOOKUP($B16&G$15,'Gas Useage'!$A$4:$A$15&'Gas Useage'!$B$4:$B$15,_xlfn.XLOOKUP($C16&G$14,'Gas Useage'!$C$2:$AB$2&'Gas Useage'!$C$3:$AB$3,'Gas Useage'!$C$4:$AB$15))/_xlfn.XLOOKUP($B16&G$15,'Gas Useage'!$A$4:$A$15&'Gas Useage'!$B$4:$B$15,_xlfn.XLOOKUP(G$14,'Gas Useage'!$AA$3:$AB$3,'Gas Useage'!$AA$4:$AB$15))} -> 0.067838359 | H16: -- | I16: -- | J16: -- | K16: --
B17: 2020 | C17: February | D17: {=_xlfn.XLOOKUP(D$13,INDIRECT("'"&$B17&" EI'!$B$6:$B$53"),_xlfn.XLOOKUP($C$10,INDIRECT("'"&$B17&" EI'!$D$4:$Z$4"),INDIRECT("'"&$B17&" EI'!$D$6:$Z$53")))*_xlfn.XLOOKUP($B17&D$15,'Gas Useage'!$A$4:$A$15&'Gas Useage'!$B$4:$B$15,_xlfn.XLOOKUP($C17&D$14,'Gas Useage'!$C$2:$AB$2&'Gas Useage'!$C$3:$AB$3,'Gas Useage'!$C$4:$AB$15))/_xlfn.XLOOKUP($B17&D$15,'Gas Useage'!$A$4:$A$15&'Gas Useage'!$B$4:$B$15,_xlfn.XLOOKUP(D$14,'Gas Useage'!$AA$3:$AB$3,'Gas Useage'!$AA$4:$AB$15))} -> 0.96046456 | E17: {=_xlfn.XLOOKUP(E$13,INDIRECT("'"&$B17&" EI'!$B$6:$B$53"),_xlfn.XLOOKUP($C$10,INDIRECT("'"&$B17&" EI'!$D$4:$Z$4"),INDIRECT("'"&$B17&" EI'!$D$6:$Z$53")))*_xlfn.XLOOKUP($B17&E$15,'Gas Useage'!$A$4:$A$15&'Gas Useage'!$B$4:$B$15,_xlfn.XLOOKUP($C17&E$14,'Gas Useage'!$C$2:$AB$2&'Gas Useage'!$C$3:$AB$3,'Gas Useage'!$C$4:$AB$15))/_xlfn.XLOOKUP($B17&E$15,'Gas Useage'!$A$4:$A$15&'Gas Useage'!$B$4:$B$15,_xlfn.XLOOKUP(E$14,'Gas Useage'!$AA$3:$AB$3,'Gas Useage'!$AA$4:$AB$15))} -> 0.10753465 | F17: {=_xlfn.XLOOKUP(F$13,INDIRECT("'"&$B17&" EI'!$B$6:$B$53"),_xlfn.XLOOKUP($C$10,INDIRECT("'"&$B17&" EI'!$D$4:$Z$4"),INDIRECT("'"&$B17&" EI'!$D$6:$Z$53")))*_xlfn.XLOOKUP($B17&F$15,'Gas Useage'!$A$4:$A$15&'Gas Useage'!$B$4:$B$15,_xlfn.XLOOKUP($C17&F$14,'Gas Useage'!$C$2:$AB$2&'Gas Useage'!$C$3:$AB$3,'Gas Useage'!$C$4:$AB$15))/_xlfn.XLOOKUP($B17&F$15,'Gas Useage'!$A$4:$A$15&'Gas Useage'!$B$4:$B$15,_xlfn.XLOOKUP(F$14,'Gas Useage'!$AA$3:$AB$3,'Gas Useage'!$AA$4:$AB$15))} -> 0.78335357 | G17: {=_xlfn.XLOOKUP(G$13,INDIRECT("'"&$B17&" EI'!$B$6:$B$53"),_xlfn.XLOOKUP($C$10,INDIRECT("'"&$B17&" EI'!$D$4:$Z$4"),INDIRECT("'"&$B17&" EI'!$D$6:$Z$53")))*_xlfn.XLOOKUP($B17&G$15,'Gas Useage'!$A$4:$A$15&'Gas Useage'!$B$4:$B$15,_xlfn.XLOOKUP($C17&G$14,'Gas Useage'!$C$2:$AB$2&'Gas Useage'!$C$3:$AB$3,'Gas Useage'!$C$4:$AB$15))/_xlfn.XLOOKUP($B17&G$15,'Gas Useage'!$A$4:$A$15&'Gas Useage'!$B$4:$B$15,_xlfn.XLOOKUP(G$14,'Gas Useage'!$AA$3:$AB$3,'Gas Useage'!$AA$4:$AB$15))} -> 0.087705112 | H17: -- | I17: -- | J17: -- | K17: --
B18: 2020 | C18: March | D18: {=_xlfn.XLOOKUP(D$13,INDIRECT("'"&$B18&" EI'!$B$6:$B$53"),_xlfn.XLOOKUP($C$10,INDIRECT("'"&$B18&" EI'!$D$4:$Z$4"),INDIRECT("'"&$B18&" EI'!$D$6:$Z$53")))*_xlfn.XLOOKUP($B18&D$15,'Gas Useage'!$A$4:$A$15&'Gas Useage'!$B$4:$B$15,_xlfn.XLOOKUP($C18&D$14,'Gas Useage'!$C$2:$AB$2&'Gas Useage'!$C$3:$AB$3,'Gas Useage'!$C$4:$AB$15))/_xlfn.XLOOKUP($B18&D$15,'Gas Useage'!$A$4:$A$15&'Gas Useage'!$B$4:$B$15,_xlfn.XLOOKUP(D$14,'Gas Useage'!$AA$3:$AB$3,'Gas Useage'!$AA$4:$AB$15))} -> 0.9803391 | E18: {=_xlfn.XLOOKUP(E$13,INDIRECT("'"&$B18&" EI'!$B$6:$B$53"),_xlfn.XLOOKUP($C$10,INDIRECT("'"&$B18&" EI'!$D$4:$Z$4"),INDIRECT("'"&$B18&" EI'!$D$6:$Z$53")))*_xlfn.XLOOKUP($B18&E$15,'Gas Useage'!$A$4:$A$15&'Gas Useage'!$B$4:$B$15,_xlfn.XLOOKUP($C18&E$14,'Gas Useage'!$C$2:$AB$2&'Gas Useage'!$C$3:$AB$3,'Gas Useage'!$C$4:$AB$15))/_xlfn.XLOOKUP($B18&E$15,'Gas Useage'!$A$4:$A$15&'Gas Useage'!$B$4:$B$15,_xlfn.XLOOKUP(E$14,'Gas Useage'!$AA$3:$AB$3,'Gas Useage'!$AA$4:$AB$15))} -> 0.11463728 | F18: {=_xlfn.XLOOKUP(F$13,INDIRECT("'"&$B18&" EI'!$B$6:$B$53"),_xlfn.XLOOKUP($C$10,INDIRECT("'"&$B18&" EI'!$D$4:$Z$4"),INDIRECT("'"&$B18&" EI'!$D$6:$Z$53")))*_xlfn.XLOOKUP($B18&F$15,'Gas Useage'!$A$4:$A$15&'Gas Useage'!$B$4:$B$15,_xlfn.XLOOKUP($C18&F$14,'Gas Useage'!$C$2:$AB$2&'Gas Useage'!$C$3:$AB$3,'Gas Useage'!$C$4:$AB$15))/_xlfn.XLOOKUP($B18&F$15,'Gas Useage'!$A$4:$A$15&'Gas Useage'!$B$4:$B$15,_xlfn.XLOOKUP(F$14,'Gas Useage'!$AA$3:$AB$3,'Gas Useage'!$AA$4:$AB$15))} -> 0.60937654 | G18: {=_xlfn.XLOOKUP(G$13,INDIRECT("'"&$B18&" EI'!$B$6:$B$53"),_xlfn.XLOOKUP($C$10,INDIRECT("'"&$B18&" EI'!$D$4:$Z$4"),INDIRECT("'"&$B18&" EI'!$D$6:$Z$53")))*_xlfn.XLOOKUP($B18&G$15,'Gas Useage'!$A$4:$A$15&'Gas Useage'!$B$4:$B$15,_xlfn.XLOOKUP($C18&G$14,'Gas Useage'!$C$2:$AB$2&'Gas Useage'!$C$3:$AB$3,'Gas Useage'!$C$4:$AB$15))/_xlfn.XLOOKUP($B18&G$15,'Gas Useage'!$A$4:$A$15&'Gas Useage'!$B$4:$B$15,_xlfn.XLOOKUP(G$14,'Gas Useage'!$AA$3:$AB$3,'Gas Useage'!$AA$4:$AB$15))} -> 0.071258268 | H18: -- | I18: -- | J18: -- | K18: --
B19: 2020 | C19: April | D19: {=_xlfn.XLOOKUP(D$13,INDIRECT("'"&$B19&" EI'!$B$6:$B$53"),_xlfn.XLOOKUP($C$10,INDIRECT("'"&$B19&" EI'!$D$4:$Z$4"),INDIRECT("'"&$B19&" EI'!$D$6:$Z$53")))*_xlfn.XLOOKUP($B19&D$15,'Gas Useage'!$A$4:$A$15&'Gas Useage'!$B$4:$B$15,_xlfn.XLOOKUP($C19&D$14,'Gas Useage'!$C$2:$AB$2&'Gas Useage'!$C$3:$AB$3,'Gas Useage'!$C$4:$AB$15))/_xlfn.XLOOKUP($B19&D$15,'Gas Useage'!$A$4:$A$15&'Gas Useage'!$B$4:$B$15,_xlfn.XLOOKUP(D$14,'Gas Useage'!$AA$3:$AB$3,'Gas Useage'!$AA$4:$AB$15))} -> 0.37987986 | E19: {=_xlfn.XLOOKUP(E$13,INDIRECT("'"&$B19&" EI'!$B$6:$B$53"),_xlfn.XLOOKUP($C$10,INDIRECT("'"&$B19&" EI'!$D$4:$Z$4"),INDIRECT("'"&$B19&" EI'!$D$6:$Z$53")))*_xlfn.XLOOKUP($B19&E$15,'Gas Useage'!$A$4:$A$15&'Gas Useage'!$B$4:$B$15,_xlfn.XLOOKUP($C19&E$14,'Gas Useage'!$C$2:$AB$2&'Gas Useage'!$C$3:$AB$3,'Gas Useage'!$C$4:$AB$15))/_xlfn.XLOOKUP($B19&E$15,'Gas Useage'!$A$4:$A$15&'Gas Useage'!$B$4:$B$15,_xlfn.XLOOKUP(E$14,'Gas Useage'!$AA$3:$AB$3,'Gas Useage'!$AA$4:$AB$15))} -> 0.045459513 | F19: {=_xlfn.XLOOKUP(F$13,INDIRECT("'"&$B19&" EI'!$B$6:$B$53"),_xlfn.XLOOKUP($C$10,INDIRECT("'"&$B19&" EI'!$D$4:$Z$4"),INDIRECT("'"&$B19&" EI'!$D$6:$Z$53")))*_xlfn.XLOOKUP($B19&F$15,'Gas Useage'!$A$4:$A$15&'Gas Useage'!$B$4:$B$15,_xlfn.XLOOKUP($C19&F$14,'Gas Useage'!$C$2:$AB$2&'Gas Useage'!$C$3:$AB$3,'Gas Useage'!$C$4:$AB$15))/_xlfn.XLOOKUP($B19&F$15,'Gas Useage'!$A$4:$A$15&'Gas Useage'!$B$4:$B$15,_xlfn.XLOOKUP(F$14,'Gas Useage'!$AA$3:$AB$3,'Gas Useage'!$AA$4:$AB$15))} -> 0.38114909 | G19: {=_xlfn.XLOOKUP(G$13,INDIRECT("'"&$B19&" EI'!$B$6:$B$53"),_xlfn.XLOOKUP($C$10,INDIRECT("'"&$B19&" EI'!$D$4:$Z$4"),INDIRECT("'"&$B19&" EI'!$D$6:$Z$53")))*_xlfn.XLOOKUP($B19&G$15,'Gas Useage'!$A$4:$A$15&'Gas Useage'!$B$4:$B$15,_xlfn.XLOOKUP($C19&G$14,'Gas Useage'!$C$2:$AB$2&'Gas Useage'!$C$3:$AB$3,'Gas Useage'!$C$4:$AB$15))/_xlfn.XLOOKUP($B19&G$15,'Gas Useage'!$A$4:$A$15&'Gas Useage'!$B$4:$B$15,_xlfn.XLOOKUP(G$14,'Gas Useage'!$AA$3:$AB$3,'Gas Useage'!$AA$4:$AB$15))} -> 0.045611399 | H19: -- | I19: -- | J19: -- | K19: --
B20: 2020 | C20: May | D20: {=_xlfn.XLOOKUP(D$13,INDIRECT("'"&$B20&" EI'!$B$6:$B$53"),_xlfn.XLOOKUP($C$10,INDIRECT("'"&$B20&" EI'!$D$4:$Z$4"),INDIRECT("'"&$B20&" EI'!$D$6:$Z$53")))*_xlfn.XLOOKUP($B20&D$15,'Gas Useage'!$A$4:$A$15&'Gas Useage'!$B$4:$B$15,_xlfn.XLOOKUP($C20&D$14,'Gas Useage'!$C$2:$AB$2&'Gas Useage'!$C$3:$AB$3,'Gas Useage'!$C$4:$AB$15))/_xlfn.XLOOKUP($B20&D$15,'Gas Useage'!$A$4:$A$15&'Gas Useage'!$B$4:$B$15,_xlfn.XLOOKUP(D$14,'Gas Useage'!$AA$3:$AB$3,'Gas Useage'!$AA$4:$AB$15))} -> 0.02380994 | E20: {=_xlfn.XLOOKUP(E$13,INDIRECT("'"&$B20&" EI'!$B$6:$B$53"),_xlfn.XLOOKUP($C$10,INDIRECT("'"&$B20&" EI'!$D$4:$Z$4"),INDIRECT("'"&$B20&" EI'!$D$6:$Z$53")))*_xlfn.XLOOKUP($B20&E$15,'Gas Useage'!$A$4:$A$15&'Gas Useage'!$B$4:$B$15,_xlfn.XLOOKUP($C20&E$14,'Gas Useage'!$C$2:$AB$2&'Gas Useage'!$C$3:$AB$3,'Gas Useage'!$C$4:$AB$15))/_xlfn.XLOOKUP($B20&E$15,'Gas Useage'!$A$4:$A$15&'Gas Useage'!$B$4:$B$15,_xlfn.XLOOKUP(E$14,'Gas Useage'!$AA$3:$AB$3,'Gas Useage'!$AA$4:$AB$15))} -> 0.0016604997 | F20: {=_xlfn.XLOOKUP(F$13,INDIRECT("'"&$B20&" EI'!$B$6:$B$53"),_xlfn.XLOOKUP($C$10,INDIRECT("'"&$B20&" EI'!$D$4:$Z$4"),INDIRECT("'"&$B20&" EI'!$D$6:$Z$53")))*_xlfn.XLOOKUP($B20&F$15,'Gas Useage'!$A$4:$A$15&'Gas Useage'!$B$4:$B$15,_xlfn.XLOOKUP($C20&F$14,'Gas Useage'!$C$2:$AB$2&'Gas Useage'!$C$3:$AB$3,'Gas Useage'!$C$4:$AB$15))/_xlfn.XLOOKUP($B20&F$15,'Gas Useage'!$A$4:$A$15&'Gas Useage'!$B$4:$B$15,_xlfn.XLOOKUP(F$14,'Gas Useage'!$AA$3:$AB$3,'Gas Useage'!$AA$4:$AB$15))} -> 1.1502134e-05 | G20: {=_xlfn.XLOOKUP(G$13,INDIRECT("'"&$B20&" EI'!$B$6:$B$53"),_xlfn.XLOOKUP($C$10,INDIRECT("'"&$B20&" EI'!$D$4:$Z$4"),INDIRECT("'"&$B20&" EI'!$D$6:$Z$53")))*_xlfn.XLOOKUP($B20&G$15,'Gas Useage'!$A$4:$A$15&'Gas Useage'!$B$4:$B$15,_xlfn.XLOOKUP($C20&G$14,'Gas Useage'!$C$2:$AB$2&'Gas Useage'!$C$3:$AB$3,'Gas Useage'!$C$4:$AB$15))/_xlfn.XLOOKUP($B20&G$15,'Gas Useage'!$A$4:$A$15&'Gas Useage'!$B$4:$B$15,_xlfn.XLOOKUP(G$14,'Gas Useage'!$AA$3:$AB$3,'Gas Useage'!$AA$4:$AB$15))} -> 8.0215616e-07 | H20: -- | I20: -- | J20: -- | K20: --
